BEGIN:VCALENDAR
VERSION:2.0
PRODID:-//jEvents 2.0 for Joomla//EN
CALSCALE:GREGORIAN
METHOD:PUBLISH
BEGIN:VEVENT
UID:a7641238aaf4f7570c406c0442fe26bb
CATEGORIES:18. Bezirk
CREATED:19700101T010000
SUMMARY:Spielgruppe mit Musik für Babys 
LOCATION:Spielringel\, Mollgasse 11-13
DESCRIPTION:Spielgruppe mit Musik für Babys Dienstag für Babys (6-14 Monate)Start:  27.
 08.2024\nMit: Susanne (https://spielringel.at/angebote/das-team/susanne)\nK
 urstag:  Dienstag 14:00-14:45\nTermine:  27.08., 10.09., 17.09., 24.09., 01
 .10.\nKosten:  €90,- (5-Wochen Kurs)\n„Musikalität ist vor allem die Fähigk
 eit von Musik berührt zu werden."\nEs wird dem Alter und der Entwicklung de
 r Babys entsprechend, gespielt, gesungen, getanzt und musiziert. Musik förd
 ert die Entwicklung von Babys: Sie ist gut für die Bewegungskoordination, d
 ie Sprachentwicklung, den Gleichgewichtssinn und die Bindung zur Bezugspers
 on. Das beste daran ist, dass es einfach Freude macht!\n  \n \n
X-ALT-DESC;FMTTYPE=text/html:<header class="frame-header"><h2 class="element-header">Spielgruppe mit Mus
 ik für Babys Dienstag </h2><h4>für Babys (6-14 Monate)</h4><p><span class="
 text-primary font-weight-bold">Start: </span> 27.08.2024</p><p><span class=
 "text-primary font-weight-bold">Mit: </span><a href="https://spielringel.at
 /angebote/das-team/susanne">Susanne</a></p><p><span class="text-primary fon
 t-weight-bold">Kurstag: </span> Dienstag 14:00-14:45</p><p><span class="tex
 t-primary font-weight-bold">Termine: </span> 27.08., 10.09., 17.09., 24.09.
 , 01.10.</p><p><span class="text-primary font-weight-bold">Kosten: </span> 
 €90,- (5-Wochen Kurs)</p><p>„Musikalität ist vor allem die Fähigkeit von Mu
 sik berührt zu werden."</p><p>Es wird dem Alter und der Entwicklung der Bab
 ys entsprechend, gespielt, gesungen, getanzt und musiziert. Musik fördert d
 ie Entwicklung von Babys: Sie ist gut für die Bewegungskoordination, die Sp
 rachentwicklung, den Gleichgewichtssinn und die Bindung zur Bezugsperson. D
 as beste daran ist, dass es einfach Freude macht!</p><div id="c1112" class=
 "frame frame-default frame-type-form_formframework frame-layout-0 frame-bac
 kground-none frame-no-backgroundimage frame-space-before-none frame-space-a
 fter-none"><div class="frame-container"><div class="frame-inner"><div class
 ="form-container form-identifier-anmeldeformular-1112"><form enctype="multi
 part/form-data" method="post" novalidate="novalidate" id="anmeldeformular-1
 112"><div>&nbsp;</div><input autocomplete="GuhjyaiAN9lm1c" name="tx_form_fo
 rmframework[anmeldeformular-1112][GuhjyaiAN9lm1c]" type="text" id="anmeldef
 ormular-1112-GuhjyaiAN9lm1c" style="position: absolute; margin: 0 0 0 -999e
 m;" tabindex="-1" aria-hidden="true" /><div class="form-actions"><nav class
 ="form-navigation"><div class="btn-toolbar" role="toolbar"><div class="btn-
 group" role="group"><span class="btn-group next"></span></div></div></nav><
 /div></form></div></div></div></div><p>&nbsp;</p></header><p>&nbsp;</p>
CONTACT:www.spielringel.at
X-EXTRAINFO:[preis='9000'][anmeldung='true']
DTSTAMP:20260423T144200
DTSTART:20240827T120000
DTEND:20240827T124500
SEQUENCE:0
RRULE:FREQ=WEEKLY;UNTIL=20241003T000000Z;INTERVAL=1;BYDAY=TU
EXDATE:20240903T120000
TRANSP:OPAQUE
END:VEVENT
END:VCALENDAR