BEGIN:VCALENDAR
VERSION:2.0
PRODID:-//jEvents 2.0 for Joomla//EN
CALSCALE:GREGORIAN
METHOD:PUBLISH
BEGIN:VEVENT
UID:6c7365999a4c460add67691e9aecd37c
CATEGORIES:18. Bezirk
CREATED:19700101T010000
SUMMARY:Spielgruppe mit Musik für Babys Mittwoch 
LOCATION:Spielringel\, Mollgasse 11-13
DESCRIPTION:Spielgruppe mit Musik für Babys Mittwoch (6-14 Monate) Start:  28.08.2024\n
 Mit: Susanne (https://spielringel.at/angebote/das-team/susanne)\nKurstag:  
 Mittwoch 14:00-14:45\nTermine:  28.08., 11.09., 18.09., 25.9., 02.10.\nKost
 en:  €90,-(5 Einheiten)\n„Musikalität ist vor allem die Fähigkeit von Musik
  berührt zu werden."\nEs wird dem Alter und der Entwicklung der Babys entsp
 rechend, gespielt, gesungen, getanzt und musiziert. Musik fördert die Entwi
 cklung von Babys: Sie ist gut für die Bewegungskoordination, die Sprachentw
 icklung, den Gleichgewichtssinn und die Bindung zur Bezugsperson. Das beste
  daran ist, dass es einfach Freude macht!\n  \n
X-ALT-DESC;FMTTYPE=text/html:<div class="frame frame-default frame-type-textpic frame-layout-0 frame-bac
 kground-none frame-no-backgroundimage frame-space-before-none frame-space-a
 fter-none"><header class="frame-header"><h2 class="element-header">Spielgru
 ppe mit Musik für Babys Mittwoch </h2><h4>(6-14 Monate)</h4></header><div c
 lass="frame-container"><div class="frame-inner"><div class="textpic textpic
 -right"><div class="textpic-item textpic-gallery"><div class="gallery-row">
 <div class="gallery-item gallery-item-size-1">&nbsp;</div></div></div><div 
 class="textpic-item textpic-text"><p><span class="text-primary font-weight-
 bold">Start: </span> 28.08.2024</p><p><span class="text-primary font-weight
 -bold">Mit: </span><a href="https://spielringel.at/angebote/das-team/susann
 e">Susanne</a></p><p><span class="text-primary font-weight-bold">Kurstag: <
 /span> Mittwoch 14:00-14:45</p><p><span class="text-primary font-weight-bol
 d">Termine: </span> 28.08., 11.09., 18.09., 25.9., 02.10.</p><p><span class
 ="text-primary font-weight-bold">Kosten: </span> €90,-(5 Einheiten)</p><p>„
 Musikalität ist vor allem die Fähigkeit von Musik berührt zu werden."</p><p
 >Es wird dem Alter und der Entwicklung der Babys entsprechend, gespielt, ge
 sungen, getanzt und musiziert. Musik fördert die Entwicklung von Babys: Sie
  ist gut für die Bewegungskoordination, die Sprachentwicklung, den Gleichge
 wichtssinn und die Bindung zur Bezugsperson. Das beste daran ist, dass es e
 infach Freude macht!</p></div></div></div></div></div><div id="c1137" class
 ="frame frame-default frame-type-form_formframework frame-layout-0 frame-ba
 ckground-none frame-no-backgroundimage frame-space-before-none frame-space-
 after-none"><div class="frame-container"><div class="frame-inner"><div clas
 s="form-container form-identifier-anmeldeformular-1137"><form enctype="mult
 ipart/form-data" method="post" novalidate="novalidate" id="anmeldeformular-
 1137"><div>&nbsp;</div><input autocomplete="ArD0vSknqP5wYdZMpzU36s" name="t
 x_form_formframework[anmeldeformular-1137][ArD0vSknqP5wYdZMpzU36s]" type="t
 ext" id="anmeldeformular-1137-ArD0vSknqP5wYdZMpzU36s" style="position: abso
 lute; margin: 0 0 0 -999em;" tabindex="-1" aria-hidden="true" /><div class=
 "form-actions"><nav class="form-navigation"><div class="btn-toolbar" role="
 toolbar"><div class="btn-group" role="group"><span class="btn-group next"><
 /span></div></div></nav></div></form></div></div></div></div><p>&nbsp;</p>
CONTACT:www.spielringel.at
X-EXTRAINFO:[preis='9000'][anmeldung='true']
DTSTAMP:20260423T125056
DTSTART:20240828T120000
DTEND:20240828T124500
SEQUENCE:0
RRULE:FREQ=WEEKLY;UNTIL=20241004T000000Z;INTERVAL=1;BYDAY=WE
EXDATE:20240904T120000
TRANSP:OPAQUE
END:VEVENT
END:VCALENDAR