BEGIN:VCALENDAR
VERSION:2.0
PRODID:-//jEvents 2.0 for Joomla//EN
CALSCALE:GREGORIAN
METHOD:PUBLISH
BEGIN:VEVENT
UID:82b396c1679c6c03e610f26fb7490788
CATEGORIES:18. Bezirk
CREATED:19700101T010000
SUMMARY:Sinnesspielgruppe für Kleinstkinder
LOCATION:Spielringel\, Mollgasse 11-13
DESCRIPTION:Sinnesspielgruppe für Kleinstkinder von ca. 10 Monaten bis 2 Jahre Start:  
 05.09.2024\nMit: Claudia (https://spielringel.at/angebote/das-team/claudia)
 \nKurstag:  Donnerstag 09:30-10:30\nTermine:  05.09., 12.09., 19.09., 26.09
 ., 03.10.\nKosten:  €95,- (5-Wochen Kurs)\nIn unserer Sinnesspielgruppe ent
 decken die Kinder spielend viel Neues und lernen dabei auch noch neue Freun
 de kennen. Die Sinne der Kinder werden mit Hilfe verschiedener Materialien 
 spielerisch angeregt, es wird experimentiert und auch gebastelt. Achtsamkei
 t, Wahrnehmungsförderung und Sinnesschulung stehen im Vordergrund! .\nGenie
 ßt die Zeit beim gemeinsamen Spielen und Entdecken mit euren Kindern!\n \n
X-ALT-DESC;FMTTYPE=text/html:<div class="frame frame-default frame-type-textpic frame-layout-0 frame-bac
 kground-none frame-no-backgroundimage frame-space-before-none frame-space-a
 fter-none"><header class="frame-header"><h2 class="element-header">Sinnessp
 ielgruppe für Kleinstkinder </h2><h4>von ca. 10 Monaten bis 2 Jahre</h4></h
 eader><div class="frame-container"><div class="frame-inner"><div class="tex
 tpic textpic-right"><div class="textpic-item textpic-gallery"><div class="g
 allery-row"><div class="gallery-item gallery-item-size-1">&nbsp;</div></div
 ></div><div class="textpic-item textpic-text"><p><span class="text-primary 
 font-weight-bold">Start: </span> 05.09.2024</p><p><span class="text-primary
  font-weight-bold">Mit: </span><a href="https://spielringel.at/angebote/das
 -team/claudia">Claudia</a></p><p><span class="text-primary font-weight-bold
 ">Kurstag: </span> Donnerstag 09:30-10:30</p><p><span class="text-primary f
 ont-weight-bold">Termine: </span> 05.09., 12.09., 19.09., 26.09., 03.10.</p
 ><p><span class="text-primary font-weight-bold">Kosten: </span> €95,- (5-Wo
 chen Kurs)</p><p>In unserer Sinnesspielgruppe entdecken die Kinder spielend
  viel Neues und lernen dabei auch noch neue Freunde kennen. Die Sinne der K
 inder werden mit Hilfe verschiedener Materialien spielerisch angeregt, es w
 ird experimentiert und auch gebastelt. Achtsamkeit, Wahrnehmungsförderung u
 nd Sinnesschulung stehen im Vordergrund! .</p><p>Genießt die Zeit beim geme
 insamen Spielen und Entdecken mit euren Kindern!</p></div></div></div></div
 ></div><p>&nbsp;</p>
CONTACT:www.spielringel.at
X-EXTRAINFO:[preis='9500'][anmeldung='true']
DTSTAMP:20260423T144205
DTSTART:20240905T073000
DTEND:20240905T083000
SEQUENCE:0
RRULE:FREQ=WEEKLY;UNTIL=20241005T000000Z;INTERVAL=1;BYDAY=TH
TRANSP:OPAQUE
END:VEVENT
END:VCALENDAR