BEGIN:VCALENDAR
VERSION:2.0
PRODID:-//jEvents 2.0 for Joomla//EN
CALSCALE:GREGORIAN
METHOD:PUBLISH
BEGIN:VEVENT
UID:a9a957f08c945114eb3dd71104b7e4b9
CATEGORIES:18. Bezirk
CREATED:20240822T145121
SUMMARY:Babyplausch am Freitag
LOCATION:Spielringel\, Mollgasse 11-13
DESCRIPTION:Babyplausch am FreitagAustauschgruppe für Mamas und Papas von Babys und Kle
 inkindern Mit: Claudia (https://spielringel.at/angebote/das-team/claudia)\n
 Kurstag:  Freitag 09:30-11:00\nKosten:  €16,- (pro erwachsener Person)\nAls
  Mama hat man oft das Bedürfnis sich mit anderen Mamas auszutauschen, das k
 önnt ihr ganz ungezwungen jetzt wieder (wie früher) am Freitag Vormittag im
  Spielringel bei Tee, Obst und Kuchen. Für die Babys und Kleinkinder gibt e
 s allerlei zu entdecken! Der Babyplausch findet ab 3 Anmeldungen statt!\nNä
 chste Termine:\nFreitag 23.08. 09:30-11:00\nFreitag 06.09. 09:30-11:00\nFre
 itag 13.09. 09:30-11:00\nFreitag 20.09. 09:30-11:00\nFreitag 27.09. 09:30-1
 1:00\nFreitag 04.10. 09:30-11:00\nFreitag 11.10. 09:30-11:00\nFreitag 18.10
 . 09:30-11:00\nFreitag 25.10. 09:30-11:00\n \n \n
X-ALT-DESC;FMTTYPE=text/html:<header class="frame-header"><h2 class="element-header">Babyplausch am Frei
 tag</h2><h4>Austauschgruppe für Mamas und Papas von Babys und Kleinkindern<
 /h4></header><div class="textpic-item textpic-gallery"><div class="gallery-
 row"><div class="gallery-item gallery-item-size-1">&nbsp;</div></div></div>
 <p><span class="text-primary font-weight-bold">Mit: </span><a href="https:/
 /spielringel.at/angebote/das-team/claudia">Claudia</a></p><p><span class="t
 ext-primary font-weight-bold">Kurstag: </span> Freitag 09:30-11:00</p><p><s
 pan class="text-primary font-weight-bold">Kosten: </span> €16,- (pro erwach
 sener Person)</p><p>Als Mama hat man oft das Bedürfnis sich mit anderen Mam
 as auszutauschen, das könnt ihr ganz ungezwungen jetzt wieder (wie früher) 
 am Freitag Vormittag im Spielringel bei Tee, Obst und Kuchen. Für die Babys
  und Kleinkinder gibt es allerlei zu entdecken! Der Babyplausch findet ab 3
  Anmeldungen statt!</p><p><strong>Nächste Termine:</strong></p><p><strong>F
 reitag 23.08. 09:30-11:00</strong></p><p><strong>Freitag 06.09. 09:30-11:00
 </strong></p><p><strong>Freitag 13.09. 09:30-11:00</strong></p><p><strong>F
 reitag 20.09. 09:30-11:00</strong></p><p><strong>Freitag 27.09. 09:30-11:00
 </strong></p><p><strong>Freitag 04.10. 09:30-11:00</strong></p><p><strong>F
 reitag 11.10. 09:30-11:00</strong></p><p><strong>Freitag 18.10. 09:30-11:00
 </strong></p><p><strong>Freitag 25.10. 09:30-11:00</strong></p><p>&nbsp;</p
 ><p>&nbsp;</p>
CONTACT:www.spielringel.at
X-EXTRAINFO:[preis='1600'][anmeldung='true']
DTSTAMP:20260423T160127
DTSTART:20240823T073000
DTEND:20240823T090000
SEQUENCE:0
TRANSP:OPAQUE
END:VEVENT
END:VCALENDAR