BEGIN:VCALENDAR
VERSION:2.0
PRODID:-//jEvents 2.0 for Joomla//EN
CALSCALE:GREGORIAN
METHOD:PUBLISH
BEGIN:VEVENT
UID:6435106d7a703f0bf0ee97d9fed80f07
CATEGORIES:2. Bezirk
CREATED:19700101T010000
SUMMARY:Rhyme Time at Kaffeeamt
LOCATION:Kaffeeamt\, Schiffamtsgasse 8\, 1020 Wien
DESCRIPTION:Sing, read, dance, and play together to build early literacy skills that wi
 ll last a lifetime.Rhyme Time is a 45 minute English session for babies and
  toddlers up to age 4, with singing, picture books, dancing, and games to s
 upport language development.€20 for a single session, or €75 for a 5-week-b
 lock.I'm a native English speaker from New Zealand, with 20 years experienc
 e teaching Music and English.\n Email anna.bonkowski@gmail.com (mailto:anna
 .bonkowski@gmail.com) to register
X-ALT-DESC;FMTTYPE=text/html:<p><span style="color: #222222; font-family: Arial, Helvetica, sans-serif; 
 font-size: small;">Sing, read, dance, and play together to build early lite
 racy skills that will last a lifetime.</span><br style="color: #222222; fon
 t-family: Arial, Helvetica, sans-serif; font-size: small;" /><br style="col
 or: #222222; font-family: Arial, Helvetica, sans-serif; font-size: small;" 
 /><span style="color: #222222; font-family: Arial, Helvetica, sans-serif; f
 ont-size: small;">Rhyme Time is a 45 minute English session for babies and 
 toddlers up to age 4, with singing, picture books, dancing, and games to su
 pport language development.</span><br style="color: #222222; font-family: A
 rial, Helvetica, sans-serif; font-size: small;" /><br style="color: #222222
 ; font-family: Arial, Helvetica, sans-serif; font-size: small;" /><span sty
 le="color: #222222; font-family: Arial, Helvetica, sans-serif; font-size: s
 mall;">€20 for a single session, or €75 for a 5-week-block.</span><br style
 ="color: #222222; font-family: Arial, Helvetica, sans-serif; font-size: sma
 ll;" /><br style="color: #222222; font-family: Arial, Helvetica, sans-serif
 ; font-size: small;" /><span style="color: #222222; font-family: Arial, Hel
 vetica, sans-serif; font-size: small;">I'm a native English speaker from Ne
 w Zealand, with 20 years experience teaching Music and English.</span></p><
 div style="color: #222222; font-family: Arial, Helvetica, sans-serif; font-
 size: small;">&nbsp;</div><div style="color: #222222; font-family: Arial, H
 elvetica, sans-serif; font-size: small;">Email <a href="mailto:anna.bonkows
 ki@gmail.com">anna.bonkowski@gmail.com</a> to register</div>
CONTACT:anna.bonkowski@gmail.com
X-EXTRAINFO:[preis='2000'][anmeldung='true']
DTSTAMP:20260423T202519
DTSTART:20240919T133000
DTEND:20240919T141500
SEQUENCE:0
RRULE:FREQ=WEEKLY;UNTIL=20241018T000000Z;INTERVAL=1;BYDAY=TH
TRANSP:OPAQUE
END:VEVENT
END:VCALENDAR