BEGIN:VCALENDAR
VERSION:2.0
PRODID:-//jEvents 2.0 for Joomla//EN
CALSCALE:GREGORIAN
METHOD:PUBLISH
BEGIN:VEVENT
UID:06dd65261b42df1d60cce7d6fd0bdf1d
CATEGORIES:14. Bezirk
CREATED:19700101T010000
SUMMARY:Babymassage (6 Wochen bis Krabbelalter)
LOCATION:Paulis Partyraum\, Einwanggasse 23\, 1140 Wien
DESCRIPTION:WAS EUCH ERWARTET\nDie Babymassage ist eine liebevolle Praxis, bei der sanf
 te Berührungen und Massagegriffe gezielt auf die Bedürfnisse von Babys abge
 stimmt sind. Durch einfühlsame Berührung wird nicht nur die körperliche Ent
 wicklung gefördert, sondern auch eine tiefe emotionale Bindung zwischen Elt
 ern und ihrem Baby aufgebaut.\n \nDiese behutsame Art der Zuwendung kann di
 e Entspannung des Babys unterstützen, die Schlafqualität verbessern und zug
 leich eine wertvolle Zeit der Nähe und Zuneigung schaffen.\n \nECKDATEN\nTe
 rmine\n12.09., 19.09., 26.09.\n (Reservetermin: 03.10.)\n jeweils 09:00 - 1
 0:00 Uhr\n \nKosten\n75€ für 3 Einheiten\n
X-ALT-DESC;FMTTYPE=text/html:<p style="margin: 0px; font-style: normal; font-variant-caps: normal; font-
 stretch: normal; line-height: normal; font-family: 'Helvetica Neue'; font-s
 ize-adjust: none; font-kerning: auto; font-variant-alternates: normal; font
 -variant-ligatures: normal; font-variant-numeric: normal; font-variant-east
 -asian: normal; font-variant-position: normal; font-feature-settings: norma
 l; font-optical-sizing: auto; font-variation-settings: normal;">WAS EUCH ER
 WARTET</p><p style="margin: 0px; font-style: normal; font-variant-caps: nor
 mal; font-stretch: normal; line-height: normal; font-family: 'Helvetica Neu
 e'; font-size-adjust: none; font-kerning: auto; font-variant-alternates: no
 rmal; font-variant-ligatures: normal; font-variant-numeric: normal; font-va
 riant-east-asian: normal; font-variant-position: normal; font-feature-setti
 ngs: normal; font-optical-sizing: auto; font-variation-settings: normal;">D
 ie Babymassage ist eine liebevolle Praxis, bei der sanfte Berührungen und M
 assagegriffe gezielt auf die Bedürfnisse von Babys abgestimmt sind. Durch e
 infühlsame Berührung wird nicht nur die körperliche Entwicklung gefördert, 
 sondern auch eine tiefe emotionale Bindung zwischen Eltern und ihrem Baby a
 ufgebaut.</p><p style="margin: 0px; font-style: normal; font-variant-caps: 
 normal; font-stretch: normal; line-height: normal; font-family: 'Helvetica 
 Neue'; font-size-adjust: none; font-kerning: auto; font-variant-alternates:
  normal; font-variant-ligatures: normal; font-variant-numeric: normal; font
 -variant-east-asian: normal; font-variant-position: normal; font-feature-se
 ttings: normal; font-optical-sizing: auto; font-variation-settings: normal;
 "><b>&nbsp;</b></p><p style="margin: 0px; font-style: normal; font-variant-
 caps: normal; font-stretch: normal; line-height: normal; font-family: 'Helv
 etica Neue'; font-size-adjust: none; font-kerning: auto; font-variant-alter
 nates: normal; font-variant-ligatures: normal; font-variant-numeric: normal
 ; font-variant-east-asian: normal; font-variant-position: normal; font-feat
 ure-settings: normal; font-optical-sizing: auto; font-variation-settings: n
 ormal;">Diese behutsame Art der Zuwendung kann die Entspannung des Babys un
 terstützen, die Schlafqualität verbessern und zugleich eine wertvolle Zeit 
 der Nähe und Zuneigung schaffen.</p><p style="margin: 0px; font-style: norm
 al; font-variant-caps: normal; font-stretch: normal; line-height: normal; f
 ont-family: 'Helvetica Neue'; font-size-adjust: none; font-kerning: auto; f
 ont-variant-alternates: normal; font-variant-ligatures: normal; font-varian
 t-numeric: normal; font-variant-east-asian: normal; font-variant-position: 
 normal; font-feature-settings: normal; font-optical-sizing: auto; font-vari
 ation-settings: normal; min-height: 15px;">&nbsp;</p><p style="margin: 0px;
  font-style: normal; font-variant-caps: normal; font-stretch: normal; line-
 height: normal; font-family: 'Helvetica Neue'; font-size-adjust: none; font
 -kerning: auto; font-variant-alternates: normal; font-variant-ligatures: no
 rmal; font-variant-numeric: normal; font-variant-east-asian: normal; font-v
 ariant-position: normal; font-feature-settings: normal; font-optical-sizing
 : auto; font-variation-settings: normal;">ECKDATEN</p><p style="margin: 0px
 ; font-style: normal; font-variant-caps: normal; font-stretch: normal; line
 -height: normal; font-family: 'Helvetica Neue'; font-size-adjust: none; fon
 t-kerning: auto; font-variant-alternates: normal; font-variant-ligatures: n
 ormal; font-variant-numeric: normal; font-variant-east-asian: normal; font-
 variant-position: normal; font-feature-settings: normal; font-optical-sizin
 g: auto; font-variation-settings: normal;"><b>Termine</b></p><p style="marg
 in: 0px; font-style: normal; font-variant-caps: normal; font-stretch: norma
 l; line-height: normal; font-family: 'Helvetica Neue'; font-size-adjust: no
 ne; font-kerning: auto; font-variant-alternates: normal; font-variant-ligat
 ures: normal; font-variant-numeric: normal; font-variant-east-asian: normal
 ; font-variant-position: normal; font-feature-settings: normal; font-optica
 l-sizing: auto; font-variation-settings: normal;">12.09., 19.09., 26.09.<br
  /> (Reservetermin: 03.10.)<br /> jeweils 09:00 - 10:00 Uhr</p><p style="ma
 rgin: 0px; font-style: normal; font-variant-caps: normal; font-stretch: nor
 mal; line-height: normal; font-family: 'Helvetica Neue'; font-size-adjust: 
 none; font-kerning: auto; font-variant-alternates: normal; font-variant-lig
 atures: normal; font-variant-numeric: normal; font-variant-east-asian: norm
 al; font-variant-position: normal; font-feature-settings: normal; font-opti
 cal-sizing: auto; font-variation-settings: normal; min-height: 15px;">&nbsp
 ;</p><p style="margin: 0px; font-style: normal; font-variant-caps: normal; 
 font-stretch: normal; line-height: normal; font-family: 'Helvetica Neue'; f
 ont-size-adjust: none; font-kerning: auto; font-variant-alternates: normal;
  font-variant-ligatures: normal; font-variant-numeric: normal; font-variant
 -east-asian: normal; font-variant-position: normal; font-feature-settings: 
 normal; font-optical-sizing: auto; font-variation-settings: normal;"><b>Kos
 ten</b></p><p style="margin: 0px; font-style: normal; font-variant-caps: no
 rmal; font-stretch: normal; line-height: normal; font-family: 'Helvetica Ne
 ue'; font-size-adjust: none; font-kerning: auto; font-variant-alternates: n
 ormal; font-variant-ligatures: normal; font-variant-numeric: normal; font-v
 ariant-east-asian: normal; font-variant-position: normal; font-feature-sett
 ings: normal; font-optical-sizing: auto; font-variation-settings: normal;">
 75€ für 3 Einheiten</p>
CONTACT:https://www.paulisparty.at/kurse
X-EXTRAINFO:[preis='7500'][anmeldung='true']
DTSTAMP:20260423T111416
DTSTART:20240912T070000
DTEND:20240912T080000
SEQUENCE:0
RRULE:FREQ=WEEKLY;UNTIL=20240927T000000Z;INTERVAL=1;BYDAY=TH
TRANSP:OPAQUE
END:VEVENT
END:VCALENDAR