BEGIN:VCALENDAR
VERSION:2.0
PRODID:-//jEvents 2.0 for Joomla//EN
CALSCALE:GREGORIAN
METHOD:PUBLISH
BEGIN:VEVENT
UID:246103bd27c1acec1e3a5a46b67ef7cc
CATEGORIES:16. Bezirk
CREATED:20240829T213909
SUMMARY:Lemoni Spielecafé 
LOCATION:Lemoni Wien\, Wilhelminenstraße 45\, 1160 Wien
DESCRIPTION:Kommt zum Spielen, Plaudern, Lachen und Genießen zu uns im Lemoni! \n \nSpi
 elebeitrag: 15€ pro Kind inkl. einer erwachsenen Begleitperson. 10€ pro Ges
 chwisterkind.\nJede weitere erwachsene Begleitperson: 5€ Kaffeebeitrag\nBit
 te beachten: Bei uns ist nur Barzahlung möglich!\nKaffee, Säfte, Tee, Kuche
 n, Obst und Snacks sind im Preis inbegriffen.\nWir freuen uns auf eine geme
 insame Spielzeit bei uns!\nAnmeldungen bitte per Mail an office@lemoni.kids
  (mailto:office@lemoni.kids) \n \nBis bald im Lemoni! :-)\n
X-ALT-DESC;FMTTYPE=text/html:<p>Kommt zum Spielen, Plaudern, Lachen und Genießen zu uns im Lemoni!&nbsp;
 </p><p>&nbsp;</p><p><strong>Spielebeitrag:&nbsp;15€</strong>&nbsp;pro Kind 
 inkl. einer erwachsenen Begleitperson. 10€ pro Geschwisterkind.</p><p>Jede 
 weitere erwachsene Begleitperson: 5€ Kaffeebeitrag</p><p><strong>Bitte beac
 hten: Bei uns ist nur Barzahlung möglich!</strong></p><p>Kaffee, Säfte, Tee
 , Kuchen, Obst und Snacks sind im Preis inbegriffen.</p><p>Wir freuen uns a
 uf eine gemeinsame Spielzeit bei uns!</p><p>Anmeldungen bitte per Mail an&n
 bsp;<a href="mailto:office@lemoni.kids">office@lemoni.kids</a>&nbsp;</p><p>
 &nbsp;</p><p>Bis bald im Lemoni! :-)</p>
CONTACT:office@lemoni.kids
X-EXTRAINFO:[preis='1500'][anmeldung='true']
DTSTAMP:20260423T075810
DTSTART:20241002T123000
DTEND:20241002T153000
SEQUENCE:0
TRANSP:OPAQUE
END:VEVENT
END:VCALENDAR