BEGIN:VCALENDAR
VERSION:2.0
PRODID:-//jEvents 2.0 for Joomla//EN
CALSCALE:GREGORIAN
METHOD:PUBLISH
BEGIN:VEVENT
UID:0e140cdd47fc660fb9774344a421edb5
CATEGORIES:19. Bezirk
CREATED:20240901T231657
SUMMARY:Waldspielgruppe
LOCATION:Cobenzl
DESCRIPTION:Mit einer kleinen Wanderung (ca. 1 km) kommen wir zu unserm Platz im Wald. 
 Hier gibt es einen gemeinsamen Beginn mit Begrüßungsliedern und Jause. Nach
  der Stärkung lassen wir uns von den Kindern und vom Wald leiten: Gemeinsam
  spielen, den Wald erkunden und mit allen Sinnen erfahren, Stöcke sammeln, 
 Tiere finden, balancieren, Zapfen werfen,… Das Unterwegssein in der Natur (
 über Wurzeln, durchs Laub und auf unebenem Boden) bietet vielseitige Sinnes
 erfahrungen und Spielanregungen. Durch das freie Spiel wird der Umgang mit 
 der Natur auf achtsame Weise erfahren. Nach der Freispielzeit gibt es ein A
 bschlusslied, und wir machen uns auf den Weg zurück.\n3 Termine: 6.9., 20.9
 ., 4.10.\n
X-ALT-DESC;FMTTYPE=text/html:<p><span style="color: #391142; font-family: 'Open Sans', sans-serif; font-
 size: 16px; background-color: #fefefe;">Mit einer kleinen Wanderung (ca. 1 
 km) kommen wir zu unserm Platz im Wald. Hier gibt es einen gemeinsamen Begi
 nn mit Begrüßungsliedern und Jause. Nach der Stärkung lassen wir uns von de
 n Kindern und vom Wald leiten: Gemeinsam spielen, den Wald erkunden und mit
  allen Sinnen erfahren, Stöcke sammeln, Tiere finden, balancieren, Zapfen w
 erfen,… Das Unterwegssein in der Natur (über Wurzeln, durchs Laub und auf u
 nebenem Boden) bietet vielseitige Sinneserfahrungen und Spielanregungen. Du
 rch das freie Spiel wird der Umgang mit der Natur auf achtsame Weise erfahr
 en. Nach der Freispielzeit gibt es ein Abschlusslied, und wir machen uns au
 f den Weg zurück.</span></p><p>3 Termine: 6.9., 20.9., 4.10.</p>
CONTACT: rundumgeburt@nanaya.at
X-EXTRAINFO:[preis='4600'][anmeldung='true']
DTSTAMP:20260423T111421
DTSTART:20240906T080000
DTEND:20240906T093000
SEQUENCE:0
TRANSP:OPAQUE
END:VEVENT
END:VCALENDAR