BEGIN:VCALENDAR
VERSION:2.0
PRODID:-//jEvents 2.0 for Joomla//EN
CALSCALE:GREGORIAN
METHOD:PUBLISH
BEGIN:VEVENT
UID:b574e4beb4f503c9c4dc882e2a3af353
CATEGORIES:1. Bezirk
CREATED:20240902T105421
SUMMARY:Wundersame Fabeltierchen
LOCATION:Künstlerhaus Wien\, Karlsplatz 5\, 1010
DESCRIPTION:Kreativer Workshop für Kinder, 6-12 Jahre\n \n In unserer Ausstellung WUNDE
 RKAMMER gibt es viele Dinge zum Bestaunen und Entdecken. Nach einem Rundgan
 g durch die Ausstellung lassen wir uns von den wundervollen Fantasietierche
 n von Maria Temnitschka inspirieren und gestalten unsere eigenen außergewöh
 nliche Tiere und Kreaturen aus Upcycling Materialien. \n\nInformation\nDaue
 r: 120 Minuten\nAltersgruppe: 6-12 Jahre\nWorkshopbeitrag: Kinder und Erwac
 hsene je € 8,- / mit Aktivcard: € 6,-\nMitglieder Künstlerhaus, GBKKÖ / Fre
 undesverein: € 6,-\nIm Rahmen des wienXtra kinderaktiv-Programms.\n\nBitte 
 Kleidung anziehen, die auch bunt werden darf!\nWir treffen uns ab 10:45 Uhr
  im Foyer neben der Hauptstiege.\nDie Workshops fangen pünktlich um 11 Uhr 
 an, im Fall einer Verspätung melden Sie sich bitte frühestmöglich bei uns o
 der wenden Sie sich an das Kassapersonal.\nFalls Ihr Kind nicht am Workshop
  teilnehmen kann bitten wir um Mitteilung an kunstvermittlung@kuenstlerhaus
 .at\n
X-ALT-DESC;FMTTYPE=text/html:<p class="MsoNormal"><b><span lang="SL" style="mso-ansi-language: SL;">Krea
 tiver Workshop für Kinder, 6-12 Jahre<br /> <br /> </span></b><span lang="S
 L" style="mso-ansi-language: SL;">In unserer Ausstellung WUNDERKAMMER gibt 
 es viele Dinge zum Bestaunen und Entdecken. Nach einem Rundgang durch die A
 usstellung lassen wir uns von den wundervollen Fantasietierchen von Maria T
 emnitschka inspirieren und gestalten unsere eigenen außergewöhnliche Tiere 
 und Kreaturen aus Upcycling Materialien. </span></p><p class="MsoNormal"><b
 ><span lang="SL" style="mso-ansi-language: SL;"></span></b></p><p class="Ms
 oNormal"><b><span lang="SL" style="mso-ansi-language: SL;">Information</spa
 n></b></p><p class="MsoNormal"><span lang="SL" style="mso-ansi-language: SL
 ;">Dauer: 120 Minuten</span></p><p class="MsoNormal"><span lang="SL" style=
 "mso-ansi-language: SL;">Altersgruppe: 6-12 Jahre</span></p><p class="MsoNo
 rmal"><span lang="SL" style="mso-ansi-language: SL;">Workshopbeitrag: Kinde
 r und Erwachsene je € 8,- / mit Aktivcard: € 6,-</span></p><p class="MsoNor
 mal"><span lang="SL" style="mso-ansi-language: SL;">Mitglieder Künstlerhaus
 , GBKKÖ / Freundesverein: € 6,-</span></p><p class="MsoNormal"><span lang="
 SL" style="mso-ansi-language: SL;">Im Rahmen des wienXtra kinderaktiv-Progr
 amms.</span></p><p class="MsoNormal"><span lang="SL" style="mso-ansi-langua
 ge: SL;"></span></p><p class="MsoNormal"><span lang="SL" style="mso-ansi-la
 nguage: SL;">Bitte Kleidung anziehen, die auch bunt werden darf!</span></p>
 <p class="MsoNormal"><span lang="SL" style="mso-ansi-language: SL;">Wir tre
 ffen uns ab 10:45 Uhr im Foyer neben der Hauptstiege.</span></p><p class="M
 soNormal"><span lang="SL" style="mso-ansi-language: SL;">Die Workshops fang
 en pünktlich um 11 Uhr an, im Fall einer Verspätung melden Sie sich bitte f
 rühestmöglich bei uns oder wenden Sie sich an das Kassapersonal.</span></p>
 <p class="MsoNormal"><span lang="SL" style="mso-ansi-language: SL;">Falls I
 hr Kind nicht am Workshop teilnehmen kann bitten wir um Mitteilung an kunst
 vermittlung@kuenstlerhaus.at</span></p>
CONTACT:kunstvermittlung@kuenstlerhaus.at
X-EXTRAINFO:[preis='800'][anmeldung='true']
DTSTAMP:20260423T122531
DTSTART:20240907T090000
DTEND:20240907T110000
SEQUENCE:0
TRANSP:OPAQUE
END:VEVENT
END:VCALENDAR