BEGIN:VCALENDAR
VERSION:2.0
PRODID:-//jEvents 2.0 for Joomla//EN
CALSCALE:GREGORIAN
METHOD:PUBLISH
BEGIN:VEVENT
UID:036ba44f642c79ece45878a86d062308
CATEGORIES:1. Bezirk
CREATED:20240902T105711
SUMMARY:Kunst mit Baby - Ausstellungsführung für Eltern mit Babys von 0 bis 1 Jahr
LOCATION:Künstlerhaus Wien\, Karlsplatz 5\, 1010
DESCRIPTION:Babys und Eltern herzlich willkommen!\nDas Programm KUNST MIT BABY im Künst
 lerhaus ist für die Eltern mit Babys und Kleinkindern von 0 bis 12 Monate g
 eeignet. Die Eltern und Begleitpersonen haben die Möglichkeit mittels einer
  speziellen Führung mehr über die aktuelle Ausstellung WUNDERKAMMER  zu erf
 ahren. Wir bieten Teilnehmer*innen an, Kunst in einer entspannten Atmosphär
 e zu genießen und gehen auf die Bedürfnisse der Babys und Mamas/Papas ein. 
 Die Führung bietet auch eine tolle Möglichkeit für junge Eltern sich auszut
 auschen und andere Eltern und Kinder kennenzulernen.\n\nWichtige Informatio
 nen:\nAltersgruppe: 0-1 Jahr\nDauer: 90 Minuten\nKinderwägen und Tragen kön
 nen gerne mitgebracht werden\nBarrierefreier Zugang auf der rechten Seite d
 es Künstlerhauses\nWickel- und Stillmöglichkeiten stehen zur Verfügung\nIm 
 Fall einer Verspätung melden Sie sich bitte frühestmöglich bei uns\nFührung
 sbeitrag: € 8,- / mit Kinderaktiv-Card: € 6,-\nIm Rahmen des wienXtra kinde
 raktiv -Programmes.\n\nKontakt und Information\n + 43 1 587 96 63 20\n kuns
 tvermittlung@kuenstlerhaus.at (mailto:kunstvermittlung@kuenstlerhaus.at)\n 
 \n Tickets kaufen unter : https://kupfticket.com/events/kunst-mit-baby6\n
X-ALT-DESC;FMTTYPE=text/html:<p class="MsoNormal"><b><span lang="SL" style="mso-ansi-language: SL;">Baby
 s und Eltern herzlich willkommen!</span></b></p><p class="MsoNormal"><span 
 lang="SL" style="mso-ansi-language: SL;">Das Programm KUNST MIT BABY im Kün
 stlerhaus ist für die Eltern mit Babys und Kleinkindern von 0 bis 12 Monate
  geeignet. Die Eltern und Begleitpersonen haben die Möglichkeit mittels ein
 er speziellen Führung mehr über die aktuelle Ausstellung WUNDERKAMMER<span 
 style="mso-spacerun: yes;">&nbsp; </span>zu erfahren. Wir bieten Teilnehmer
 *innen an, Kunst in einer entspannten Atmosphäre zu genießen und gehen auf 
 die Bedürfnisse der Babys und Mamas/Papas ein. Die Führung bietet auch eine
  tolle Möglichkeit für junge Eltern sich auszutauschen und andere Eltern un
 d Kinder kennenzulernen.</span></p><p class="MsoNormal"><span lang="SL" sty
 le="mso-ansi-language: SL;"></span></p><p class="MsoNormal"><b><span lang="
 SL" style="mso-ansi-language: SL;">Wichtige Informationen:</span></b></p><p
  class="MsoNormal"><span lang="SL" style="mso-ansi-language: SL;">Altersgru
 ppe: 0-1 Jahr</span></p><p class="MsoNormal"><span lang="SL" style="mso-ans
 i-language: SL;">Dauer: 90 Minuten</span></p><p class="MsoNormal"><span lan
 g="SL" style="mso-ansi-language: SL;">Kinderwägen und Tragen können gerne m
 itgebracht werden</span></p><p class="MsoNormal"><span lang="SL" style="mso
 -ansi-language: SL;">Barrierefreier Zugang auf der rechten Seite des Künstl
 erhauses</span></p><p class="MsoNormal"><span lang="SL" style="mso-ansi-lan
 guage: SL;">Wickel- und Stillmöglichkeiten stehen zur Verfügung</span></p><
 p class="MsoNormal"><span lang="SL" style="mso-ansi-language: SL;">Im Fall 
 einer Verspätung melden Sie sich bitte frühestmöglich bei uns</span></p><p 
 class="MsoNormal"><span lang="SL" style="mso-ansi-language: SL;">Führungsbe
 itrag: € 8,- / mit Kinderaktiv-Card: € 6,-</span></p><p class="MsoNormal"><
 span lang="SL" style="mso-ansi-language: SL;">Im Rahmen des wienXtra kinder
 aktiv -Programmes.</span></p><p class="MsoNormal"><span lang="SL" style="ms
 o-ansi-language: SL;"><span style="mso-spacerun: yes;"></span></span></p><p
  class="MsoNormal"><b><span lang="SL" style="mso-ansi-language: SL;">Kontak
 t und Information</span></b><span lang="SL" style="mso-ansi-language: SL;">
 <br /> + 43 1 587 96 63 20<br /> <a href="mailto:kunstvermittlung@kuenstler
 haus.at">kunstvermittlung@kuenstlerhaus.at</a><br /> <br /> Tickets kaufen 
 unter : https://kupfticket.com/events/kunst-mit-baby6</span></p>
CONTACT:kunstvermittlung@kuenstlerhaus.at
X-EXTRAINFO:[preis='800'][anmeldung='true']
DTSTAMP:20260423T142705
DTSTART:20240917T090000
DTEND:20240917T103000
SEQUENCE:0
TRANSP:OPAQUE
END:VEVENT
END:VCALENDAR