BEGIN:VCALENDAR
VERSION:2.0
PRODID:-//jEvents 2.0 for Joomla//EN
CALSCALE:GREGORIAN
METHOD:PUBLISH
BEGIN:VEVENT
UID:2fd3331e36e237274d96464b26351823
CATEGORIES:1. Bezirk
CREATED:20240904T105436
SUMMARY:Führung: Mein Baby in der Welt der Bücher
LOCATION:Josefsplatz 1\, 1010 Wien
DESCRIPTION:Kurzweilige Führungen erwarten Sie und Ihr Baby in der Österreichischen Nat
 ionalbibliothek. In entspannter Atmosphäre finden Führungen für Eltern und 
 Betreuungspersonen von Neugeborenen und Babys durch den Prunksaal statt. St
 illen, Fläschchen, Tragehilfe und Kinderwagen sind willkommen (wir empfehle
 n die Tragehilfe). Im Liegen oder Sitzen auf Babymatten, im Stehen oder Sch
 aukeln erfahren die Besucher*innen mit Babys bei diesen Führungen spannende
  Details über die prunkvollen Sammlungen und Räumlichkeiten der Österreichi
 schen Nationalbibliothek.\n\nDauer: 45 Minuten\nTreffpunkt: Servicedesk Pru
 nksaal, Josefsplatz 1, 1010 Wien\nTickets: Ticketshop Österreichische Natio
 nalbibliothek (onb.ac.at) (https://ticket.onb.ac.at/baby_prunksaal)\n
X-ALT-DESC;FMTTYPE=text/html:<p style="color: #000000; font-family: Inter, sans-serif; font-size: 18px;"
 >Kurzweilige Führungen erwarten Sie und Ihr Baby in der Österreichischen Na
 tionalbibliothek. In entspannter Atmosphäre finden Führungen für Eltern und
  Betreuungspersonen von Neugeborenen und Babys durch den Prunksaal statt. S
 tillen, Fläschchen, Tragehilfe und Kinderwagen sind willkommen (wir empfehl
 en die Tragehilfe). Im Liegen oder Sitzen auf Babymatten, im Stehen oder Sc
 haukeln erfahren die Besucher*innen mit Babys bei diesen Führungen spannend
 e Details über die prunkvollen Sammlungen und Räumlichkeiten der Österreich
 ischen Nationalbibliothek.<br /><br /><strong>Dauer</strong>: 45 Minuten</p
 ><p style="color: #000000; font-family: Inter, sans-serif; font-size: 18px;
 "><strong>Treffpunkt</strong>: Servicedesk Prunksaal,&nbsp;Josefsplatz 1, 1
 010 Wien</p><p><strong style="color: #000000; font-family: Inter, sans-seri
 f; font-size: 18px;">Tickets</strong>:&nbsp;<a href="https://ticket.onb.ac.
 at/baby_prunksaal">Ticketshop Österreichische Nationalbibliothek (onb.ac.at
 )</a></p>
CONTACT:kulturvermittlung@onb.ac.at
X-EXTRAINFO:[preis='1450'][anmeldung='true']
DTSTAMP:20260423T110800
DTSTART:20241016T070000
DTEND:20241016T080000
SEQUENCE:0
TRANSP:OPAQUE
END:VEVENT
END:VCALENDAR