BEGIN:VCALENDAR
VERSION:2.0
PRODID:-//jEvents 2.0 for Joomla//EN
CALSCALE:GREGORIAN
METHOD:PUBLISH
BEGIN:VEVENT
UID:562b3a0b2b70bfa4998a960f2f12e351
CATEGORIES:16. Bezirk
CREATED:20240904T105716
SUMMARY:Mama-Baby-Yoga Schnupperstunde
LOCATION:Lemoni Kids\, Wilhelminenstraße 45/2
DESCRIPTION:<p style="font-size: 16px; box-sizing: border-box; margin-top: 0px; margin-
 bottom: 30px; color: #9d9ea5; caret-color: #9d9ea5; font-family: 'josefin s
 ans', sans-serif;">Es gibt wieder neue Mama-Baby-Yoga Kurse im Lemoni (natü
 rlich sind auch Papas Herzlich Willkommen)! Diese Stunde ist kostenlose Sch
 nupperstunde für den wöchentlich wiederkehrenden Termin ab 3.10. 14:00!</p>
 <p style="font-size: 16px; box-sizing: border-box; margin-top: 0px; margin-
 bottom: 30px; color: #9d9ea5; caret-color: #9d9ea5; font-family: 'josefin s
 ans', sans-serif;">In diesen Kursen fokussieren wir uns auf die Stärkung de
 s Beckenbodens, Entspannung der Schulter-Nacken-Region und Eure aktuellen B
 edürfnisse. Singen und kurze Spiele mit den Babys gehören aber auch ins Pro
 gramm. Diese Kombination macht die Einheiten so besonders und hebt sie von 
 anderen Yogaeinheiten ab. Jederzeit könnt Ihr stillen oder Pausen machen.</
 p><p>Weitere Infos:</p><p><a href="https://yoga.gruseck.at/kurse/2024-mama-
 baby-yoga/">https://yoga.gruseck.at/kurse/2024-mama-baby-yoga/</a></p><p><a
  href="https://lemoni.kids/index.php/2024/01/11/6-wochen-mama-baby-yoga/">h
 ttps://lemoni.kids/index.php/2024/01/11/6-wochen-mama-baby-yoga/</a></p>
CONTACT:Julia@Gruseck.at
X-EXTRAINFO:[preis='000'][anmeldung='true']
DTSTAMP:20260423T095512
DTSTART:20240926T120000
DTEND:20240926T130000
SEQUENCE:0
TRANSP:OPAQUE
END:VEVENT
END:VCALENDAR