BEGIN:VCALENDAR
VERSION:2.0
PRODID:-//jEvents 2.0 for Joomla//EN
CALSCALE:GREGORIAN
METHOD:PUBLISH
BEGIN:VEVENT
UID:0497adaa0776869014a9702420a503e7
CATEGORIES:1. Bezirk
CREATED:20240904T110225
SUMMARY:Führung: Mein Baby in der Welt der Globen
LOCATION:Herrengasse 9\, 1010 Wien
DESCRIPTION:Kurzweilige Führungen erwarten Sie und Ihr Baby in der Österreichischen Nat
 ionalbibliothek. In entspannter Atmosphäre finden Führungen für Eltern und 
 Betreuungspersonen von Neugeborenen und Babys durch das Globenmuseum statt.
  Stillen, Fläschchen, Tragehilfe und Kinderwagen sind willkommen (wir empfe
 hlen die Tragehilfe). Im Liegen oder Sitzen auf Babymatten, im Stehen oder 
 Schaukeln erfahren die Besucher*innen mit Babys bei diesen Führungen spanne
 nde Details über die prunkvollen Sammlungen und Räumlichkeiten der Österrei
 chischen Nationalbibliothek\n\nDauer: 45 Minuten\nTreffpunkt: Servicedesk P
 alais Mollard, Herrengasse 9, 1010 Wien\nTickets: Ticketshop Österreichisch
 e Nationalbibliothek (onb.ac.at) (https://ticket.onb.ac.at/baby_globen)\n
X-ALT-DESC;FMTTYPE=text/html:<p style="color: #000000; font-family: Inter, sans-serif; font-size: 18px;"
 >Kurzweilige Führungen erwarten Sie und Ihr Baby in der Österreichischen Na
 tionalbibliothek. In entspannter Atmosphäre finden Führungen für Eltern und
  Betreuungspersonen von Neugeborenen und Babys durch das Globenmuseum statt
 . Stillen, Fläschchen, Tragehilfe und Kinderwagen sind willkommen (wir empf
 ehlen die Tragehilfe). Im Liegen oder Sitzen auf Babymatten, im Stehen oder
  Schaukeln erfahren die Besucher*innen mit Babys bei diesen Führungen spann
 ende Details über die prunkvollen Sammlungen und Räumlichkeiten der Österre
 ichischen Nationalbibliothek<br /><br /><strong>Dauer</strong>: 45 Minuten<
 br /><strong>Treffpunkt</strong>: Servicedesk Palais Mollard, Herrengasse 9
 , 1010 Wien</p><p><strong style="color: #000000; font-family: Inter, sans-s
 erif; font-size: 18px;">Tickets</strong>:&nbsp;<a href="https://ticket.onb.
 ac.at/baby_globen" style="font-family: inherit; font-size: 1rem;">Ticketsho
 p Österreichische Nationalbibliothek (onb.ac.at)</a></p>
CONTACT:kulturvermittlung@onb.ac.at
X-EXTRAINFO:[preis='950'][anmeldung='true']
DTSTAMP:20260423T112345
DTSTART:20241022T070000
DTEND:20241022T080000
SEQUENCE:0
TRANSP:OPAQUE
END:VEVENT
END:VCALENDAR