BEGIN:VCALENDAR
VERSION:2.0
PRODID:-//jEvents 2.0 for Joomla//EN
CALSCALE:GREGORIAN
METHOD:PUBLISH
BEGIN:VEVENT
UID:44aa5c90f9e7642042ffc34bcf60dcfb
CATEGORIES:16. Bezirk
CREATED:20240905T092045
SUMMARY:Kinderyoga (4-7 Jahre) Schnuppern
LOCATION:Wilhelminenstraße 45/2\, 1160 Wien
DESCRIPTION:<p class="MsoNormal" style="margin: 0cm; font-size: medium; font-family: Ca
 libri, sans-serif; caret-color: #000000; color: #000000;">Gratis Schnuppers
 tunde!</p><p>&nbsp;</p><p class="MsoNormal" style="margin: 0cm; font-size: 
 medium; font-family: Calibri, sans-serif; caret-color: #000000; color: #000
 000;">In der zauberhaften Welt des Kinderyogas stehen spielerisches Lernen,
  Entdecken und Freude im Vordergrund. Kinderyoga bietet Kindern eine wunder
 bare Möglichkeit, in unserer hektischen Welt zur Ruhe zu kommen und ihre in
 nere Stärke zu entdecken. Die Yogastellungen und Atemtechniken werden spiel
 erisch vermittelt und auf die Bedürfnisse der Kinder abgestimmt.</p><p clas
 s="MsoNormal" style="margin: 0cm; font-size: medium; font-family: Calibri, 
 sans-serif; caret-color: #000000; color: #000000;">Kinderyoga unterstützt d
 ie Konzentration, die Selbstwahrnehmung, das Selbstvertrauen, die Stressbew
 ältigungskompetenzen und das Stärkenbewusstsein der Kinder – und macht den 
 Kindern dabei großen Spaß.</p><p class="MsoNormal" style="margin: 0cm; font
 -size: medium; font-family: Calibri, sans-serif; caret-color: #000000; colo
 r: #000000;">Ich freue mich auf euch!</p><p class="MsoNormal" style="margin
 : 0cm; font-size: medium; font-family: Calibri, sans-serif; caret-color: #0
 00000; color: #000000;">Lisa Christandl</p><p>&nbsp;</p><p class="MsoNormal
 " style="margin: 0cm; font-size: medium; font-family: Calibri, sans-serif; 
 caret-color: #000000; color: #000000;">Anmeldung unter: 0660/5210916 oder&n
 bsp;<b><a href="mailto:kinderyoga@uniquify.at" style="color: #954f72;">kind
 eryoga@uniquify.at</a></b></p><p class="MsoNormal" style="margin: 0cm; font
 -size: medium; font-family: Calibri, sans-serif; caret-color: #000000; colo
 r: #000000;"><a href="https://lemoni.kids/index.php/2024/08/01/14-einheiten
 -kinderyoga-5-7-jahre-am-dienstag/" style="color: #954f72;">https://lemoni.
 kids/index.php/2024/08/01/14-einheiten-kinderyoga-5-7-jahre-am-dienstag/</a
 ></p><p class="MsoNormal" style="margin: 0cm; font-size: medium; font-famil
 y: Calibri, sans-serif; caret-color: #000000; color: #000000;">&nbsp;</p>
CONTACT:kinderyoga@uniquify.at
X-EXTRAINFO:[preis='000'][anmeldung='true']
DTSTAMP:20260423T100036
DTSTART:20240924T130000
DTEND:20240924T135000
SEQUENCE:0
TRANSP:OPAQUE
END:VEVENT
END:VCALENDAR