BEGIN:VCALENDAR
VERSION:2.0
PRODID:-//jEvents 2.0 for Joomla//EN
CALSCALE:GREGORIAN
METHOD:PUBLISH
BEGIN:VEVENT
UID:ffdf529f5b7a55f1a6c517cc623137ee
CATEGORIES:2. Bezirk
CREATED:20240906T132317
SUMMARY:Kindersachenflohmarkt 
LOCATION:Engerthstraße 213\, 1020 Wien
DESCRIPTION:<div class="xdj266r x11i5rnm xat24cr x1mh8g0r x1vvkbs" style="margin: 0px; 
 overflow-wrap: break-word; font-family: system-ui, -apple-system, BlinkMacS
 ystemFont, '.SFNSText-Regular', sans-serif; caret-color: #080809; color: #0
 80809; font-size: 15px;"><p><strong>Komm zum Kindersachenflohmarkt!</strong
 ></p><p>Bei unserem Kindersachenflohmarkt können Kinder selbst ihre Sachen 
 (ver)kaufen.</p><p>&nbsp;</p><p>Bring deine Spielsachen, Kinder- und Babyge
 wand und werde los, was du nicht mehr brauchst. Du (ver)kaufst, wir stellen
  dir die Tische und unser Lokal zur Verfügung und sorgen für Snacks und Get
 ränke.</p><p>&nbsp;</p><p>Wir freuen uns auf dich!&nbsp;</p><p>&nbsp;</p><p
 >Anmeldung unter: <a href="mailto:leopoldstadt@gruene.at">leopoldstadt@grue
 ne.at</a></p><ul><li>Samstag, 14.9.2024, 10-13:00 Uhr&nbsp;</li><li>GRÜN2, 
 Engerthstraße 213, 1020 Wien</li></ul></div>
CONTACT:leopoldstadt@gruene.at
X-EXTRAINFO:[preis='000'][anmeldung='true']
DTSTAMP:20260423T202720
DTSTART:20240914T080000
DTEND:20240914T110000
SEQUENCE:0
TRANSP:OPAQUE
END:VEVENT
END:VCALENDAR