BEGIN:VCALENDAR
VERSION:2.0
PRODID:-//jEvents 2.0 for Joomla//EN
CALSCALE:GREGORIAN
METHOD:PUBLISH
BEGIN:VEVENT
UID:723ce37c793ce158e92ff6d9622533a7
CATEGORIES:2. Bezirk
CREATED:19700101T010000
SUMMARY:SpielRaum nach Pikler (6 bis 13 Monate)  in Tini's Kinderzimmer
LOCATION:Tini's Kinderzimmer
DESCRIPTION:<p style="box-sizing: border-box; margin: 0.8rem 0px 0.2rem; color: #212529
 ; font-family: Titillium, sans-serif; font-size: 16px;">Im Spielraum nach E
 mmi Pikler erwartet dich und dein Baby eine vorbereitete Umgebung mit versc
 hiedenen Bewegungsgeräten, wie Dreieckständer mit Rutschbrett oder Krabbelk
 iste, sowie offene Spielmaterialien wie Holzringe, Dosen und Körbe, Baustei
 ne, Löffel, Kübel, Becher, Tücher und vieles mehr. Das Material ist auf die
  Spiel-und Bewegungsentwicklung der Kinderabgestimmt und lädt zum selbständ
 igen Tun, Ausprobieren und Entdecken ein. Die Kinder bekommen die Möglichke
 it in altershomogenen Gruppen und einer altersadäquaten Umgebung ihrem Inte
 resse an Bewegung, Kontakt und Spiel nachzugehen. Die eigenständige Erkundu
 ng der Geräte und Materialien stärkt die Selbstwahrnehmung und das Selbstve
 rtrauen der Kinder, Herausforderungen verschiedenster Art fördern die Gesch
 icklichkeit, sowie Balance und Geduld. Die Eltern bekommen die Möglichkeit 
 ihr Kind in entspannter Atmosphäre zu beobachten - ihm einfach nur zuzuscha
 uen, aber auch da zu sein, wenn es Nähe und Trost braucht. Durch das Beobac
 hten wächst das Vertrauen in die Kompetenzen des Kindes und neue Perspektiv
 en eröffnen sich.</p><p style="box-sizing: border-box; margin: 0.8rem 0px 0
 .2rem; color: #212529; font-family: Titillium, sans-serif; font-size: 16px;
 ">Der GesprächRaum findet an zwei Samstagvormittagen online via MS Teams st
 att. Hier steht das Gespräch im Mittelpunkt -&nbsp; Beobachtungen aus dem S
 pielRaum und auch Fragen aus dem Alltagsleben mit deinem Kind zu Hause &nbs
 p;können besprochen werden.</p><p style="box-sizing: border-box; margin: 0.
 8rem 0px 0.2rem; color: #212529; font-family: Titillium, sans-serif; font-s
 ize: 16px;">Termine GesprächRaum:</p><p style="box-sizing: border-box; marg
 in: 0.8rem 0px 0.2rem; color: #212529; font-family: Titillium, sans-serif; 
 font-size: 16px;">17. September</p><p style="box-sizing: border-box; margin
 : 0.8rem 0px 0.2rem; color: #212529; font-family: Titillium, sans-serif; fo
 nt-size: 16px;">15. Oktober</p><p style="box-sizing: border-box; margin: 0.
 8rem 0px 0.2rem; color: #212529; font-family: Titillium, sans-serif; font-s
 ize: 16px;">Online via MS Teams von 18:00 - 18:55 Uhr</p><p style="box-sizi
 ng: border-box; margin: 0.8rem 0px 0.2rem; color: #212529; font-family: Tit
 illium, sans-serif; font-size: 16px;">Gebühr pro Person 242€ für 11 Einheit
 en</p><p style="box-sizing: border-box; margin: 0.8rem 0px 0.2rem; color: #
 212529; font-family: Titillium, sans-serif; font-size: 16px;">Zwillinge 440
 € für 11 Einheiten</p><p class="MsoNormal"><b><span lang="DE" style="font-s
 ize: 12.0pt; line-height: 107%; mso-bidi-font-family: Calibri; mso-bidi-the
 me-font: minor-latin;">Termine:</span></b></p><p class="MsoListParagraphCxS
 pFirst" style="text-indent: -18.0pt; mso-list: l0 level1 lfo1;"><b><span la
 ng="DE" style="font-size: 12.0pt; line-height: 107%; mso-bidi-font-family: 
 Calibri; mso-bidi-theme-font: minor-latin;">1.<span style="font-variant-num
 eric: normal; font-variant-east-asian: normal; font-variant-alternates: nor
 mal; font-size-adjust: none; font-kerning: auto; font-optical-sizing: auto;
  font-feature-settings: normal; font-variation-settings: normal; font-varia
 nt-position: normal; font-weight: normal; font-stretch: normal; font-size: 
 7pt; line-height: normal; font-family: 'Times New Roman';">&nbsp;&nbsp;&nbs
 p;&nbsp; </span></span></b><b><span lang="DE" style="font-size: 12.0pt; lin
 e-height: 107%; mso-bidi-font-family: Calibri; mso-bidi-theme-font: minor-l
 atin;">Do. 05.09.2024 10:50–11:50</span></b></p><p class="MsoListParagraphC
 xSpMiddle" style="text-indent: -18.0pt; mso-list: l0 level1 lfo1;"><b><span
  lang="DE" style="font-size: 12.0pt; line-height: 107%; mso-bidi-font-famil
 y: Calibri; mso-bidi-theme-font: minor-latin;">2.<span style="font-variant-
 numeric: normal; font-variant-east-asian: normal; font-variant-alternates: 
 normal; font-size-adjust: none; font-kerning: auto; font-optical-sizing: au
 to; font-feature-settings: normal; font-variation-settings: normal; font-va
 riant-position: normal; font-weight: normal; font-stretch: normal; font-siz
 e: 7pt; line-height: normal; font-family: 'Times New Roman';">&nbsp;&nbsp;&
 nbsp;&nbsp; </span></span></b><b><span lang="DE" style="font-size: 12.0pt; 
 line-height: 107%; mso-bidi-font-family: Calibri; mso-bidi-theme-font: mino
 r-latin;">Do. 12.09.2024 10:50–11:50</span></b></p><p class="MsoListParagra
 phCxSpMiddle" style="text-indent: -18.0pt; mso-list: l0 level1 lfo1;"><b><s
 pan lang="DE" style="font-size: 12.0pt; line-height: 107%; mso-bidi-font-fa
 mily: Calibri; mso-bidi-theme-font: minor-latin;">3.<span style="font-varia
 nt-numeric: normal; font-variant-east-asian: normal; font-variant-alternate
 s: normal; font-size-adjust: none; font-kerning: auto; font-optical-sizing:
  auto; font-feature-settings: normal; font-variation-settings: normal; font
 -variant-position: normal; font-weight: normal; font-stretch: normal; font-
 size: 7pt; line-height: normal; font-family: 'Times New Roman';">&nbsp;&nbs
 p;&nbsp;&nbsp; </span></span></b><b><span lang="DE" style="font-size: 12.0p
 t; line-height: 107%; mso-bidi-font-family: Calibri; mso-bidi-theme-font: m
 inor-latin;">Di. 17.09.2024 18:00–18:50 GesprächsRaum online</span></b></p>
 <p class="MsoListParagraphCxSpMiddle" style="text-indent: -18.0pt; mso-list
 : l0 level1 lfo1;"><b><span lang="DE" style="font-size: 12.0pt; line-height
 : 107%; mso-bidi-font-family: Calibri; mso-bidi-theme-font: minor-latin;">4
 .<span style="font-variant-numeric: normal; font-variant-east-asian: normal
 ; font-variant-alternates: normal; font-size-adjust: none; font-kerning: au
 to; font-optical-sizing: auto; font-feature-settings: normal; font-variatio
 n-settings: normal; font-variant-position: normal; font-weight: normal; fon
 t-stretch: normal; font-size: 7pt; line-height: normal; font-family: 'Times
  New Roman';">&nbsp;&nbsp;&nbsp;&nbsp; </span></span></b><b><span lang="DE"
  style="font-size: 12.0pt; line-height: 107%; mso-bidi-font-family: Calibri
 ; mso-bidi-theme-font: minor-latin;">Do. 19.09.2024 10:50–11:50</span></b><
 /p><p class="MsoListParagraphCxSpMiddle" style="text-indent: -18.0pt; mso-l
 ist: l0 level1 lfo1;"><b><span lang="DE" style="font-size: 12.0pt; line-hei
 ght: 107%; mso-bidi-font-family: Calibri; mso-bidi-theme-font: minor-latin;
 ">5.<span style="font-variant-numeric: normal; font-variant-east-asian: nor
 mal; font-variant-alternates: normal; font-size-adjust: none; font-kerning:
  auto; font-optical-sizing: auto; font-feature-settings: normal; font-varia
 tion-settings: normal; font-variant-position: normal; font-weight: normal; 
 font-stretch: normal; font-size: 7pt; line-height: normal; font-family: 'Ti
 mes New Roman';">&nbsp;&nbsp;&nbsp;&nbsp; </span></span></b><b><span lang="
 DE" style="font-size: 12.0pt; line-height: 107%; mso-bidi-font-family: Cali
 bri; mso-bidi-theme-font: minor-latin;">Do. 26.09.2024 10:50–11:50</span></
 b></p><p class="MsoListParagraphCxSpMiddle" style="text-indent: -18.0pt; ms
 o-list: l0 level1 lfo1;"><b><span lang="DE" style="font-size: 12.0pt; line-
 height: 107%; mso-bidi-font-family: Calibri; mso-bidi-theme-font: minor-lat
 in;">6.<span style="font-variant-numeric: normal; font-variant-east-asian: 
 normal; font-variant-alternates: normal; font-size-adjust: none; font-kerni
 ng: auto; font-optical-sizing: auto; font-feature-settings: normal; font-va
 riation-settings: normal; font-variant-position: normal; font-weight: norma
 l; font-stretch: normal; font-size: 7pt; line-height: normal; font-family: 
 'Times New Roman';">&nbsp;&nbsp;&nbsp;&nbsp; </span></span></b><b><span lan
 g="DE" style="font-size: 12.0pt; line-height: 107%; mso-bidi-font-family: C
 alibri; mso-bidi-theme-font: minor-latin;">Do. 03.10.2024 10:50–11:50</span
 ></b></p><p class="MsoListParagraphCxSpMiddle" style="text-indent: -18.0pt;
  mso-list: l0 level1 lfo1;"><b><span lang="DE" style="font-size: 12.0pt; li
 ne-height: 107%; mso-bidi-font-family: Calibri; mso-bidi-theme-font: minor-
 latin;">7.<span style="font-variant-numeric: normal; font-variant-east-asia
 n: normal; font-variant-alternates: normal; font-size-adjust: none; font-ke
 rning: auto; font-optical-sizing: auto; font-feature-settings: normal; font
 -variation-settings: normal; font-variant-position: normal; font-weight: no
 rmal; font-stretch: normal; font-size: 7pt; line-height: normal; font-famil
 y: 'Times New Roman';">&nbsp;&nbsp;&nbsp;&nbsp; </span></span></b><b><span 
 lang="DE" style="font-size: 12.0pt; line-height: 107%; mso-bidi-font-family
 : Calibri; mso-bidi-theme-font: minor-latin;">Do. 10.10.2024 10:50–11:50</s
 pan></b></p><p class="MsoListParagraphCxSpMiddle" style="text-indent: -18.0
 pt; mso-list: l0 level1 lfo1;"><b><span lang="DE" style="font-size: 12.0pt;
  line-height: 107%; mso-bidi-font-family: Calibri; mso-bidi-theme-font: min
 or-latin;">8.<span style="font-variant-numeric: normal; font-variant-east-a
 sian: normal; font-variant-alternates: normal; font-size-adjust: none; font
 -kerning: auto; font-optical-sizing: auto; font-feature-settings: normal; f
 ont-variation-settings: normal; font-variant-position: normal; font-weight:
  normal; font-stretch: normal; font-size: 7pt; line-height: normal; font-fa
 mily: 'Times New Roman';">&nbsp;&nbsp;&nbsp;&nbsp; </span></span></b><b><sp
 an lang="DE" style="font-size: 12.0pt; line-height: 107%; mso-bidi-font-fam
 ily: Calibri; mso-bidi-theme-font: minor-latin;">Di. 15.10.2024 18:00–18:50
  GesprächsRaum online</span></b></p><p class="MsoListParagraphCxSpMiddle" s
 tyle="text-indent: -18.0pt; mso-list: l0 level1 lfo1;"><b><span lang="DE" s
 tyle="font-size: 12.0pt; line-height: 107%; mso-bidi-font-family: Calibri; 
 mso-bidi-theme-font: minor-latin;">9.<span style="font-variant-numeric: nor
 mal; font-variant-east-asian: normal; font-variant-alternates: normal; font
 -size-adjust: none; font-kerning: auto; font-optical-sizing: auto; font-fea
 ture-settings: normal; font-variation-settings: normal; font-variant-positi
 on: normal; font-weight: normal; font-stretch: normal; font-size: 7pt; line
 -height: normal; font-family: 'Times New Roman';">&nbsp;&nbsp;&nbsp;&nbsp; 
 </span></span></b><b><span lang="DE" style="font-size: 12.0pt; line-height:
  107%; mso-bidi-font-family: Calibri; mso-bidi-theme-font: minor-latin;">Do
 . 17.10.2024 10:50–11:50</span></b></p><p class="MsoListParagraphCxSpMiddle
 " style="text-indent: -18.0pt; mso-list: l0 level1 lfo1;"><b><span lang="DE
 " style="font-size: 12.0pt; line-height: 107%; mso-bidi-font-family: Calibr
 i; mso-bidi-theme-font: minor-latin;">10.<span style="font-variant-numeric:
  normal; font-variant-east-asian: normal; font-variant-alternates: normal; 
 font-size-adjust: none; font-kerning: auto; font-optical-sizing: auto; font
 -feature-settings: normal; font-variation-settings: normal; font-variant-po
 sition: normal; font-weight: normal; font-stretch: normal; font-size: 7pt; 
 line-height: normal; font-family: 'Times New Roman';">&nbsp; </span></span>
 </b><b><span lang="DE" style="font-size: 12.0pt; line-height: 107%; mso-bid
 i-font-family: Calibri; mso-bidi-theme-font: minor-latin;">Do. 24.10.2024 1
 0:50–11:50</span></b></p><p style="box-sizing: border-box; margin: 0.8rem 0
 px 0.2rem; color: #212529; font-family: Titillium, sans-serif; font-size: 1
 6px;">&nbsp;</p><p class="MsoListParagraphCxSpLast" style="text-indent: -18
 .0pt; mso-list: l0 level1 lfo1;"><b><span lang="DE" style="font-size: 12.0p
 t; line-height: 107%; mso-bidi-font-family: Calibri; mso-bidi-theme-font: m
 inor-latin;">11.<span style="font-variant-numeric: normal; font-variant-eas
 t-asian: normal; font-variant-alternates: normal; font-size-adjust: none; f
 ont-kerning: auto; font-optical-sizing: auto; font-feature-settings: normal
 ; font-variation-settings: normal; font-variant-position: normal; font-weig
 ht: normal; font-stretch: normal; font-size: 7pt; line-height: normal; font
 -family: 'Times New Roman';">&nbsp; </span></span></b><b><span lang="DE" st
 yle="font-size: 12.0pt; line-height: 107%; mso-bidi-font-family: Calibri; m
 so-bidi-theme-font: minor-latin;">Do. 07.11.2024 10:50–11:50</span></b></p>
 <p style="box-sizing: border-box; margin: 0.8rem 0px 0.2rem; color: #212529
 ; font-family: Titillium, sans-serif; font-size: 16px;">Einstieg in den Kur
 s ist jederzeit möglich, sofern Platz ist. Es gilt der aliquote Kursbeitrag
  ab Einstiegsdatum!</p>
CONTACT:tini@tiniskinderzimmer.at , 0699 17 36 01 95
X-EXTRAINFO:[preis='2200'][anmeldung='true']
DTSTAMP:20260423T144535
DTSTART:20240905T085000
DTEND:20240905T095000
SEQUENCE:0
RRULE:FREQ=WEEKLY;UNTIL=20241108T000000Z;INTERVAL=1;BYDAY=TH
EXDATE:20241031T095000
TRANSP:OPAQUE
END:VEVENT
END:VCALENDAR