BEGIN:VCALENDAR
VERSION:2.0
PRODID:-//jEvents 2.0 for Joomla//EN
CALSCALE:GREGORIAN
METHOD:PUBLISH
BEGIN:VEVENT
UID:0ea1ec3584271d8bf5cb62947ae3d388
CATEGORIES:2. Bezirk
CREATED:20240909T104913
SUMMARY:Bewegungsreich Krabbelalter bis 16 Monate TINIS KINDERZIMMER
LOCATION:Tini's Kinderzimmer
DESCRIPTION:<p style="box-sizing: border-box; margin: 0.8rem 0px 0.2rem; color: #212529
 ; font-family: Titillium, sans-serif; font-size: 16px;">Im Bewegungsreich w
 erden Kinder auf spielerische Weise gefördert. Das Angebot bietet eine Viel
 zahl von Aktivitäten, die die motorische Entwicklung und Koordination verbe
 ssern. Darüber hinaus kann das Bewegungsreich dazu beitragen, das Selbstbew
 usstsein und das Selbstvertrauen der Kinder zu stärken. Es bietet auch eine
  großartige Gelegenheit, soziale Kontakte zu knüpfen und die sozialen Fähig
 keiten zu verbessern.</p><p style="box-sizing: border-box; margin: 0.8rem 0
 px 0.2rem; color: #212529; font-family: Titillium, sans-serif; font-size: 1
 6px;">Die Aktivitäten sind auf die Bedürfnisse der Kinder abgestimmt und bi
 eten eine sichere Umgebung für sie, um zu lernen und zu wachsen.</p><p styl
 e="box-sizing: border-box; margin: 0.8rem 0px 0.2rem; color: #212529; font-
 family: Titillium, sans-serif; font-size: 16px;">Eine typische Einheit im B
 ewegungsreich beginnt mit gemeinsamen Liedern und Bewegungsübungen. Im Ansc
 hluss haben die Kinder die Möglichkeit, sich frei im Raum zu bewegen und se
 lbstständig zu entdecken. Die Eltern begleiten ihre Kinder dabei und können
  ihnen helfen, wenn sie Unterstützung benötigen.</p><p style="box-sizing: b
 order-box; margin: 0.8rem 0px 0.2rem; color: #212529; font-family: Titilliu
 m, sans-serif; font-size: 16px;">Gebühr pro Kind 228€ für 12 Einheiten</p><
 p style="box-sizing: border-box; margin: 0.8rem 0px 0.2rem; color: #212529;
  font-family: Titillium, sans-serif; font-size: 16px;">Zwillinge: 408€ insg
 esamt</p><p style="box-sizing: border-box; margin: 0.8rem 0px 0.2rem; color
 : #212529; font-family: Titillium, sans-serif; font-size: 16px;">Termine:</
 p><ol class="toggable-list toggable" style="box-sizing: border-box; margin-
 top: 0px; margin-bottom: 1rem; list-style: none; padding-left: 0px; color: 
 #212529; font-family: Titillium, sans-serif; font-size: 0.9rem;"><li style=
 "box-sizing: border-box; font-size: 0.9rem; position: relative; margin: 0.4
 rem 0px 0.4rem calc(25px + 0.5rem);">Mi. 11.09.2024 09:30–10:20</li><li sty
 le="box-sizing: border-box; font-size: 0.9rem; position: relative; margin: 
 0.4rem 0px 0.4rem calc(25px + 0.5rem);">Mi. 18.09.2024 09:30–10:20</li><li 
 style="box-sizing: border-box; font-size: 0.9rem; position: relative; margi
 n: 0.4rem 0px 0.4rem calc(25px + 0.5rem);">Mi. 25.09.2024 09:30–10:20</li><
 li style="box-sizing: border-box; font-size: 0.9rem; position: relative; ma
 rgin: 0.4rem 0px 0.4rem calc(25px + 0.5rem);">Mi. 02.10.2024 09:30–10:20</l
 i><li style="box-sizing: border-box; font-size: 0.9rem; position: relative;
  margin: 0.4rem 0px 0.4rem calc(25px + 0.5rem);">Mi. 09.10.2024 09:30–10:20
 </li><li style="box-sizing: border-box; font-size: 0.9rem; position: relati
 ve; margin: 0.4rem 0px 0.4rem calc(25px + 0.5rem);">Mi. 16.10.2024 09:30–10
 :20</li><li style="box-sizing: border-box; font-size: 0.9rem; position: rel
 ative; margin: 0.4rem 0px 0.4rem calc(25px + 0.5rem);">Mi. 23.10.2024 09:30
 –10:20</li><li style="box-sizing: border-box; font-size: 0.9rem; position: 
 relative; margin: 0.4rem 0px 0.4rem calc(25px + 0.5rem);">Mi. 06.11.2024 09
 :30–10:20</li><li style="box-sizing: border-box; font-size: 0.9rem; positio
 n: relative; margin: 0.4rem 0px 0.4rem calc(25px + 0.5rem);">Mi. 13.11.2024
  09:30–10:20</li><li style="box-sizing: border-box; font-size: 0.9rem; posi
 tion: relative; margin: 0.4rem 0px 0.4rem calc(25px + 0.5rem);">Mi. 20.11.2
 024 09:30–10:20</li><li style="box-sizing: border-box; font-size: 0.9rem; p
 osition: relative; margin: 0.4rem 0px 0.4rem calc(25px + 0.5rem);">Mi. 27.1
 1.2024 09:30–10:20</li><li style="box-sizing: border-box; font-size: 0.9rem
 ; position: relative; margin: 0.4rem 0px 0.4rem calc(25px + 0.5rem);">Mi. 0
 4.12.2024 09:30–10:20</li></ol><p style="box-sizing: border-box; margin: 0.
 8rem 0px 0.2rem; color: #212529; font-family: Titillium, sans-serif; font-s
 ize: 16px;">Einstieg in den Kurs ist jederzeit möglich, sofern Platz ist. E
 s gilt der aliquote Kursbeitrag ab Einstiegsdatum!</p>
CONTACT:tini@tiniskinderzimmer.at , 0699 17 36 01 95
X-EXTRAINFO:[preis='1900'][anmeldung='true']
DTSTAMP:20260423T202735
DTSTART:20240911T073000
DTEND:20240911T082000
SEQUENCE:0
TRANSP:OPAQUE
END:VEVENT
END:VCALENDAR