BEGIN:VCALENDAR
VERSION:2.0
PRODID:-//jEvents 2.0 for Joomla//EN
CALSCALE:GREGORIAN
METHOD:PUBLISH
BEGIN:VEVENT
UID:19eb3f4205dbc93c5d8ae207b341c5f5
CATEGORIES:18. Bezirk
CREATED:20240911T121209
SUMMARY:Mit allen Sinnen am Montag
LOCATION:Spielringel  Mollgasse  11-13
DESCRIPTION:Mit allen Sinnen am MontagSinneserlebnis für Kinder ab dem Krabbelalter bis
  3 Jahren Montag 10:00-11:00\n\nKosten: €20,- pro Kind mit Begleitperson fü
 r einen Termin\nDie Kinder können nach Herzenslust mit verschiedenen Materi
 alien (wie zum Beispiel Reis, Wasser, selbstgemachten Fingerfarben und Schl
 eim) matschen, gatschen, schütten, spielen und experimentieren. Dabei werde
 n ihre sensomotorischen Fähigkeiten und ihre Kreativität gefördert. Die Elt
 ern haben die Möglichkeit, ihre Kinder in dieser Entdeckungsreise zu beglei
 ten und zu unterstützen.\nDein Baby wird schmutzig werden. Am besten du läs
 st es in Windeln oder Unterhose spielen oder ziehst ihm Gewand an, dass auc
 h schmutzig werden darf und vergiss nicht ein Handtuch und Wechselgewand mi
 tzunehmen!\nDieses Sinnneserlebnis ist für Kinder ab dem Krabbelalter bis z
 u 3 Jahren geeignet.\n \n
X-ALT-DESC;FMTTYPE=text/html:<header class="frame-header" style="box-sizing: border-box;"><h2 class="ele
 ment-header" style="box-sizing: border-box; margin-top: 0px; margin-bottom:
  0.5rem; font-family: Montserrat; font-weight: 300; line-height: 1.2; font-
 size: 2.275rem;">Mit allen Sinnen am Montag</h2><h4 style="box-sizing: bord
 er-box; margin-top: 0px; margin-bottom: 1rem; font-family: Montserrat; font
 -weight: 300; line-height: 1.2; font-size: 1.625rem;">Sinneserlebnis für Ki
 nder ab dem Krabbelalter bis 3 Jahren</h4></header><div class="frame-contai
 ner" style="box-sizing: border-box; position: relative; width: 815px; paddi
 ng-right: 0px; padding-left: 0px; margin-right: auto; margin-left: auto; ma
 x-width: 1140px; margin-bottom: 0px;"><div class="frame-inner" style="box-s
 izing: border-box;"><div class="textpic textpic-right" style="box-sizing: b
 order-box; display: flex; flex-wrap: wrap; margin-left: -20px; margin-right
 : -20px; margin-bottom: 0px;"><div class="textpic-item textpic-gallery" sty
 le="box-sizing: border-box; order: 2; width: 427.5px; padding-left: 20px; p
 adding-right: 20px; margin-bottom: 0px;"><div class="gallery-row" style="bo
 x-sizing: border-box; display: flex; flex-wrap: wrap; margin-left: -0.5rem;
  margin-right: -0.5rem; margin-bottom: -1rem;"><div class="gallery-item gal
 lery-item-size-1" style="box-sizing: border-box; padding-left: 0.5rem; padd
 ing-right: 0.5rem; width: 403.5px;">&nbsp;</div></div></div><div class="tex
 tpic-item textpic-text" style="box-sizing: border-box; order: 1; width: 427
 .5px; padding-left: 20px; padding-right: 20px; margin-bottom: 0px;"><p styl
 e="box-sizing: border-box; margin-top: 0px; margin-bottom: 1rem; color: #2b
 2b2b; font-family: Roboto; font-size: 16px;">Montag 10:00-11:00</p><p style
 ="box-sizing: border-box; margin-top: 0px; margin-bottom: 1rem; color: #2b2
 b2b; font-family: Roboto; font-size: 16px;"><span class="text-primary font-
 weight-bold" style="box-sizing: border-box; font-weight: 700 !important; co
 lor: #158795 !important;"></span></p><p style="box-sizing: border-box; marg
 in-top: 0px; margin-bottom: 1rem; color: #2b2b2b; font-family: Roboto; font
 -size: 16px;"><span class="text-primary font-weight-bold" style="box-sizing
 : border-box; font-weight: 700 !important; color: #158795 !important;">Kost
 en:&nbsp;</span>€20,- pro Kind mit Begleitperson für einen Termin</p><p sty
 le="box-sizing: border-box; margin-top: 0px; margin-bottom: 1rem; color: #2
 b2b2b; font-family: Roboto; font-size: 16px;">Die Kinder können nach Herzen
 slust mit verschiedenen Materialien (wie zum Beispiel Reis, Wasser, selbstg
 emachten Fingerfarben und Schleim) matschen, gatschen, schütten, spielen un
 d experimentieren. Dabei werden ihre sensomotorischen Fähigkeiten und ihre 
 Kreativität gefördert. Die Eltern haben die Möglichkeit, ihre Kinder in die
 ser Entdeckungsreise zu begleiten und zu unterstützen.</p><p style="box-siz
 ing: border-box; margin-top: 0px; margin-bottom: 1rem; color: #2b2b2b; font
 -family: Roboto; font-size: 16px;">Dein Baby wird schmutzig werden. Am best
 en du lässt es in Windeln oder Unterhose spielen oder ziehst ihm Gewand an,
  dass auch schmutzig werden darf und vergiss nicht ein Handtuch und Wechsel
 gewand mitzunehmen!</p><p style="box-sizing: border-box; margin-top: 0px; m
 argin-bottom: 1rem; color: #2b2b2b; font-family: Roboto; font-size: 16px;">
 <br style="box-sizing: border-box;" />Dieses Sinnneserlebnis ist für Kinder
  ab dem Krabbelalter bis zu 3 Jahren geeignet.</p><p>&nbsp;</p></div></div>
 </div></div>
CONTACT:www.spielringel.at
X-EXTRAINFO:[preis='2000'][anmeldung='true']
DTSTAMP:20260423T162704
DTSTART:20240916T080000
DTEND:20240916T150000
SEQUENCE:0
TRANSP:OPAQUE
END:VEVENT
END:VCALENDAR