BEGIN:VCALENDAR
VERSION:2.0
PRODID:-//jEvents 2.0 for Joomla//EN
CALSCALE:GREGORIAN
METHOD:PUBLISH
BEGIN:VEVENT
UID:5d1cdf8209c7482a579929b7f4d88915
CATEGORIES:18. Bezirk
CREATED:20240911T121353
SUMMARY:Mit allen Sinnen am Montag
LOCATION:Spielringel  Mollgasse  11-13
DESCRIPTION:Mit allen Sinnen am MontagSinneserlebnis für Kinder ab dem Krabbelalter bis
  3 Jahren Montag 10:00-11:00\nKosten: €20,- pro Kind mit Begleitperson für 
 einen Termin\nDie Kinder können nach Herzenslust mit verschiedenen Material
 ien (wie zum Beispiel Reis, Wasser, selbstgemachten Fingerfarben und Schlei
 m) matschen, gatschen, schütten, spielen und experimentieren. Dabei werden 
 ihre sensomotorischen Fähigkeiten und ihre Kreativität gefördert. Die Elter
 n haben die Möglichkeit, ihre Kinder in dieser Entdeckungsreise zu begleite
 n und zu unterstützen.\nDein Baby wird schmutzig werden. Am besten du lässt
  es in Windeln oder Unterhose spielen oder ziehst ihm Gewand an, dass auch 
 schmutzig werden darf und vergiss nicht ein Handtuch und Wechselgewand mitz
 unehmen!\nDieses Sinnneserlebnis ist für Kinder ab dem Krabbelalter bis zu 
 3 Jahren geeignet.\n
X-ALT-DESC;FMTTYPE=text/html:<header class="frame-header" style="box-sizing: border-box; color: #2b2b2b;
  font-family: Roboto; font-size: 16px;"><h2 class="element-header" style="b
 ox-sizing: border-box; margin-top: 0px; margin-bottom: 0.5rem; font-family:
  Montserrat; font-weight: 300; line-height: 1.2; font-size: 2.275rem;">Mit 
 allen Sinnen am Montag</h2><h4 style="box-sizing: border-box; margin-top: 0
 px; margin-bottom: 1rem; font-family: Montserrat; font-weight: 300; line-he
 ight: 1.2; font-size: 1.625rem;">Sinneserlebnis für Kinder ab dem Krabbelal
 ter bis 3 Jahren</h4></header><div class="frame-container" style="box-sizin
 g: border-box; position: relative; width: 815px; padding-right: 0px; paddin
 g-left: 0px; margin-right: auto; margin-left: auto; max-width: 1140px; marg
 in-bottom: 0px; color: #2b2b2b; font-family: Roboto; font-size: 16px;"><div
  class="frame-inner" style="box-sizing: border-box;"><div class="textpic te
 xtpic-right" style="box-sizing: border-box; display: flex; flex-wrap: wrap;
  margin-left: -20px; margin-right: -20px; margin-bottom: 0px;"><div class="
 textpic-item textpic-gallery" style="box-sizing: border-box; order: 2; widt
 h: 427.5px; padding-left: 20px; padding-right: 20px; margin-bottom: 0px;"><
 div class="gallery-row" style="box-sizing: border-box; display: flex; flex-
 wrap: wrap; margin-left: -0.5rem; margin-right: -0.5rem; margin-bottom: -1r
 em;"><div class="gallery-item gallery-item-size-1" style="box-sizing: borde
 r-box; padding-left: 0.5rem; padding-right: 0.5rem; width: 403.5px;">&nbsp;
 </div></div></div><div class="textpic-item textpic-text" style="box-sizing:
  border-box; order: 1; width: 427.5px; padding-left: 20px; padding-right: 2
 0px; margin-bottom: 0px;"><p style="box-sizing: border-box; margin-top: 0px
 ; margin-bottom: 1rem;">Montag 10:00-11:00</p><p style="box-sizing: border-
 box; margin-top: 0px; margin-bottom: 1rem;"><span class="text-primary font-
 weight-bold" style="box-sizing: border-box; font-weight: 700 !important; co
 lor: #158795 !important;">Kosten:&nbsp;</span>€20,- pro Kind mit Begleitper
 son für einen Termin</p><p style="box-sizing: border-box; margin-top: 0px; 
 margin-bottom: 1rem;">Die Kinder können nach Herzenslust mit verschiedenen 
 Materialien (wie zum Beispiel Reis, Wasser, selbstgemachten Fingerfarben un
 d Schleim) matschen, gatschen, schütten, spielen und experimentieren. Dabei
  werden ihre sensomotorischen Fähigkeiten und ihre Kreativität gefördert. D
 ie Eltern haben die Möglichkeit, ihre Kinder in dieser Entdeckungsreise zu 
 begleiten und zu unterstützen.</p><p style="box-sizing: border-box; margin-
 top: 0px; margin-bottom: 1rem;">Dein Baby wird schmutzig werden. Am besten 
 du lässt es in Windeln oder Unterhose spielen oder ziehst ihm Gewand an, da
 ss auch schmutzig werden darf und vergiss nicht ein Handtuch und Wechselgew
 and mitzunehmen!</p><p style="box-sizing: border-box; margin-top: 0px; marg
 in-bottom: 1rem;"><br style="box-sizing: border-box;" />Dieses Sinnneserleb
 nis ist für Kinder ab dem Krabbelalter bis zu 3 Jahren geeignet.</p></div><
 /div></div></div>
CONTACT:www.spielringel.at
X-EXTRAINFO:[preis='2000'][anmeldung='true']
DTSTAMP:20260423T144435
DTSTART:20240923T080000
DTEND:20240923T150000
SEQUENCE:0
TRANSP:OPAQUE
END:VEVENT
END:VCALENDAR