BEGIN:VCALENDAR
VERSION:2.0
PRODID:-//jEvents 2.0 for Joomla//EN
CALSCALE:GREGORIAN
METHOD:PUBLISH
BEGIN:VEVENT
UID:162932437d0f52c91892e745c3a93753
CATEGORIES:18. Bezirk
CREATED:20240911T121633
SUMMARY:Mit allen Sinnen am Donnerstag Nachmittag
LOCATION:Spielringel  Mollgasse  11-13
DESCRIPTION:<h2 class="element-header" style="box-sizing: border-box; margin-top: 0px; 
 margin-bottom: 0.5rem; font-family: Montserrat; font-weight: 300; line-heig
 ht: 1.2; font-size: 2.275rem; color: #2b2b2b;">Mit allen Sinnen am Donnerst
 ag Nachmittag</h2><h4 style="box-sizing: border-box; margin-top: 0px; margi
 n-bottom: 1rem; font-family: Montserrat; font-weight: 300; line-height: 1.2
 ; font-size: 1.625rem; color: #2b2b2b;">Sinneserlebnis für Kinder ab dem Kr
 abbelalter bis 3 Jahren</h4><p style="box-sizing: border-box; margin-top: 0
 px; margin-bottom: 1rem; color: #2b2b2b; font-family: Roboto; font-size: 16
 px;">Donnerstag 13:30-14:30</p><p style="box-sizing: border-box; margin-top
 : 0px; margin-bottom: 1rem; color: #2b2b2b; font-family: Roboto; font-size:
  16px;"><span class="text-primary font-weight-bold" style="box-sizing: bord
 er-box; font-weight: 700 !important; color: #158795 !important;"></span></p
 ><p style="box-sizing: border-box; margin-top: 0px; margin-bottom: 1rem; co
 lor: #2b2b2b; font-family: Roboto; font-size: 16px;"><span class="text-prim
 ary font-weight-bold" style="box-sizing: border-box; font-weight: 700 !impo
 rtant; color: #158795 !important;">Kosten:&nbsp;</span>€20,- pro Kind mit B
 egleitperson für einen Termin</p><p style="box-sizing: border-box; margin-t
 op: 0px; margin-bottom: 1rem; color: #2b2b2b; font-family: Roboto; font-siz
 e: 16px;">Die Kinder können nach Herzenslust mit verschiedenen Materialien 
 (wie zum Beispiel Reis, Wasser, selbstgemachten Fingerfarben und Schleim) m
 atschen, gatschen, schütten, spielen und experimentieren. Dabei werden ihre
  sensomotorischen Fähigkeiten und ihre Kreativität gefördert. Die Eltern ha
 ben die Möglichkeit, ihre Kinder in dieser Entdeckungsreise zu begleiten un
 d zu unterstützen.</p><p style="box-sizing: border-box; margin-top: 0px; ma
 rgin-bottom: 1rem; color: #2b2b2b; font-family: Roboto; font-size: 16px;">D
 ein Baby wird schmutzig werden. Am besten du lässt es in Windeln oder Unter
 hose spielen oder ziehst ihm Gewand an, dass auch schmutzig werden darf und
  vergiss nicht ein Handtuch und Wechselgewand mitzunehmen!</p><p style="box
 -sizing: border-box; margin-top: 0px; margin-bottom: 1rem; color: #2b2b2b; 
 font-family: Roboto; font-size: 16px;"><br style="box-sizing: border-box;" 
 />Dieses Sinnneserlebnis ist für Kinder ab dem Krabbelalter bis zu 3 Jahren
  geeignet.</p>
CONTACT:www.spielringel.at
X-EXTRAINFO:[preis='2000'][anmeldung='true']
DTSTAMP:20260423T155507
DTSTART:20240926T113000
DTEND:20240926T123000
SEQUENCE:0
TRANSP:OPAQUE
END:VEVENT
END:VCALENDAR