BEGIN:VCALENDAR
VERSION:2.0
PRODID:-//jEvents 2.0 for Joomla//EN
CALSCALE:GREGORIAN
METHOD:PUBLISH
BEGIN:VEVENT
UID:95d9e9e79c073cd3139bff8536f77e40
CATEGORIES:2. Bezirk
CREATED:19700101T010000
SUMMARY:Multisensorische Entdeckungswelt, 14 Monate bis 3 Jahre,  TINIS KINDERZIMMER
LOCATION:Tini's Kinderzimmer
DESCRIPTION:<p style="box-sizing: border-box; margin: 0.8rem 0px 0.2rem; color: #212529
 ; font-family: Titillium, sans-serif; font-size: 16px;">In der “Multisensor
 ischen Entdeckungswelt” entdecken Kleinkinder die Welt mit all ihren Sinnen
 . Der Kurs bietet eine Vielzahl von Aktivitäten, die speziell darauf ausger
 ichtet sind, die sensorische Wahrnehmung der Kinder zu fördern und zu erwei
 tern.</p><p style="box-sizing: border-box; margin: 0.8rem 0px 0.2rem; color
 : #212529; font-family: Titillium, sans-serif; font-size: 16px;"><span styl
 e="box-sizing: border-box;">Schwerpunkte des Kurses:</span></p><p style="bo
 x-sizing: border-box; margin: 0.8rem 0px 0.2rem; color: #212529; font-famil
 y: Titillium, sans-serif; font-size: 16px;">Sensory Play:<i style="box-sizi
 ng: border-box;"></i>Spielerische Aktivitäten, die die Sinne anregen und di
 e sensorische Integration unterstützen. Wir arbeiten mit verschiedenen Mate
 rialien wie Reis, Linsen und anderem Kleinmaterial, um unterschiedliche sen
 sorische Erfahrungen zu ermöglichen.<br style="box-sizing: border-box;" /><
 br style="box-sizing: border-box;" />Sinne erfahren: Verschiedene Stationen
  und Materialien, die den Tastsinn, Geruchssinn, Hörsinn und Sehsinn anspre
 chen.<br style="box-sizing: border-box;" /><br style="box-sizing: border-bo
 x;" />Kreatives Gestalten: Bastel- und Malprojekte, die die Feinmotorik und
  Kreativität fördern.<br style="box-sizing: border-box;" /><br style="box-s
 izing: border-box;" />Bewegungsspiele: Aktivitäten, die die grobmotorischen
  Fähigkeiten und das Körperbewusstsein stärken.<br style="box-sizing: borde
 r-box;" /><br style="box-sizing: border-box;" />Musik und Rhythmus: Musikal
 ische Einheiten, die das Rhythmusgefühl und die auditive Wahrnehmung schule
 n.<br style="box-sizing: border-box;" /><br style="box-sizing: border-box;"
  />Ziele des Kurses:</p><ul style="box-sizing: border-box; margin-top: 0px;
  margin-bottom: 1rem; color: #212529; font-family: Titillium, sans-serif; f
 ont-size: 16px;"><li style="box-sizing: border-box;">Förderung der sensoris
 chen Wahrnehmung und Integration</li><li style="box-sizing: border-box;">Un
 terstützung der motorischen Entwicklung</li><li style="box-sizing: border-b
 ox;">Stärkung der sozialen Fähigkeiten durch gemeinsames Spielen und Erlebe
 n</li><li style="box-sizing: border-box;">Anregung der Kreativität&nbsp;und
 &nbsp;Fantasie</li></ul><p style="box-sizing: border-box; margin: 0.8rem 0p
 x 0.2rem; color: #212529; font-family: Titillium, sans-serif; font-size: 16
 px;">Gebühr pro Kind 100€ für 5 Einheiten</p><p style="box-sizing: border-b
 ox; margin: 0.8rem 0px 0.2rem; color: #212529; font-family: Titillium, sans
 -serif; font-size: 16px;">Geschwisterkind ab 6 Monaten: 90€</p><p style="bo
 x-sizing: border-box; margin: 0.8rem 0px 0.2rem; color: #212529; font-famil
 y: Titillium, sans-serif; font-size: 16px;">Zwillinge: 180€ insgesamt</p><p
  style="box-sizing: border-box; margin: 0.8rem 0px 0.2rem; color: #212529; 
 font-family: Titillium, sans-serif; font-size: 16px;">TERMINE:</p><ol class
 ="toggable-list toggable" style="box-sizing: border-box; margin-top: 0px; m
 argin-bottom: 1rem; list-style: none; padding-left: 0px; color: #212529; fo
 nt-family: Titillium, sans-serif; font-size: 0.9rem;"><li style="box-sizing
 : border-box; font-size: 0.9rem; position: relative; margin: 0.4rem 0px 0.4
 rem calc(25px + 0.5rem);">Fr. 13.09.2024 09:20–10:20</li><li style="box-siz
 ing: border-box; font-size: 0.9rem; position: relative; margin: 0.4rem 0px 
 0.4rem calc(25px + 0.5rem);">Fr. 27.09.2024 09:20–10:20</li><li style="box-
 sizing: border-box; font-size: 0.9rem; position: relative; margin: 0.4rem 0
 px 0.4rem calc(25px + 0.5rem);">Fr. 04.10.2024 09:20–10:20</li><li style="b
 ox-sizing: border-box; font-size: 0.9rem; position: relative; margin: 0.4re
 m 0px 0.4rem calc(25px + 0.5rem);">Fr. 11.10.2024 09:20–10:20</li><li style
 ="box-sizing: border-box; font-size: 0.9rem; position: relative; margin: 0.
 4rem 0px 0.4rem calc(25px + 0.5rem);">Fr. 18.10.2024 09:20–10:20</li></ol><
 p style="box-sizing: border-box; margin: 0.8rem 0px 0.2rem; color: #212529;
  font-family: Titillium, sans-serif; font-size: 16px;">Einstieg in den Kurs
  ist jederzeit möglich, sofern Platz ist. Es gilt der aliquote Kursbeitrag 
 ab Einstiegsdatum!</p>
CONTACT:tini@tiniskinderzimmer.at , 0699 17 36 01 95
X-EXTRAINFO:[preis='2000'][anmeldung='true']
DTSTAMP:20260423T190343
DTSTART:20240913T072000
DTEND:20240913T082000
SEQUENCE:0
RRULE:FREQ=WEEKLY;UNTIL=20241019T000000Z;INTERVAL=1;BYDAY=FR
TRANSP:OPAQUE
END:VEVENT
END:VCALENDAR