BEGIN:VCALENDAR
VERSION:2.0
PRODID:-//jEvents 2.0 for Joomla//EN
CALSCALE:GREGORIAN
METHOD:PUBLISH
BEGIN:VEVENT
UID:c806a03c2d3c39cfbf5f84c6032db0f7
CATEGORIES:12. Bezirk
CREATED:20240912T112948
SUMMARY:Empowerment Workshop für Mamas: Dein individueller Weg zu einer wertschätzenden Beziehung zu deinem Kind
LOCATION:Familienrestaurant Careccino
DESCRIPTION:Thema: "Das hat uns früher auch nicht geschadet!" \nDein individueller Weg 
 zu einer wertschätzenden Beziehung zu deinem Kind und einer Erziehung auf A
 ugenhöhe frei von gesellschaftlichen Normen und veralterten Rollenbildern.\
 nInkl. Reflexionsübungen.\nReferentin: Daniela Schuster von mama mia (www.m
 amamiaberatung.com (https://www.mamamiaberatung.com/))\nAnmeldung: www.care
 ccino.com\n
X-ALT-DESC;FMTTYPE=text/html:<p><strong>Thema: "Das hat uns früher auch nicht geschadet!" </strong></p><
 p>Dein individueller Weg zu einer wertschätzenden Beziehung zu deinem Kind 
 und einer Erziehung auf Augenhöhe frei von gesellschaftlichen Normen und ve
 ralterten Rollenbildern.</p><p>Inkl. Reflexionsübungen.</p><p><strong>Refer
 entin: </strong>Daniela Schuster von mama mia (<a href="https://www.mamamia
 beratung.com/">www.mamamiaberatung.com</a>)</p><p><strong>Anmeldung:</stron
 g> www.careccino.com</p>
CONTACT:www.careccino.com
X-EXTRAINFO:[preis='3000'][anmeldung='true']
DTSTAMP:20260423T122511
DTSTART:20241112T140000
DTEND:20241112T153000
SEQUENCE:0
TRANSP:OPAQUE
END:VEVENT
END:VCALENDAR