BEGIN:VCALENDAR
VERSION:2.0
PRODID:-//jEvents 2.0 for Joomla//EN
CALSCALE:GREGORIAN
METHOD:PUBLISH
BEGIN:VEVENT
UID:fc2c474aaf154459f2544001553531b8
CATEGORIES:12. Bezirk
CREATED:20240912T204931
SUMMARY:Empowerment Workshop für Mamas: "Kindern liebevoll Stopp sagen"
LOCATION:Familienrestaurant Careccino
DESCRIPTION:Thema: Kindern liebevoll Stopp sagen. Wo fange ich als Mama an und wo hörst
  du auf?\nWie wichtig es für dich als Mama ist, die eigenen Grenzen zu spür
 en und zu wahren ohne deinen Kindern gegenüber laut und herrisch zu werden,
  lernst du in diesem Workshop; \n inkl. Ressourcen- und Entspannungsübungen
 .\nReferentin: Daniela Schuster von mama mia (www.mamamiaberatung.com (http
 ://www.mamamiaberatung.com))\nDirekte Workshop Buchung: www.careccino.com (
 http://www.careccino.com) \n
X-ALT-DESC;FMTTYPE=text/html:<p style="background: white; vertical-align: baseline; margin: 7.5pt 0cm 7.
 5pt 0cm;"><strong><span style="font-size: 11pt; font-family: Arial, sans-se
 rif; color: #6c7272;">Thema: Kindern liebevoll Stopp sagen. Wo fange ich al
 s Mama an und wo hörst du auf?</span></strong></p><p style="background: whi
 te; vertical-align: baseline; box-sizing: border-box; outline: 0px; font-va
 riant-ligatures: normal; font-variant-caps: normal; orphans: 2; text-align:
  start; widows: 2; -webkit-text-stroke-width: 0px; text-decoration-thicknes
 s: initial; text-decoration-style: initial; text-decoration-color: initial;
  background-position-x: 0px; background-position-y: 0px; word-spacing: 0px;
  margin: 7.5pt 0cm 7.5pt 0cm;"><span style="font-size: 11.0pt; font-family:
  'Arial',sans-serif; mso-bidi-font-family: 'Times New Roman'; color: #6c727
 2;">Wie wichtig es für dich als Mama ist, die eigenen Grenzen zu spüren und
  zu wahren ohne deinen Kindern gegenüber laut und herrisch zu werden, lerns
 t du in diesem Workshop;</span><span style="font-size: 11.0pt; font-family:
  'Arial',sans-serif; mso-bidi-font-family: 'Times New Roman'; color: #6c727
 2;"> <br /> inkl. Ressourcen- und Entspannungsübungen.</span></p><p style="
 background: white; vertical-align: baseline; margin: 7.5pt 0cm 7.5pt 0cm;">
 <span style="font-size: 11.0pt; font-family: 'Arial',sans-serif; mso-bidi-f
 ont-family: 'Times New Roman'; color: #6c7272;"><strong>Referentin: Daniela
  Schuster von mama mia</strong> (<a href="http://www.mamamiaberatung.com">w
 ww.mamamiaberatung.com</a>)</span></p><p style="background: white; vertical
 -align: baseline; margin: 7.5pt 0cm 7.5pt 0cm;"><span style="font-size: 11.
 0pt; font-family: 'Arial',sans-serif; mso-bidi-font-family: 'Times New Roma
 n'; color: #6c7272;">Direkte Workshop Buchung: <a href="http://www.careccin
 o.com">www.careccino.com</a> </span></p>
CONTACT:www.careccino.com
X-EXTRAINFO:[preis='3000'][anmeldung='true']
DTSTAMP:20260423T094743
DTSTART:20241001T130000
DTEND:20241001T143000
SEQUENCE:0
TRANSP:OPAQUE
END:VEVENT
END:VCALENDAR