BEGIN:VCALENDAR
VERSION:2.0
PRODID:-//jEvents 2.0 for Joomla//EN
CALSCALE:GREGORIAN
METHOD:PUBLISH
BEGIN:VEVENT
UID:89e05d9fc0344542e87d3a666717fecc
CATEGORIES:12. Bezirk
CREATED:20240912T205550
SUMMARY:Empowerment Workshop für Mamas: Die Giraffensprache mit Kindern sprechen
LOCATION:Familienrestaurant Careccino
DESCRIPTION:Thema: „Was brauchst du?“ Konflikte kindgerecht lösen mit der Giraffensprac
 he nach Marshall B. Rosenberg.\nUnser Ziel ist es, durch die Giraffensprach
 e eine wertschätzende Beziehung zu unseren Kindern herzustellen, in der sow
 ohl die Bedürfnisse der Kinder als auch die der Erwachsenen im Mittelpunkt 
 stehen. Durch die Giraffensprache oder gewaltfreien Kommunikation nach Rose
 nberg werden Konflikte kindgerecht gelöst und die Eltern-Kind-Beziehung auf
  Dauer gestärkt. \n Inkl. Workbook mit praktischen Übungen.\nReferentin: Da
 niela Schuster von mama mia (www.mamamiaberatung.com (http://www.mamamiaber
 atung.com))\nDirekte Workshop Buchung: www.careccino.com (http://www.carecc
 ino.com) \n
X-ALT-DESC;FMTTYPE=text/html:<p style="background: white; vertical-align: baseline; margin: 7.5pt 0cm 7.
 5pt 0cm;"><strong><span style="font-size: 11pt; font-family: Arial, sans-se
 rif; color: #6c7272;">Thema: „Was brauchst du?“ Konflikte kindgerecht lösen
  mit der Giraffensprache nach Marshall B. Rosenberg.</span></strong></p><p 
 style="background: white; vertical-align: baseline; box-sizing: border-box;
  outline: 0px; font-variant-ligatures: normal; font-variant-caps: normal; o
 rphans: 2; text-align: start; widows: 2; -webkit-text-stroke-width: 0px; te
 xt-decoration-thickness: initial; text-decoration-style: initial; text-deco
 ration-color: initial; background-position-x: 0px; background-position-y: 0
 px; word-spacing: 0px; margin: 7.5pt 0cm 7.5pt 0cm;"><span style="font-size
 : 11.0pt; font-family: 'Arial',sans-serif; mso-bidi-font-family: 'Times New
  Roman'; color: #6c7272;">Unser Ziel ist es, durch die Giraffensprache eine
  wertschätzende Beziehung zu unseren Kindern herzustellen, in der sowohl di
 e Bedürfnisse der Kinder als auch die der Erwachsenen im Mittelpunkt stehen
 . Durch die Giraffensprache oder gewaltfreien Kommunikation nach Rosenberg 
 werden Konflikte kindgerecht gelöst und die Eltern-Kind-Beziehung auf Dauer
  gestärkt. <br /> Inkl. Workbook mit praktischen Übungen.</span></p><p styl
 e="background: white; vertical-align: baseline; margin: 7.5pt 0cm 7.5pt 0cm
 ;"><span style="font-size: 11.0pt; font-family: 'Arial',sans-serif; mso-bid
 i-font-family: 'Times New Roman'; color: #6c7272;"><strong>Referentin: Dani
 ela Schuster von mama mia</strong> (<a href="http://www.mamamiaberatung.com
 ">www.mamamiaberatung.com</a>)</span></p><p style="background: white; verti
 cal-align: baseline; margin: 7.5pt 0cm 7.5pt 0cm;"><span style="font-size: 
 11.0pt; font-family: 'Arial',sans-serif; mso-bidi-font-family: 'Times New R
 oman'; color: #6c7272;">Direkte Workshop Buchung: <a href="http://www.carec
 cino.com">www.careccino.com</a> </span></p>
CONTACT:www.careccino.com
X-EXTRAINFO:[preis='3000'][anmeldung='true']
DTSTAMP:20260423T110952
DTSTART:20241015T130000
DTEND:20241015T143000
SEQUENCE:0
TRANSP:OPAQUE
END:VEVENT
END:VCALENDAR