BEGIN:VCALENDAR
VERSION:2.0
PRODID:-//jEvents 2.0 for Joomla//EN
CALSCALE:GREGORIAN
METHOD:PUBLISH
BEGIN:VEVENT
UID:3aa576b1312e79803135c1e38b452f0d
CATEGORIES:2. Bezirk
CREATED:20240917T100314
SUMMARY:Eltern wie Leuchttürme - Online Vortrag nach Jesper Juul
LOCATION:Online
DESCRIPTION:Was bedeutet elterliche Führung? Welche Führung wills Du in Deiner Famiie a
 usüben?\nAb wann ist Erziehung notwendig? \nAntworten auf diese Fragen ergr
 ünden wir gerne gemeinsam.\nMehr Info zum Vortrag (https://www.eltern-kind-
 beratung.at/elternleuchttuerme)\n
X-ALT-DESC;FMTTYPE=text/html:<p>Was bedeutet elterliche Führung? Welche Führung wills Du in Deiner Famii
 e ausüben?</p><p>Ab wann ist Erziehung notwendig?&nbsp;<br />Antworten auf 
 diese Fragen ergründen wir gerne gemeinsam.</p><p><a href="https://www.elte
 rn-kind-beratung.at/elternleuchttuerme">Mehr Info zum Vortrag</a></p>
CONTACT:hallo@eltern-kind-beratung.at
X-EXTRAINFO:[preis='2000'][anmeldung='true']
DTSTAMP:20260423T202520
DTSTART:20240918T163000
DTEND:20240918T180000
SEQUENCE:0
TRANSP:OPAQUE
END:VEVENT
END:VCALENDAR