BEGIN:VCALENDAR
VERSION:2.0
PRODID:-//jEvents 2.0 for Joomla//EN
CALSCALE:GREGORIAN
METHOD:PUBLISH
BEGIN:VEVENT
UID:8e200212f1153916a35b8653e6da8ee7
CATEGORIES:15. Bezirk
CREATED:20240917T175057
SUMMARY:TANZ UND SPIEL FÜR ELTERN & KINDER VON 1 BIS 3 JAHREN
LOCATION: Löhrgasse 10/Neubaugürtel 7 A - 1150 Wien
DESCRIPTION:…sich miteinander unter Tüchern verstecken, …mit 100 bunten Bällen spielen,
  kugeln &amp; rollen,…auf großen Bällen rollen, kugeln, purzeln und schauke
 ln, mit Luftballons spielen, Kisten durch den Raum schieben, im Konfettireg
 en sitzen, Rhythmus und Musik erleben, und das alles nicht allein, sondern 
 in der Geborgenheit einer vertrauten Gruppe.\nTA 1: Montagvormittag von 10 
 bis 11´15 Uhr,\n Leitung: Ulli Wieczorek\n Veranstaltungsort: Neubaugürtel 
 7, 1150 Wien\n 13 Vormittage, 185 Euro.\n ab 23. Sept.\nPlätze frei!\n Wir 
 bitten um Anmeldung an office@kinderatelier.at (mailto:office@kinderatelier
 .at) oder über das Kontakt-Formular. (https://www.kinderatelier.at/anmeldun
 g/)\n Versäumte Kurs-Stunde können, je nach Verfügbarkeit innerhalb des Sem
 esters nachgeholt werden.\n
X-ALT-DESC;FMTTYPE=text/html:<p>…sich miteinander unter Tüchern verstecken, …mit 100 bunten Bällen spiel
 en, kugeln &amp; rollen,…auf großen Bällen rollen, kugeln, purzeln und scha
 ukeln, mit Luftballons spielen, Kisten durch den Raum schieben, im Konfetti
 regen sitzen, Rhythmus und Musik erleben, und das alles nicht allein, sonde
 rn in der Geborgenheit einer vertrauten Gruppe.</p><p><strong><strong>TA 1<
 /strong></strong><strong>:</strong> <strong>Montagvormittag</strong> von 10
  bis 11´15 Uhr,<br /> Leitung: Ulli Wieczorek<br /> Veranstaltungsort: Neub
 augürtel 7, 1150 Wien<br /> 13 Vormittage, 185 Euro.<br /> <strong>ab 23. S
 ept.</strong></p><p><strong><span style="color: #ff0000;">Plätze frei!</spa
 n></strong><br /> Wir bitten um Anmeldung an <a href="mailto:office@kindera
 telier.at"><strong>office@kinderatelier.at</strong></a> oder über das <a hr
 ef="https://www.kinderatelier.at/anmeldung/"><strong>Kontakt-Formular.</str
 ong></a><br /> Versäumte Kurs-Stunde können, je nach Verfügbarkeit innerhal
 b des Semesters nachgeholt werden.</p>
CONTACT:Kinderatelier Wien
X-EXTRAINFO:[preis='18500'][anmeldung='true']
DTSTAMP:20260423T075743
DTSTART:20240923T080000
DTEND:20240923T091500
SEQUENCE:0
TRANSP:OPAQUE
END:VEVENT
END:VCALENDAR