BEGIN:VCALENDAR
VERSION:2.0
PRODID:-//jEvents 2.0 for Joomla//EN
CALSCALE:GREGORIAN
METHOD:PUBLISH
BEGIN:VEVENT
UID:b10b07fc76839a7bf3bbb1e4cdb11fef
CATEGORIES:15. Bezirk
CREATED:20240917T175346
SUMMARY:TANZ UND SPIEL FÜR ELTERN & KINDER VON 1 BIS 3 JAHREN
LOCATION:Löhrgasse 10/Neubaugürtel 7 A - 1150 Wien
DESCRIPTION:…sich miteinander unter Tüchern verstecken, …mit 100 bunten Bällen spielen,
  kugeln &amp; rollen,…auf großen Bällen rollen, kugeln, purzeln und schauke
 ln, mit Luftballons spielen, Kisten durch den Raum schieben, im Konfettireg
 en sitzen, Rhythmus und Musik erleben, und das alles nicht allein, sondern 
 in der Geborgenheit einer vertrauten Gruppe.\n \nTA 4: Dienstagvormittag vo
 n 10 bis 11´15 Uhr,\n Leitung: Theresa Honl (https://www.kinderatelier.at/u
 eber-uns/team/), Veranstaltungsort: Neubaugürtel 7, 1150 Wien\n 13 Vormitta
 ge, 185 Euro.\n ab 1. Okt.\n Plätze frei!\n Wir bitten um Anmeldung an offi
 ce@kinderatelier.at (mailto:office@kinderatelier.at) oder über das Kontakt-
 Formular. (https://www.kinderatelier.at/anmeldung/)\n Versäumte Kurs-Stunde
  können, je nach Verfügbarkeit innerhalb des Semesters nachgeholt werden.\n
X-ALT-DESC;FMTTYPE=text/html:<p>…sich miteinander unter Tüchern verstecken, …mit 100 bunten Bällen spiel
 en, kugeln &amp; rollen,…auf großen Bällen rollen, kugeln, purzeln und scha
 ukeln, mit Luftballons spielen, Kisten durch den Raum schieben, im Konfetti
 regen sitzen, Rhythmus und Musik erleben, und das alles nicht allein, sonde
 rn in der Geborgenheit einer vertrauten Gruppe.</p><p>&nbsp;</p><p><strong>
 TA 4</strong><strong>:</strong> <strong>Dienstagvormittag</strong> von 10 b
 is 11´15 Uhr,<br /> Leitung: <a href="https://www.kinderatelier.at/ueber-un
 s/team/"><strong>Theresa Honl</strong></a>, Veranstaltungsort: Neubaugürtel
  7, 1150 Wien<br /> 13 Vormittage, 185 Euro.<br /> <strong>ab 1. Okt.<br />
  <span style="color: #ff0000;">Plätze frei!</span><br /> </strong>Wir bitte
 n um Anmeldung an <a href="mailto:office@kinderatelier.at"><strong>office@k
 inderatelier.at</strong></a> oder über das <a href="https://www.kinderateli
 er.at/anmeldung/"><strong>Kontakt-Formular.</strong></a><br /> Versäumte Ku
 rs-Stunde können, je nach Verfügbarkeit innerhalb des Semesters nachgeholt 
 werden.</p>
CONTACT:Kinderatelier Wien 
X-EXTRAINFO:[preis='18500'][anmeldung='true']
DTSTAMP:20260423T110909
DTSTART:20241001T080000
DTEND:20241001T091500
SEQUENCE:0
TRANSP:OPAQUE
END:VEVENT
END:VCALENDAR