BEGIN:VCALENDAR
VERSION:2.0
PRODID:-//jEvents 2.0 for Joomla//EN
CALSCALE:GREGORIAN
METHOD:PUBLISH
BEGIN:VEVENT
UID:5c56e8517aae8c2c59c4292409d9e7f7
CATEGORIES:15. Bezirk
CREATED:20240917T175536
SUMMARY:TANZ UND SPIEL FÜR ELTERN & KINDER VON 1 BIS 3 JAHREN
LOCATION: Löhrgasse 10/Neubaugürtel 7 A - 1150 Wien
DESCRIPTION:…sich miteinander unter Tüchern verstecken, …mit 100 bunten Bällen spielen,
  kugeln &amp; rollen,…auf großen Bällen rollen, kugeln, purzeln und schauke
 ln, mit Luftballons spielen, Kisten durch den Raum schieben, im Konfettireg
 en sitzen, Rhythmus und Musik erleben, und das alles nicht allein, sondern 
 in der Geborgenheit einer vertrauten Gruppe.\n \nTA 8: Donnerstagvormittag 
 von 10 bis 11´15 Uhr,\n Leitung: Ulli Wieczorek (https://www.kinderatelier.
 at/ueber-uns/), Veranstaltungsort: Neubaugürtel 7, 1150 Wien\n 13 Vormittag
 e, 185 Euro.\n ab 26. Sept.\n Plätze frei!\n Wir bitten um Anmeldung an off
 ice@kinderatelier.at (mailto:office@kinderatelier.at) oder über das Kontakt
 -Formular. (https://www.kinderatelier.at/anmeldung/)\n Versäumte Kurs-Stund
 e können, je nach Verfügbarkeit innerhalb des Semesters nachgeholt werden.\
 n
X-ALT-DESC;FMTTYPE=text/html:<p>…sich miteinander unter Tüchern verstecken, …mit 100 bunten Bällen spiel
 en, kugeln &amp; rollen,…auf großen Bällen rollen, kugeln, purzeln und scha
 ukeln, mit Luftballons spielen, Kisten durch den Raum schieben, im Konfetti
 regen sitzen, Rhythmus und Musik erleben, und das alles nicht allein, sonde
 rn in der Geborgenheit einer vertrauten Gruppe.</p><p>&nbsp;</p><p><strong>
 TA 8</strong><strong>:</strong> <strong>Donnerstagvormittag</strong> von 10
  bis 11´15 Uhr,<strong><br /> </strong>Leitung: <strong><a href="https://ww
 w.kinderatelier.at/ueber-uns/">Ulli Wieczorek</a>,</strong> Veranstaltungso
 rt: Neubaugürtel 7, 1150 Wien<br /> 13 Vormittage, 185 Euro.<br /> <strong>
 ab 26. Sept.<br /> <span style="color: #ff0000;">Plätze frei!</span></stron
 g><br /> Wir bitten um Anmeldung an <a href="mailto:office@kinderatelier.at
 "><strong>office@kinderatelier.at</strong></a> oder über das <a href="https
 ://www.kinderatelier.at/anmeldung/"><strong>Kontakt-Formular.</strong></a><
 br /> Versäumte Kurs-Stunde können, je nach Verfügbarkeit innerhalb des Sem
 esters nachgeholt werden.</p>
CONTACT:Kinderatelier Wien 
X-EXTRAINFO:[preis='18500'][anmeldung='true']
DTSTAMP:20260423T080721
DTSTART:20240926T080000
DTEND:20240926T091500
SEQUENCE:0
TRANSP:OPAQUE
END:VEVENT
END:VCALENDAR