BEGIN:VCALENDAR
VERSION:2.0
PRODID:-//jEvents 2.0 for Joomla//EN
CALSCALE:GREGORIAN
METHOD:PUBLISH
BEGIN:VEVENT
UID:cad95944f40a0cd1c6551a230abff071
CATEGORIES:19. Bezirk
CREATED:20240921T160606
SUMMARY:Mommy to be Treffen
LOCATION:Liechtenwerder Platz 4/1\, 1190 Wien
DESCRIPTION:Liebe Mommy to be,\nsehnst Du Dich nach Austausch mit anderen Schwangeren? 
 Einem geschützten Raum, in dem auch deine ganz eigenen Themen, Fragen und S
 orgen ihren Platz haben?\nBei unseren Schwangerentreffen findest Du genau d
 as!\nTausch‘ dich aus mit anderen Frauen und hol‘ dir wertvolle Tipps &amp;
  Tricks für deine Kugel- und Babyzeit von uns.\nBei Tee und Knabbereien sit
 zen wir gemütlich beisammen und nehmen uns bewusst eine kleine Auszeit vom 
 Alltag.\n
X-ALT-DESC;FMTTYPE=text/html:<p data-pm-slice="1 1 []">Liebe Mommy to be,</p><p>sehnst Du Dich nach Aust
 ausch mit anderen Schwangeren? Einem geschützten Raum, in dem auch deine ga
 nz eigenen Themen, Fragen und Sorgen ihren Platz haben?</p><p>Bei unseren S
 chwangerentreffen findest Du genau das!</p><p>Tausch‘ dich aus mit anderen 
 Frauen und hol‘ dir wertvolle Tipps &amp; Tricks für deine Kugel- und Babyz
 eit von uns.</p><p>Bei Tee und Knabbereien sitzen wir gemütlich beisammen u
 nd nehmen uns bewusst eine kleine Auszeit vom Alltag.</p>
CONTACT:Kleines Glück - Hebammenordination
X-EXTRAINFO:[preis='2500'][anmeldung='true']
DTSTAMP:20260423T110818
DTSTART:20241002T171500
DTEND:20241002T183000
SEQUENCE:0
TRANSP:OPAQUE
END:VEVENT
END:VCALENDAR