BEGIN:VCALENDAR
VERSION:2.0
PRODID:-//jEvents 2.0 for Joomla//EN
CALSCALE:GREGORIAN
METHOD:PUBLISH
BEGIN:VEVENT
UID:8e4d1ee6e06f5d4bbbc7ce923f592278
CATEGORIES:2. Bezirk
CREATED:20240928T091846
SUMMARY:FAMILY-Workout im Augarten
LOCATION:Augarten 
DESCRIPTION:<p>FAMILY-Workout mit Bootcamp <br /><br />Am Sonntag, dem 29. September, f
 indet im Augarten ein outdoor Family-Workout statt, bei dem ihr die Qual de
 r Wahl habt:<br /><br />entweder ihr seid bei Adri's regulärem Vormittagstr
 aining oder bei meinem Bootcamp dabei! Kinder ab 2 Jahren sind bei Citalli'
 s Kidsfit herzlich willkommen. <br /><br />Das Bootcamp richtet sich an all
 e, die sich sportlich etwas mehr herausfordern möchten. <br /><br />Wann: S
 onntag, 29.9.2024<br />Uhrzeit: 10.00 Uhr<br />Treffpunkt: Wiese Eingang Ga
 ußplatz<br />Wo: Augarten, Wien <br /><br />Bringt bitte etwas zu Trinken m
 it. <br />Hinein ins Sportgewand - und los geht's!<br /><br />Weitere Infor
 mationen zu meinen Workouts findet ihr auch hier: <a href="https://www.nina
 bewegt.com">www.ninabewegt.com</a><br /><br />Wie ein Training aussehen kan
 n, seht ihr auch hier: <a href="https://www.instagram.com/nina_bewegt">www.
 instagram.com/nina_bewegt</a> <br /><br />Fragen? Dann wendet euch bitte ei
 nfach an mich!<br />Wir freuen uns auf euch!</p>
CONTACT:Mag. Nina Zadina-Benedikt
X-EXTRAINFO:[preis='1200'][anmeldung='false']
DTSTAMP:20260423T190303
DTSTART:20240929T080000
DTEND:20240929T090000
SEQUENCE:0
TRANSP:OPAQUE
END:VEVENT
END:VCALENDAR