BEGIN:VCALENDAR
VERSION:2.0
PRODID:-//jEvents 2.0 for Joomla//EN
CALSCALE:GREGORIAN
METHOD:PUBLISH
BEGIN:VEVENT
UID:f91f343c69e642998b44365030be3b72
CATEGORIES:2. Bezirk
CREATED:19700101T010000
SUMMARY:Babyzeichensprache, 5-18 Monate in Tini's Kinderzimmer
LOCATION:Tini's Kinderzimmer
DESCRIPTION:Babys kommunizieren von Geburt an mit Hilfe von Mimik und Gestik mit ihrer 
 Umgebung. Wir bringen ihnen automatisch einfache Handzeichen bei, damit sie
  sich besser mitteilen können, wie „winken, klatschen, Bussi schicken“.In d
 iesem Kurs erlernst du bis zu 100 weitere einfache Handzeichen, die den Bab
 ys und Kleinkinder ermöglichen, sich schon früh auszudrücken. So kannst du 
 dein Kind verstehen, bevor es noch sprechen kann.\nAuf spielerische Art und
  Weise lernen dein Baby und du mit Hilfe von von Liedern, Tänzen, Reimen un
 d Bilderbüchern in einer entspannten Atmosphäre die Babyzeichen. Ihr werdet
  überrascht sein, wie viel eure Zwerge schon in frühem Alter ausdrücken wol
 len und können. Sie brauchen von uns nur das Werkzeug dazu.\nVorteile· Baby
 zeichen ermöglichen Einblicke in die Gedankenwelt deiner Babys und Kinder· 
 Babyzeichen erleichtern das Verstehen und Lernen von Worten· Frustration vo
 n Eltern und Kind wird verringert· Verstehen und verstanden werden macht gl
 ücklich · Gemeinsames Musizieren, Tanzen &amp; Spaß haben\nGebühr pro Kind 
 200€ für 10 Einheiten\nZwillinge: 360€ insgesamt\nTermine:\nDi. 17.09.2024 
 09:30–10:30Di. 24.09.2024 09:30–10:30Di. 01.10.2024 09:30–10:30Di. 08.10.20
 24 09:30–10:30Di. 15.10.2024 09:30–10:30Di. 22.10.2024 09:30–10:30Di. 05.11
 .2024 09:30–10:30Di. 12.11.2024 09:30–10:30Di. 19.11.2024 09:30–10:30Di. 26
 .11.2024 09:30–10:30Einstieg in den Kurs ist jederzeit möglich, sofern Plat
 z ist. Es gilt der aliquote Kursbeitrag ab Einstiegsdatum!\nERSATZTERMIN be
 i Verhinderung der Kursleitung: 03.12.2024\n
X-ALT-DESC;FMTTYPE=text/html:<p style="box-sizing: border-box; margin: 0.8rem 0px 0.2rem; color: #212529
 ; font-family: Titillium, sans-serif; font-size: 16px;">Babys kommunizieren
  von Geburt an mit Hilfe von Mimik und Gestik mit ihrer Umgebung. Wir bring
 en ihnen automatisch einfache Handzeichen bei, damit sie sich besser mittei
 len können, wie „winken, klatschen, Bussi schicken“.<br style="box-sizing: 
 border-box;" />In diesem Kurs erlernst du bis zu 100 weitere einfache Handz
 eichen, die den Babys und Kleinkinder ermöglichen, sich schon früh auszudrü
 cken. So kannst du dein Kind verstehen, bevor es noch sprechen kann.</p><p 
 style="box-sizing: border-box; margin: 0.8rem 0px 0.2rem; color: #212529; f
 ont-family: Titillium, sans-serif; font-size: 16px;"><br style="box-sizing:
  border-box;" />Auf spielerische Art und Weise lernen dein Baby und du mit 
 Hilfe von von Liedern, Tänzen, Reimen und Bilderbüchern in einer entspannte
 n Atmosphäre die Babyzeichen. Ihr werdet überrascht sein, wie viel eure Zwe
 rge schon in frühem Alter ausdrücken wollen und können. Sie brauchen von un
 s nur das Werkzeug dazu.</p><p style="box-sizing: border-box; margin: 0.8re
 m 0px 0.2rem; color: #212529; font-family: Titillium, sans-serif; font-size
 : 16px;">Vorteile<br style="box-sizing: border-box;" />· Babyzeichen ermögl
 ichen Einblicke in die Gedankenwelt deiner Babys und Kinder<br style="box-s
 izing: border-box;" />· Babyzeichen erleichtern das Verstehen und Lernen vo
 n Worten<br style="box-sizing: border-box;" />· Frustration von Eltern und 
 Kind wird verringert<br style="box-sizing: border-box;" />· Verstehen und v
 erstanden werden macht glücklich&nbsp;<br style="box-sizing: border-box;" /
 >· Gemeinsames Musizieren, Tanzen &amp; Spaß haben</p><p style="box-sizing:
  border-box; margin: 0.8rem 0px 0.2rem; color: #212529; font-family: Titill
 ium, sans-serif; font-size: 16px;">Gebühr pro Kind 200€ für 10 Einheiten</p
 ><p style="box-sizing: border-box; margin: 0.8rem 0px 0.2rem; color: #21252
 9; font-family: Titillium, sans-serif; font-size: 16px;">Zwillinge: 360€ in
 sgesamt</p><p style="box-sizing: border-box; margin: 0.8rem 0px 0.2rem; col
 or: #212529; font-family: Titillium, sans-serif; font-size: 16px;">Termine:
 </p><ol class="toggable-list toggable" style="box-sizing: border-box; margi
 n-top: 0px; margin-bottom: 1rem; list-style: none; padding-left: 0px; color
 : #212529; font-family: Titillium, sans-serif; font-size: 0.9rem;"><li styl
 e="box-sizing: border-box; font-size: 0.9rem; position: relative; margin: 0
 .4rem 0px 0.4rem calc(25px + 0.5rem);">Di. 17.09.2024 09:30–10:30</li><li s
 tyle="box-sizing: border-box; font-size: 0.9rem; position: relative; margin
 : 0.4rem 0px 0.4rem calc(25px + 0.5rem);">Di. 24.09.2024 09:30–10:30</li><l
 i style="box-sizing: border-box; font-size: 0.9rem; position: relative; mar
 gin: 0.4rem 0px 0.4rem calc(25px + 0.5rem);">Di. 01.10.2024 09:30–10:30</li
 ><li style="box-sizing: border-box; font-size: 0.9rem; position: relative; 
 margin: 0.4rem 0px 0.4rem calc(25px + 0.5rem);">Di. 08.10.2024 09:30–10:30<
 /li><li style="box-sizing: border-box; font-size: 0.9rem; position: relativ
 e; margin: 0.4rem 0px 0.4rem calc(25px + 0.5rem);">Di. 15.10.2024 09:30–10:
 30</li><li style="box-sizing: border-box; font-size: 0.9rem; position: rela
 tive; margin: 0.4rem 0px 0.4rem calc(25px + 0.5rem);">Di. 22.10.2024 09:30–
 10:30</li><li style="box-sizing: border-box; font-size: 0.9rem; position: r
 elative; margin: 0.4rem 0px 0.4rem calc(25px + 0.5rem);">Di. 05.11.2024 09:
 30–10:30</li><li style="box-sizing: border-box; font-size: 0.9rem; position
 : relative; margin: 0.4rem 0px 0.4rem calc(25px + 0.5rem);">Di. 12.11.2024 
 09:30–10:30</li><li style="box-sizing: border-box; font-size: 0.9rem; posit
 ion: relative; margin: 0.4rem 0px 0.4rem calc(25px + 0.5rem);">Di. 19.11.20
 24 09:30–10:30</li><li style="box-sizing: border-box; font-size: 0.9rem; po
 sition: relative; margin: 0.4rem 0px 0.4rem calc(25px + 0.5rem);">Di. 26.11
 .2024 09:30–10:30</li></ol><p style="box-sizing: border-box; margin: 0.8rem
  0px 0.2rem; color: #212529; font-family: Titillium, sans-serif; font-size:
  16px;">Einstieg in den Kurs ist jederzeit möglich, sofern Platz ist. Es gi
 lt der aliquote Kursbeitrag ab Einstiegsdatum!</p><p style="box-sizing: bor
 der-box; margin: 0.8rem 0px 0.2rem; color: #212529; font-family: Titillium,
  sans-serif; font-size: 16px;">ERSATZTERMIN bei Verhinderung der Kursleitun
 g: 03.12.2024</p>
CONTACT:tini@tiniskinderzimmer.at , 0699 17 36 01 95
X-EXTRAINFO:[preis='2000'][anmeldung='true']
DTSTAMP:20260423T110713
DTSTART:20240917T073000
DTEND:20240917T083000
SEQUENCE:0
RRULE:FREQ=WEEKLY;UNTIL=20241127T000000Z;INTERVAL=1;BYDAY=TU
EXDATE:20241029T083000
TRANSP:OPAQUE
END:VEVENT
END:VCALENDAR