BEGIN:VCALENDAR
VERSION:2.0
PRODID:-//jEvents 2.0 for Joomla//EN
CALSCALE:GREGORIAN
METHOD:PUBLISH
BEGIN:VEVENT
UID:85dd01c2849d857e4b7472a139a8e305
CATEGORIES:18. Bezirk
CREATED:20240930T101018
SUMMARY:Spielgruppe mit Babyzeichen
LOCATION:Spielringel
DESCRIPTION:Neues Spielgruppen-Format nach der Methode des Babyzeichen-Papas\n \nMeine 
 Reise in die Welt der Babyzeichen beginnt in einer Zeit, die mich bis heute
  prägt. Schon als Kind faszinierte mich die nonverbale Kommunikation, inspi
 riert von meinem kleinen Bruder. Als ich später selbst Vater wurde und mein
  Sohn mit 18 Monaten über 50 Zeichen beherrschte, wusste ich, dass ich dies
 en wertvollen Schatz mit anderen Familien teilen möchte. In dieser einzigar
 tigen Spielgruppe erwartet dich und dein Baby eine liebevolle und interakti
 ve Einführung in die Welt der Babyzeichen – nach meiner eigens entwickelten
  Babyzeichen-Papa-Methode. Diese Methode verbindet spielerisch die ersten S
 chritte in die Gebärdensprache mit der Förderung der sprachlichen und kogni
 tiven Entwicklung deines Kindes.Wir gehen auf eine nachhaltige und tiefere 
 Nutzung der Gebärdensprache ein, sodass dein Baby auch über den Kurs hinaus
  von den gelernten Zeichen profitiert.\nMir ist es ein persönliches Anliege
 n zu betonen dass es sich hierbei um eine Spielgruppe und nicht um einen Ku
 rs handelt. Es werden zwar Wissensinhalte nach einem roten Faden vermittelt
  jedoch orientiert sich diese nach den persönlchen Bedürfnissen der Teilneh
 menden Familien.\nVeranstaltungsort SpielringelMollgasse 11-13 1180 Wien\n 
 \nAnmeldung unter: https://kurse.babyzeichen-papa.at/?ref=babymamas (https:
 //kurse.babyzeichen-papa.at/?ref=babymamas)\n \nSchnupperstunde: 20 €\n
X-ALT-DESC;FMTTYPE=text/html:<p style="border: medium; line-height: 1.5em; margin: 0px; caret-color: #00
 0000; color: #000000; font-family: 'Roboto Condensed', sans-serif; font-siz
 e: 15px;"><span style="caret-color: #62566d; color: #62566d; font-family: A
 rial, serif; font-size: 18px;">Neues Spielgruppen-Format nach der Methode d
 es Babyzeichen-Papas</span></p><p>&nbsp;</p><p style="border: medium; line-
 height: 1.5em; margin: 0px 0px 1rem; font-size: 16px; font-family: Arial, s
 erif; color: #62566d; box-sizing: border-box; caret-color: #62566d;">Meine 
 Reise in die Welt der Babyzeichen beginnt in einer Zeit, die mich bis heute
  prägt. Schon als Kind faszinierte mich die nonverbale Kommunikation, inspi
 riert von meinem kleinen Bruder. Als ich später selbst Vater wurde und mein
  Sohn mit 18 Monaten über 50 Zeichen beherrschte, wusste ich, dass ich dies
 en wertvollen Schatz mit anderen Familien teilen möchte. In dieser einzigar
 tigen Spielgruppe erwartet dich und dein Baby eine liebevolle und interakti
 ve Einführung in die Welt der Babyzeichen – nach meiner eigens entwickelten
  Babyzeichen-Papa-Methode. Diese Methode verbindet spielerisch die ersten S
 chritte in die Gebärdensprache mit der Förderung der sprachlichen und kogni
 tiven Entwicklung deines Kindes.Wir gehen auf eine nachhaltige und tiefere 
 Nutzung der Gebärdensprache ein, sodass dein Baby auch über den Kurs hinaus
  von den gelernten Zeichen profitiert.</p><p style="border: medium; line-he
 ight: 1.5em; margin: 0px 0px 1rem; font-size: 16px; font-family: Arial, ser
 if; color: #62566d; box-sizing: border-box; caret-color: #62566d;">Mir ist 
 es ein persönliches Anliegen zu betonen dass es sich hierbei&nbsp;<span sty
 le="box-sizing: border-box; text-decoration: underline; font-weight: bold;"
 >um eine Spielgruppe und nicht um einen Kurs</span>&nbsp;handelt. Es werden
  zwar Wissensinhalte nach einem roten Faden vermittelt jedoch orientiert si
 ch diese nach den persönlchen Bedürfnissen der Teilnehmenden Familien.</p><
 p style="border: medium; line-height: 1.5em; margin: 0px; caret-color: #000
 000; color: #000000; font-family: 'Roboto Condensed', sans-serif; font-size
 : 15px;"><span class="secondLocation" style="font-size: 16px; font-family: 
 Arial, serif; color: #62566d; box-sizing: border-box; caret-color: #62566d;
 ">Veranstaltungsort Spielringel</span><br style="font-family: Arial, serif;
  color: #62566d; font-size: 13px; box-sizing: border-box; caret-color: #625
 66d;" /><a href="https://spielringel.at/" target="_blank" rel="noopener" cl
 ass="locationurl" style="font-size: 16px; font-family: Arial, serif; color:
  #602d7a; box-sizing: border-box; transition: all 0.5s ease 0s; border-top-
 width: 0px; border-top-style: none; border-top-color: currentcolor;">Mollga
 sse 11-13 1180 Wien</a></p><p style="border: medium; line-height: 1.5em; ma
 rgin: 0px; caret-color: #000000; color: #000000; font-family: 'Roboto Conde
 nsed', sans-serif; font-size: 15px;">&nbsp;</p><p style="border: medium; li
 ne-height: 1.5em; margin: 0px; caret-color: #000000; color: #000000; font-f
 amily: 'Roboto Condensed', sans-serif; font-size: 15px;">Anmeldung unter:&n
 bsp;<a href="https://kurse.babyzeichen-papa.at/?ref=babymamas" style="color
 : #8a1878; text-decoration: none; font-family: inherit; font-size: 1rem;">h
 ttps://kurse.babyzeichen-papa.at/?ref=babymamas</a></p><p style="border: me
 dium; line-height: 1.5em; margin: 0px; caret-color: #000000; color: #000000
 ; font-family: 'Roboto Condensed', sans-serif; font-size: 15px;">&nbsp;</p>
 <p style="border: medium; line-height: 1.5em; margin: 0px; caret-color: #00
 0000; color: #000000; font-family: 'Roboto Condensed', sans-serif; font-siz
 e: 15px;">Schnupperstunde: 20 €</p>
CONTACT:Markus@babyzeichen-papa.at
X-EXTRAINFO:[preis='9500'][anmeldung='false']
DTSTAMP:20260423T160208
DTSTART:20241009T073000
DTEND:20241009T083000
SEQUENCE:0
TRANSP:OPAQUE
END:VEVENT
END:VCALENDAR