BEGIN:VCALENDAR
VERSION:2.0
PRODID:-//jEvents 2.0 for Joomla//EN
CALSCALE:GREGORIAN
METHOD:PUBLISH
BEGIN:VEVENT
UID:7da433252f2fb5f4d6188f14b11d75ea
CATEGORIES:18. Bezirk
CREATED:20241007T104938
SUMMARY:Mit allen Sinnen am Montag
LOCATION:Spielringel  Mollgasse  11-13
DESCRIPTION:Mit allen Sinnen am MontagSinneserlebnis für Kinder ab dem Krabbelalter bis
  3 Jahren Montag, 14.10. 11:30-12:30\nDie Kinder können nach Herzenslust mi
 t verschiedenen Materialien (wie zum Beispiel Reis, Wasser, selbstgemachten
  Fingerfarben und Schleim) matschen, gatschen, schütten, spielen und experi
 mentieren. Dabei werden ihre sensomotorischen Fähigkeiten und ihre Kreativi
 tät gefördert. Die Eltern haben die Möglichkeit, ihre Kinder in dieser Entd
 eckungsreise zu begleiten und zu unterstützen.\nDein Baby wird schmutzig we
 rden. Am besten du lässt es in Windeln oder Unterhose spielen oder ziehst i
 hm Gewand an, dass auch schmutzig werden darf und vergiss nicht ein Handtuc
 h und Wechselgewand mitzunehmen!\nDieses Sinnneserlebnis ist für Kinder ab 
 dem Krabbelalter bis zu 3 Jahren geeignet.\n \n
X-ALT-DESC;FMTTYPE=text/html:<header class="frame-header" style="box-sizing: border-box;"><h2 class="ele
 ment-header" style="box-sizing: border-box; margin-top: 0px; margin-bottom:
  0.5rem; font-family: Montserrat; font-weight: 300; line-height: 1.2; font-
 size: 2.275rem;">Mit allen Sinnen am Montag</h2><h4 style="box-sizing: bord
 er-box; margin-top: 0px; margin-bottom: 1rem; font-family: Montserrat; font
 -weight: 300; line-height: 1.2; font-size: 1.625rem;">Sinneserlebnis für Ki
 nder ab dem Krabbelalter bis 3 Jahren</h4></header><div class="frame-contai
 ner" style="box-sizing: border-box; position: relative; width: 815px; paddi
 ng-right: 0px; padding-left: 0px; margin-right: auto; margin-left: auto; ma
 x-width: 1140px; margin-bottom: 0px;"><div class="frame-inner" style="box-s
 izing: border-box;"><div class="textpic textpic-right" style="box-sizing: b
 order-box; display: flex; flex-wrap: wrap; margin-left: -20px; margin-right
 : -20px; margin-bottom: 0px;"><div class="textpic-item textpic-gallery" sty
 le="box-sizing: border-box; order: 2; width: 427.5px; padding-left: 20px; p
 adding-right: 20px; margin-bottom: 0px;"><div class="gallery-row" style="bo
 x-sizing: border-box; display: flex; flex-wrap: wrap; margin-left: -0.5rem;
  margin-right: -0.5rem; margin-bottom: -1rem;"><div class="gallery-item gal
 lery-item-size-1" style="box-sizing: border-box; padding-left: 0.5rem; padd
 ing-right: 0.5rem; width: 403.5px;">&nbsp;</div></div></div><div class="tex
 tpic-item textpic-text" style="box-sizing: border-box; order: 1; width: 427
 .5px; padding-left: 20px; padding-right: 20px; margin-bottom: 0px;"><p styl
 e="box-sizing: border-box; margin-top: 0px; margin-bottom: 1rem; color: #2b
 2b2b; font-family: Roboto; font-size: 16px;">Montag, 14.10. 11:30-12:30</p>
 <p style="box-sizing: border-box; margin-top: 0px; margin-bottom: 1rem; col
 or: #2b2b2b; font-family: Roboto; font-size: 16px;">Die Kinder können nach 
 Herzenslust mit verschiedenen Materialien (wie zum Beispiel Reis, Wasser, s
 elbstgemachten Fingerfarben und Schleim) matschen, gatschen, schütten, spie
 len und experimentieren. Dabei werden ihre sensomotorischen Fähigkeiten und
  ihre Kreativität gefördert. Die Eltern haben die Möglichkeit, ihre Kinder 
 in dieser Entdeckungsreise zu begleiten und zu unterstützen.</p><p style="b
 ox-sizing: border-box; margin-top: 0px; margin-bottom: 1rem; color: #2b2b2b
 ; font-family: Roboto; font-size: 16px;">Dein Baby wird schmutzig werden. A
 m besten du lässt es in Windeln oder Unterhose spielen oder ziehst ihm Gewa
 nd an, dass auch schmutzig werden darf und vergiss nicht ein Handtuch und W
 echselgewand mitzunehmen!</p><p style="box-sizing: border-box; margin-top: 
 0px; margin-bottom: 1rem; color: #2b2b2b; font-family: Roboto; font-size: 1
 6px;"><br style="box-sizing: border-box;" />Dieses Sinnneserlebnis ist für 
 Kinder ab dem Krabbelalter bis zu 3 Jahren geeignet.</p><p>&nbsp;</p></div>
 </div></div></div>
CONTACT:www.spielringel.at
X-EXTRAINFO:[preis='2000'][anmeldung='true']
DTSTAMP:20260423T141731
DTSTART:20241014T093000
DTEND:20241014T100300
SEQUENCE:0
TRANSP:OPAQUE
END:VEVENT
END:VCALENDAR