BEGIN:VCALENDAR
VERSION:2.0
PRODID:-//jEvents 2.0 for Joomla//EN
CALSCALE:GREGORIAN
METHOD:PUBLISH
BEGIN:VEVENT
UID:1eb73fa5fa0427f6ea4ace9bea113532
CATEGORIES:18. Bezirk
CREATED:19700101T010000
SUMMARY:Freispiel mit "loose parts" in der Mollgasse
LOCATION:Spielringel  Mollgasse  11-13
DESCRIPTION:Freispiel mit "loose parts" in der Mollgassefür Kinder von 1,5 bis 4,5 Jahr
 en Termine: 07.10., 14.10., 21.10., 04.11., 11.11.\nSpielzeugfrei die Welt 
 entdecken\n"loose parts play" bezeichnet die Beschäftigung mit losen Teilen
  und Materialien aus dem Alltag sowie der Natur. Dabei ergeben sich wunderv
 oll kreative und oft ungeahnte Möglichkeiten, die Welt zu entdecken. Im Geg
 ensatz zu definiertem Spielzeug sind sie nämlich nicht auf eine einzige Fun
 ktion festgelegt, sondern lassen den Kindern Raum für kreative Experimente 
 und die Entwicklung eigener Ideen.\n" Kinder brauchen kein Spielzeug, sie b
 rauchen Zeug zum Spielen.“\nIn dieser Spielgruppe dürfen die Kinder verschi
 edenste „loose parts“ entdecken und erforschen.\n
X-ALT-DESC;FMTTYPE=text/html:<header class="frame-header" style="box-sizing: border-box; color: #2b2b2b;
  font-family: Roboto; font-size: 16px;"><h2 class="element-header" style="b
 ox-sizing: border-box; margin-top: 0px; margin-bottom: 0.5rem; font-family:
  Montserrat; font-weight: 300; line-height: 1.2; font-size: 2.275rem;">Frei
 spiel mit "loose parts" in der Mollgasse</h2><h4 style="box-sizing: border-
 box; margin-top: 0px; margin-bottom: 1rem; font-family: Montserrat; font-we
 ight: 300; line-height: 1.2; font-size: 1.625rem;">für Kinder von 1,5 bis 4
 ,5 Jahren</h4></header><div class="frame-container" style="box-sizing: bord
 er-box; position: relative; width: 815px; padding-right: 0px; padding-left:
  0px; margin-right: auto; margin-left: auto; max-width: 1140px; margin-bott
 om: 0px; color: #2b2b2b; font-family: Roboto; font-size: 16px;"><div class=
 "frame-inner" style="box-sizing: border-box;"><div class="textpic textpic-r
 ight" style="box-sizing: border-box; display: flex; flex-wrap: wrap; margin
 -left: -20px; margin-right: -20px; margin-bottom: 0px;"><div class="textpic
 -item textpic-gallery" style="box-sizing: border-box; order: 2; width: 427.
 5px; padding-left: 20px; padding-right: 20px; margin-bottom: 0px;"><div cla
 ss="gallery-row" style="box-sizing: border-box; display: flex; flex-wrap: w
 rap; margin-left: -0.5rem; margin-right: -0.5rem; margin-bottom: -1rem;"><d
 iv class="gallery-item gallery-item-size-1" style="box-sizing: border-box; 
 padding-left: 0.5rem; padding-right: 0.5rem; width: 403.5px;">&nbsp;</div><
 /div></div><div class="textpic-item textpic-text" style="box-sizing: border
 -box; order: 1; width: 427.5px; padding-left: 20px; padding-right: 20px; ma
 rgin-bottom: 0px;"><p style="box-sizing: border-box; margin-top: 0px; margi
 n-bottom: 1rem;"><span class="text-primary font-weight-bold" style="box-siz
 ing: border-box; font-weight: 700 !important; color: #158795 !important;">T
 ermine:&nbsp;</span>07.10., 14.10., 21.10., 04.11., 11.11.</p><p style="box
 -sizing: border-box; margin-top: 0px; margin-bottom: 1rem;"><span style="bo
 x-sizing: border-box; font-weight: bolder;">Spielzeugfrei die Welt entdecke
 n</span></p><p style="box-sizing: border-box; margin-top: 0px; margin-botto
 m: 1rem;">"loose parts play" bezeichnet die Beschäftigung mit losen Teilen 
 und Materialien aus dem Alltag sowie der Natur. Dabei ergeben sich wundervo
 ll kreative und oft ungeahnte Möglichkeiten, die Welt zu entdecken. Im Gege
 nsatz zu definiertem Spielzeug sind sie nämlich nicht auf eine einzige Funk
 tion festgelegt, sondern lassen den Kindern Raum für kreative Experimente u
 nd die Entwicklung eigener Ideen.</p><p style="box-sizing: border-box; marg
 in-top: 0px; margin-bottom: 1rem;"><span style="box-sizing: border-box; fon
 t-weight: bolder;"><em style="box-sizing: border-box;">" Kinder brauchen ke
 in Spielzeug, sie brauchen Zeug zum Spielen.“</em></span></p><p style="box-
 sizing: border-box; margin-top: 0px; margin-bottom: 0px;">In dieser Spielgr
 uppe dürfen die Kinder verschiedenste „loose parts“ entdecken und erforsche
 n.</p></div></div></div></div>
CONTACT:www.spielringel.at
X-EXTRAINFO:[preis='9000'][anmeldung='true']
DTSTAMP:20260423T125044
DTSTART:20241007T120000
DTEND:20241007T130000
SEQUENCE:0
RRULE:FREQ=WEEKLY;UNTIL=20241008T000000Z;INTERVAL=1;BYDAY=MO
TRANSP:OPAQUE
END:VEVENT
END:VCALENDAR