BEGIN:VCALENDAR
VERSION:2.0
PRODID:-//jEvents 2.0 for Joomla//EN
CALSCALE:GREGORIAN
METHOD:PUBLISH
BEGIN:VEVENT
UID:d3f8457370bf1b70b4a229e9fef5ce68
CATEGORIES:18. Bezirk
CREATED:20241007T110414
SUMMARY:Mit allen Sinnen am Donnerstag Nachmittag
LOCATION:Spielringel  Mollgasse  11-13
DESCRIPTION:Mit allen Sinnen am Donnerstag NachmittagSinneserlebnis für Kinder ab dem K
 rabbelalter bis 3 Jahren \n\nDie Kinder können nach Herzenslust mit verschi
 edenen Materialien (wie zum Beispiel Reis, Wasser, selbstgemachten Fingerfa
 rben und Schleim) matschen, gatschen, schütten, spielen und experimentieren
 . Dabei werden ihre sensomotorischen Fähigkeiten und ihre Kreativität geför
 dert. Die Eltern haben die Möglichkeit, ihre Kinder in dieser Entdeckungsre
 ise zu begleiten und zu unterstützen.\nDein Baby wird schmutzig werden. Am 
 besten du lässt es in Windeln oder Unterhose spielen oder ziehst ihm Gewand
  an, dass auch schmutzig werden darf und vergiss nicht ein Handtuch und Wec
 hselgewand mitzunehmen!\nDieses Sinnneserlebnis ist für Kinder ab dem Krabb
 elalter bis zu 3 Jahren geeignet.\n
X-ALT-DESC;FMTTYPE=text/html:<header class="frame-header" style="box-sizing: border-box; color: #2b2b2b;
  font-family: Roboto; font-size: 16px;"><h2 class="element-header" style="b
 ox-sizing: border-box; margin-top: 0px; margin-bottom: 0.5rem; font-family:
  Montserrat; font-weight: 300; line-height: 1.2; font-size: 2.275rem;">Mit 
 allen Sinnen am Donnerstag Nachmittag</h2><h4 style="box-sizing: border-box
 ; margin-top: 0px; margin-bottom: 1rem; font-family: Montserrat; font-weigh
 t: 300; line-height: 1.2; font-size: 1.625rem;">Sinneserlebnis für Kinder a
 b dem Krabbelalter bis 3 Jahren</h4></header><div class="frame-container" s
 tyle="box-sizing: border-box; position: relative; width: 815px; padding-rig
 ht: 0px; padding-left: 0px; margin-right: auto; margin-left: auto; max-widt
 h: 1140px; margin-bottom: 0px; color: #2b2b2b; font-family: Roboto; font-si
 ze: 16px;"><div class="frame-inner" style="box-sizing: border-box;"><div cl
 ass="textpic textpic-right" style="box-sizing: border-box; display: flex; f
 lex-wrap: wrap; margin-left: -20px; margin-right: -20px; margin-bottom: 0px
 ;"><div class="textpic-item textpic-gallery" style="box-sizing: border-box;
  order: 2; width: 427.5px; padding-left: 20px; padding-right: 20px; margin-
 bottom: 0px;"><div class="gallery-row" style="box-sizing: border-box; displ
 ay: flex; flex-wrap: wrap; margin-left: -0.5rem; margin-right: -0.5rem; mar
 gin-bottom: -1rem;"><div class="gallery-item gallery-item-size-1" style="bo
 x-sizing: border-box; padding-left: 0.5rem; padding-right: 0.5rem; width: 4
 03.5px;">&nbsp;</div></div></div><div class="textpic-item textpic-text" sty
 le="box-sizing: border-box; order: 1; width: 427.5px; padding-left: 20px; p
 adding-right: 20px; margin-bottom: 0px;"><p style="box-sizing: border-box; 
 margin-top: 0px; margin-bottom: 1rem;"><span class="text-primary font-weigh
 t-bold" style="box-sizing: border-box; font-weight: 700 !important; color: 
 #158795 !important;"></span></p><p style="box-sizing: border-box; margin-to
 p: 0px; margin-bottom: 1rem;"><span class="text-primary font-weight-bold" s
 tyle="box-sizing: border-box; font-weight: 700 !important; color: #158795 !
 important;"></span></p><p style="box-sizing: border-box; margin-top: 0px; m
 argin-bottom: 1rem;">Die Kinder können nach Herzenslust mit verschiedenen M
 aterialien (wie zum Beispiel Reis, Wasser, selbstgemachten Fingerfarben und
  Schleim) matschen, gatschen, schütten, spielen und experimentieren. Dabei 
 werden ihre sensomotorischen Fähigkeiten und ihre Kreativität gefördert. Di
 e Eltern haben die Möglichkeit, ihre Kinder in dieser Entdeckungsreise zu b
 egleiten und zu unterstützen.</p><p style="box-sizing: border-box; margin-t
 op: 0px; margin-bottom: 1rem;">Dein Baby wird schmutzig werden. Am besten d
 u lässt es in Windeln oder Unterhose spielen oder ziehst ihm Gewand an, das
 s auch schmutzig werden darf und vergiss nicht ein Handtuch und Wechselgewa
 nd mitzunehmen!</p><p style="box-sizing: border-box; margin-top: 0px; margi
 n-bottom: 1rem;"><br style="box-sizing: border-box;" />Dieses Sinnneserlebn
 is ist für Kinder ab dem Krabbelalter bis zu 3 Jahren geeignet.</p></div></
 div></div></div>
CONTACT:www.spielringel.at
X-EXTRAINFO:[preis='2000'][anmeldung='true']
DTSTAMP:20260423T111412
DTSTART:20241017T113000
DTEND:20241017T123000
SEQUENCE:0
TRANSP:OPAQUE
END:VEVENT
END:VCALENDAR