BEGIN:VCALENDAR
VERSION:2.0
PRODID:-//jEvents 2.0 for Joomla//EN
CALSCALE:GREGORIAN
METHOD:PUBLISH
BEGIN:VEVENT
UID:bc786fb4dad861e25fd50d446525ae9d
CATEGORIES:18. Bezirk
CREATED:20241007T111311
SUMMARY:Kreative Freude
LOCATION:Spielringel  Mollgasse  11-13
DESCRIPTION:Kreative FreudeBastelworkshops für Kinder ab 2 Jahren (mit Begleitung)Bei d
 er Kreativen Freude geht es weniger um das Endprodukt, als um den Spaß und 
 die Freude beim Kreativ sein.\nNächste Termine und Themen:\n18.10. Monster 
 &amp; Spinnen\n22.11. Advent, Advent..\n06.12. Glanz &amp; Glitzer\n \nEs w
 erden verschiedene Bastelmaterialien und Ideen zu einem Thema zur Verfügung
  gestellt und die Kinder dürfen nach Lust und Laune werken.\nWir malen, bas
 teln, schnippseln, stempeln, stanzen, kleben, formen, usw .-  daher ist es 
 sinnvoll, Gewand, das auch schmutzig werden darf, anzuziehen.\n \n
X-ALT-DESC;FMTTYPE=text/html:<h2 class="element-header" style="box-sizing: border-box; margin-top: 0px; 
 margin-bottom: 0.5rem; font-family: Montserrat; font-weight: 300; line-heig
 ht: 1.2; font-size: 2.275rem; color: #2b2b2b;">Kreative Freude</h2><h4 styl
 e="box-sizing: border-box; margin-top: 0px; margin-bottom: 1rem; font-famil
 y: Montserrat; font-weight: 300; line-height: 1.2; font-size: 1.625rem; col
 or: #2b2b2b;">Bastelworkshops für Kinder ab 2 Jahren (mit Begleitung)</h4><
 p style="box-sizing: border-box; margin-top: 0px; margin-bottom: 1rem; colo
 r: #2b2b2b; font-family: Roboto; font-size: 16px;">Bei der Kreativen Freude
  geht es weniger um das Endprodukt, als um den Spaß und die Freude beim Kre
 ativ sein.</p><p style="box-sizing: border-box; margin-top: 0px; margin-bot
 tom: 1rem; color: #2b2b2b; font-family: Roboto; font-size: 16px;"><span sty
 le="box-sizing: border-box; font-weight: bolder;">Nächste Termine und Theme
 n:</span></p><p style="box-sizing: border-box; margin-top: 0px; margin-bott
 om: 1rem; color: #2b2b2b; font-family: Roboto; font-size: 16px;"><span styl
 e="box-sizing: border-box; font-weight: bolder;">18.10. Monster &amp; Spinn
 en</span></p><p style="box-sizing: border-box; margin-top: 0px; margin-bott
 om: 1rem; color: #2b2b2b; font-family: Roboto; font-size: 16px;"><span styl
 e="box-sizing: border-box; font-weight: bolder;">22.11. Advent, Advent..</s
 pan></p><p style="box-sizing: border-box; margin-top: 0px; margin-bottom: 1
 rem; color: #2b2b2b; font-family: Roboto; font-size: 16px;"><span style="bo
 x-sizing: border-box; font-weight: bolder;">06.12. Glanz &amp; Glitzer</spa
 n></p><p style="box-sizing: border-box; margin-top: 0px; margin-bottom: 1re
 m; color: #2b2b2b; font-family: Roboto; font-size: 16px;">&nbsp;</p><p styl
 e="box-sizing: border-box; margin-top: 0px; margin-bottom: 1rem; color: #2b
 2b2b; font-family: Roboto; font-size: 16px;">Es werden verschiedene Bastelm
 aterialien und Ideen zu einem Thema zur Verfügung gestellt und die Kinder d
 ürfen nach Lust und Laune werken.</p><p style="box-sizing: border-box; marg
 in-top: 0px; margin-bottom: 1rem; color: #2b2b2b; font-family: Roboto; font
 -size: 16px;">Wir malen, basteln, schnippseln, stempeln, stanzen, kleben, f
 ormen, usw .-&nbsp; daher ist es sinnvoll, Gewand, das auch schmutzig werde
 n darf, anzuziehen.</p><p style="box-sizing: border-box; margin-top: 0px; m
 argin-bottom: 1rem; color: #2b2b2b; font-family: Roboto; font-size: 16px;">
 &nbsp;</p>
CONTACT:www.spielringel.at
X-EXTRAINFO:[preis='2800'][anmeldung='true']
DTSTAMP:20260423T101637
DTSTART:20241018T130000
DTEND:20241018T143000
SEQUENCE:0
TRANSP:OPAQUE
END:VEVENT
END:VCALENDAR