BEGIN:VCALENDAR
VERSION:2.0
PRODID:-//jEvents 2.0 for Joomla//EN
CALSCALE:GREGORIAN
METHOD:PUBLISH
BEGIN:VEVENT
UID:4ed95d207826162205f953a0ea5168e7
CATEGORIES:9. Bezirk
CREATED:20241022T120246
SUMMARY:Babykino im Votiv Kino
LOCATION:Votiv Kino\, Währinger Str. 12\, 1090 Wien
DESCRIPTION:Jeden zweiten Dienstag laufen die wichtigsten Filme aus unserem Programm al
 s Babykino Vorstellungen in einem nicht gänzlich abgedunkeltem Saal mit etw
 as leiserem Ton. Vor der Vorstellung kann man sich in unserem Café zu Kaffe
 e und Kuchen treffen, und während des Films stehen Wickeltische und ein Flä
 schchenwärmer zur Verfügung. 11:00 Uhr KONKLAVE (https://www.votivkino.at/f
 ilm/konklave/) 11:30 Uhr THE VILLAGE NEXT TO PARADISE (https://www.votivkin
 o.at/film/the-village-next-to-paradise/) Tickets und Informationen auf unse
 rer Webseite (https://www.votivkino.at/specials/babykino/#Specials)!  
X-ALT-DESC;FMTTYPE=text/html:<div class="eventContent">Jeden zweiten Dienstag laufen die wichtigsten Fil
 me aus unserem Programm als Babykino Vorstellungen in einem nicht gänzlich 
 abgedunkeltem Saal mit etwas leiserem Ton. Vor der Vorstellung kann man sic
 h in unserem Café zu Kaffee und Kuchen treffen, und während des Films stehe
 n Wickeltische und ein Fläschchenwärmer zur Verfügung.</div><div class="eve
 ntContent">&nbsp;</div><div class="eventContent">11:00 Uhr <a href="https:/
 /www.votivkino.at/film/konklave/">KONKLAVE</a></div><div class="eventConten
 t">&nbsp;</div><div class="eventContent">11:30 Uhr <a href="https://www.vot
 ivkino.at/film/the-village-next-to-paradise/">THE VILLAGE NEXT TO PARADISE<
 /a></div><div class="eventContent">&nbsp;</div><div class="eventContent">Ti
 ckets und Informationen <a href="https://www.votivkino.at/specials/babykino
 /#Specials">auf unserer Webseite</a>!</div><div class="eventContent" style=
 "caret-color: #ffffff; color: #ffffff; font-family: Helvetica, Arial, sans-
 serif; font-size: 12px;">&nbsp;</div><div class="eventContent" style="caret
 -color: #ffffff; color: #ffffff; font-family: Helvetica, Arial, sans-serif;
  font-size: 12px;">&nbsp;</div>
CONTACT:Tel: 01 317 35 71 | Mail: office@votivkino.at
X-EXTRAINFO:[preis='900'][anmeldung='false']
DTSTAMP:20260423T080721
DTSTART:20241126T100000
DTEND:20241126T120000
SEQUENCE:0
TRANSP:OPAQUE
END:VEVENT
END:VCALENDAR