BEGIN:VCALENDAR
VERSION:2.0
PRODID:-//jEvents 2.0 for Joomla//EN
CALSCALE:GREGORIAN
METHOD:PUBLISH
BEGIN:VEVENT
UID:5fb9b7398e16b5b945662babc316b79e
CATEGORIES:18. Bezirk
CREATED:20241023T092454
SUMMARY:Kinderyoga
LOCATION:Spielringel  Mollgasse  11-13
DESCRIPTION:Kinderyogafür Kinder von 3-6 Jahren (ohne Begleitung)Kurstag: Samstag 09:30
 -10:30\nTermine: 09.11.,16.11., 23.11., 30.11., 07.12.\nKosten: €110,- (5-W
 ochen-Kurs)\nAuf der Matte gemeinsam die Welt entdecken\nKinderyoga ist neb
 en einer wunderbaren Reise nach Fantasia auch eine eine gute Möglichkeit, s
 ich auszutoben und sich zu entspannen.\nKinderyoga soll die Kinder spieleri
 sch an die Yoga-Übungen heranführen. Es geht dabei nicht um die korrekte Ha
 ltung der Pose, sondern um Selbsterfahrung mit dem eigenen Körper und vor a
 llem Spaß an Bewegung. Darüber hinaus werden die Motorik und Konzentrations
 fähigkeiten durch Yoga-Posen, Atemübungen und Entspannungsübungen verbesser
 t.\nIn diesem Kurs wird Yoga durch Kinderaugen neu definiert. Ich begebe mi
 ch zusammen mit den Kindern (im besten Fall ohne Eltern) gemeinsam auf die 
 Matte und eine Reise durch verschiedene  Fantasiewelten.\n Onlineanmeldung 
    
X-ALT-DESC;FMTTYPE=text/html:<h2 class="element-header" style="box-sizing: border-box; margin-top: 0px; 
 margin-bottom: 0.5rem; font-family: Montserrat; font-weight: 300; line-heig
 ht: 1.2; font-size: 2.275rem; color: #2b2b2b;">Kinderyoga</h2><h4 style="bo
 x-sizing: border-box; margin-top: 0px; margin-bottom: 1rem; font-family: Mo
 ntserrat; font-weight: 300; line-height: 1.2; font-size: 1.625rem; color: #
 2b2b2b;">für Kinder von 3-6 Jahren (ohne Begleitung)</h4><div id="page-cont
 ent" class="bp-page-content main-section" style="box-sizing: border-box;"><
 div class="section section-default" style="box-sizing: border-box; overflow
 : hidden;"><div class="container" style="box-sizing: border-box; width: 114
 0px; padding-right: 20px; padding-left: 20px; margin-right: auto; margin-le
 ft: auto; max-width: 1140px;"><div class="section-row" style="box-sizing: b
 order-box; display: flex; flex-wrap: wrap; margin-left: -20px; margin-right
 : -20px;"><div class="frame frame-default frame-type-textpic frame-layout-0
  frame-background-none frame-no-backgroundimage frame-space-before-none fra
 me-space-after-none" style="box-sizing: border-box; position: relative; pad
 ding-top: 3.5rem; padding-bottom: 3.5rem; margin-top: 0rem; margin-bottom: 
 0rem;"><div class="frame-container" style="box-sizing: border-box; position
 : relative; width: 815px; padding-right: 0px; padding-left: 0px; margin-rig
 ht: auto; margin-left: auto; max-width: 1140px; margin-bottom: 0px;"><div c
 lass="frame-inner" style="box-sizing: border-box;"><div class="textpic text
 pic-right" style="box-sizing: border-box; display: flex; flex-wrap: wrap; m
 argin-left: -20px; margin-right: -20px; margin-bottom: 0px;"><div class="te
 xtpic-item textpic-text" style="box-sizing: border-box; order: 1; width: 42
 7.5px; padding-left: 20px; padding-right: 20px; margin-bottom: 0px;"><p sty
 le="box-sizing: border-box; margin-top: 0px; margin-bottom: 1rem;"><span cl
 ass="text-primary font-weight-bold" style="box-sizing: border-box; font-wei
 ght: 700 !important; color: #158795 !important;">Kurstag:&nbsp;</span>Samst
 ag 09:30-10:30</p><p style="box-sizing: border-box; margin-top: 0px; margin
 -bottom: 1rem;"><span class="text-primary font-weight-bold" style="box-sizi
 ng: border-box; font-weight: 700 !important; color: #158795 !important;">Te
 rmine:&nbsp;</span>09.11.,16.11., 23.11., 30.11., 07.12.</p><p style="box-s
 izing: border-box; margin-top: 0px; margin-bottom: 1rem;"><span class="text
 -primary font-weight-bold" style="box-sizing: border-box; font-weight: 700 
 !important; color: #158795 !important;">Kosten:&nbsp;</span>€110,- (5-Woche
 n-Kurs)</p><p style="box-sizing: border-box; margin-top: 0px; margin-bottom
 : 1rem;"><span style="box-sizing: border-box; font-weight: bolder;">Auf der
  Matte gemeinsam die Welt entdecken</span></p><p style="box-sizing: border-
 box; margin-top: 0px; margin-bottom: 1rem;">Kinderyoga ist neben einer wund
 erbaren Reise nach Fantasia auch eine eine gute Möglichkeit, sich auszutobe
 n und sich zu entspannen.</p><p style="box-sizing: border-box; margin-top: 
 0px; margin-bottom: 1rem;">Kinderyoga soll die Kinder spielerisch an die Yo
 ga-Übungen heranführen. Es geht dabei nicht um die korrekte Haltung der Pos
 e, sondern um Selbsterfahrung mit dem eigenen Körper und vor allem Spaß an 
 Bewegung. Darüber hinaus werden die Motorik und Konzentrationsfähigkeiten d
 urch Yoga-Posen, Atemübungen und Entspannungsübungen verbessert.</p><p styl
 e="box-sizing: border-box; margin-top: 0px; margin-bottom: 0px;">In diesem 
 Kurs wird Yoga durch Kinderaugen neu definiert. Ich begebe mich zusammen mi
 t den Kindern (im besten Fall ohne Eltern) gemeinsam auf die Matte und eine
  Reise durch verschiedene &nbsp;Fantasiewelten.</p></div></div></div></div>
 </div><div id="c1194" class="frame frame-default frame-type-form_formframew
 ork frame-layout-0 frame-background-none frame-no-backgroundimage frame-spa
 ce-before-none frame-space-after-none" style="box-sizing: border-box; posit
 ion: relative; padding-top: 3.5rem; padding-bottom: 3.5rem; margin-top: -3.
 5rem; margin-bottom: 0rem;"><div class="frame-container" style="box-sizing:
  border-box; position: relative; width: 815px; padding-right: 0px; padding-
 left: 0px; margin-right: auto; margin-left: auto; max-width: 1140px; margin
 -bottom: 0px;"><div class="frame-inner" style="box-sizing: border-box;"><di
 v class="form-container form-identifier-anmeldeformular-1194" style="box-si
 zing: border-box; margin-bottom: 0px;"><form enctype="multipart/form-data" 
 method="post" novalidate="novalidate" id="anmeldeformular-1194" style="box-
 sizing: border-box;"><div style="box-sizing: border-box;">&nbsp;</div><inpu
 t autocomplete="vGxYXO6mtFHMQ" name="tx_form_formframework[anmeldeformular-
 1194][vGxYXO6mtFHMQ]" type="text" id="anmeldeformular-1194-vGxYXO6mtFHMQ" s
 tyle="box-sizing: border-box; margin: 0px 0px 0px -999em; font-family: inhe
 rit; font-size: inherit; line-height: inherit; overflow: visible; position:
  absolute;" tabindex="-1" aria-hidden="true" /><div class="form-actions" st
 yle="box-sizing: border-box; margin-top: 1em;"><nav class="form-navigation"
  style="box-sizing: border-box;"><div class="btn-toolbar" style="box-sizing
 : border-box; display: flex; flex-wrap: wrap; justify-content: flex-start;"
  role="toolbar"><div class="btn-group" style="box-sizing: border-box; posit
 ion: relative; display: inline-flex; vertical-align: middle;" role="group">
 <span class="btn-group next" style="box-sizing: border-box; position: relat
 ive; display: inline-flex; vertical-align: middle;"><button name="tx_form_f
 ormframework[anmeldeformular-1194][__currentPage]" type="submit" value="1" 
 class="btn btn-primary" style="border-radius: 0.25rem; margin: 0px; font-fa
 mily: inherit; font-size: 1rem; line-height: 1.5; overflow: visible; appear
 ance: button; font-weight: 400; color: #ffffff; vertical-align: middle; use
 r-select: none; background-color: #158795; padding: 0.375rem 0.75rem; trans
 ition: color 0.15s ease-in-out, background-color 0.15s ease-in-out, border-
 color 0.15s ease-in-out, box-shadow 0.15s ease-in-out; cursor: pointer; pos
 ition: relative; flex: 1 1 auto; border: 1px solid #158795;">Onlineanmeldun
 g</button></span></div></div></nav></div></form></div></div></div></div></d
 iv></div></div></div><footer id="page-footer" class="bp-page-footer" style=
 "box-sizing: border-box;"><section class="section footer-section footer-sec
 tion-content" style="box-sizing: border-box; overflow: hidden; color: #ffff
 ff; background-color: #2b2b2b; font-family: Roboto; font-size: 16px;"><div 
 class="container" style="box-sizing: border-box; width: 1140px; padding-rig
 ht: 20px; padding-left: 20px; margin-right: auto; margin-left: auto; max-wi
 dth: 1140px;"><div class="section-row" style="box-sizing: border-box; displ
 ay: flex; flex-wrap: wrap; margin-left: -20px; margin-right: -20px;"><div c
 lass="section-column footer-section-content-column footer-section-content-c
 olumn-left" style="box-sizing: border-box; width: 380px; padding-left: 20px
 ; padding-right: 20px;">&nbsp;</div><div class="section-column footer-secti
 on-content-column footer-section-content-column-middle" style="box-sizing: 
 border-box; width: 380px; padding-left: 20px; padding-right: 20px;">&nbsp;<
 /div><div class="section-column footer-section-content-column footer-sectio
 n-content-column-right" style="box-sizing: border-box; width: 380px; paddin
 g-left: 20px; padding-right: 20px;">&nbsp;</div></div></div></section><sect
 ion class="section footer-section footer-section-meta" style="box-sizing: b
 order-box; overflow: hidden; color: #ffffff; background-color: #232323; tex
 t-align: center; font-family: Roboto; font-size: 16px;"><div class="frame f
 rame-background-none frame-space-before-none frame-space-after-none" style=
 "box-sizing: border-box; position: relative; padding-top: 3.5rem; padding-b
 ottom: 3.5rem; margin-top: 0rem; margin-bottom: 0rem;"><div class="frame-co
 ntainer" style="box-sizing: border-box; position: relative; width: 1140px; 
 padding-right: 20px; padding-left: 20px; margin-right: auto; margin-left: a
 uto; max-width: 1140px; margin-bottom: 0px;"><div class="frame-inner" style
 ="box-sizing: border-box;"><div class="footer-meta" style="box-sizing: bord
 er-box; overflow: hidden;">&nbsp;</div></div></div></div></section></footer
 >
CONTACT:www.spielringel.at
X-EXTRAINFO:[preis='11000'][anmeldung='true']
DTSTAMP:20260423T110735
DTSTART:20241109T083000
DTEND:20241109T093000
SEQUENCE:0
TRANSP:OPAQUE
END:VEVENT
END:VCALENDAR