BEGIN:VCALENDAR
VERSION:2.0
PRODID:-//jEvents 2.0 for Joomla//EN
CALSCALE:GREGORIAN
METHOD:PUBLISH
BEGIN:VEVENT
UID:281af4bf54c7d7dd9a39f69f6c6cc509
CATEGORIES:2. Bezirk
CREATED:19700101T010000
SUMMARY:Spielstunde mit dem gesunden Dreh, ab Geburt bis 5 Monate in TINI'S KINDERZIMMER
LOCATION:Tini's Kinderzimmer
DESCRIPTION: Babys lieben Fingerspiele, Lieder und Reime: Sie lachen, sie glucksen vor 
 sich hin und bewegen freudig ihre Ärmchen und Beinchen. Diese Art der Zuwen
 dung ist dem Bindungsaufbau sehr förderlich. Die Spiele, Lieder und Reime s
 ind einfach und ihr könnt sie zu Hause ganz leicht nachspielen. \nDiese eig
 ens von Simone konzipierte Spielstunde enthält Elemente aus der Rota-Prophy
 laxe-Anwendung für Säuglinge. Sie ist bewusst mit wenig äußeren Reizen aufg
 ebaut und beinhaltet Wiederholungen der Lieder, Reimen, Finger- und Körpers
 piele. Diese vorgestellten Spiele können ab der Geburt verwendet werden, da
  sie im Liegen gespielt werden und der Nacken oder die Wirbelsäule nicht be
 lastet werden. \nIhr erfahrt in unserer gemeinsamen Zeit auch noch, wie ihr
  eure Kleinen spielerisch in der physiologischen Senso-motorischen Entwickl
 ung im Alltag unterstützen könnt. \nNach dem gemeinsamen Singen bleibt uns 
 noch Zeit für einen Austausch. \nGruppenalter: Säuglinge bis 5 Monate \nHie
 r bist du richtig, wenn: \nDu eine Eltern-Kind-Gruppe besuchen möchtest Du 
 Elemente aus der Rota-Prophylaxe-Anwendung erfahren möchtest Du einen Austa
 usch unter anderen Müttern/Papas suchst Du dein Kind in seiner physiologisc
 hen Senso-motorischen Entwicklung unterstützen möchtest Gebühr pro Baby 76€
  für 4 Einheiten\nZwillinge: 136€ insgesamt\n\nTERMINE:\nDi. 05.11.2024 12:
 10–13:00Di. 12.11.2024 12:10–13:00Di. 19.11.2024 12:10–13:00Di. 26.11.2024 
 12:10–13:00\n - Einstieg in den Kurs ist jederzeit möglich, sofern Platz is
 t. Es gilt der aliquote Kursbeitrag ab Einstiegsdatum!\n
X-ALT-DESC;FMTTYPE=text/html:<div class="course-files-dv" style="box-sizing: border-box; color: #212529;
  font-family: Titillium, sans-serif; font-size: 16px; font-style: normal; f
 ont-variant-ligatures: normal; font-variant-caps: normal; font-weight: 300;
  letter-spacing: normal; orphans: 2; text-align: left; text-indent: 0px; te
 xt-transform: none; widows: 2; word-spacing: 0px; -webkit-text-stroke-width
 : 0px; white-space: normal; background-color: #ffffff; text-decoration-thic
 kness: initial; text-decoration-style: initial; text-decoration-color: init
 ial;">&nbsp;</div><div class="course-description-dv" style="box-sizing: bor
 der-box; color: #212529; font-family: Titillium, sans-serif; font-size: 16p
 x; font-style: normal; font-variant-ligatures: normal; font-variant-caps: n
 ormal; font-weight: 300; letter-spacing: normal; orphans: 2; text-align: le
 ft; text-indent: 0px; text-transform: none; widows: 2; word-spacing: 0px; -
 webkit-text-stroke-width: 0px; white-space: normal; background-color: #ffff
 ff; text-decoration-thickness: initial; text-decoration-style: initial; tex
 t-decoration-color: initial;"><p style="box-sizing: border-box; margin: 0.8
 rem 0px 0.2rem;">Babys lieben Fingerspiele, Lieder und Reime: Sie lachen, s
 ie glucksen vor sich hin und bewegen freudig ihre Ärmchen und Beinchen. Die
 se Art der Zuwendung ist dem Bindungsaufbau sehr förderlich. Die Spiele, Li
 eder und Reime sind einfach und ihr könnt sie zu Hause ganz leicht nachspie
 len.&nbsp;</p><p style="box-sizing: border-box; margin: 0.8rem 0px 0.2rem;"
 >Diese eigens von Simone konzipierte Spielstunde enthält Elemente aus der R
 ota-Prophylaxe-Anwendung für Säuglinge. Sie ist bewusst mit wenig äußeren R
 eizen aufgebaut und beinhaltet Wiederholungen der Lieder, Reimen, Finger- u
 nd Körperspiele.&nbsp;<br style="box-sizing: border-box;" />Diese vorgestel
 lten Spiele können ab der Geburt verwendet werden, da sie im Liegen gespiel
 t werden und der Nacken oder die Wirbelsäule nicht belastet werden.&nbsp;</
 p><p style="box-sizing: border-box; margin: 0.8rem 0px 0.2rem;">Ihr erfahrt
  in unserer gemeinsamen Zeit auch noch, wie ihr eure Kleinen spielerisch in
  der physiologischen Senso-motorischen Entwicklung im Alltag unterstützen k
 önnt.&nbsp;</p><p style="box-sizing: border-box; margin: 0.8rem 0px 0.2rem;
 ">Nach dem gemeinsamen Singen bleibt uns noch Zeit für einen Austausch.&nbs
 p;</p><p style="box-sizing: border-box; margin: 0.8rem 0px 0.2rem;">Gruppen
 alter: Säuglinge bis 5 Monate&nbsp;</p><p style="box-sizing: border-box; ma
 rgin: 0.8rem 0px 0.2rem;">Hier bist du richtig, wenn:&nbsp;</p><ul style="b
 ox-sizing: border-box; margin-top: 0px; margin-bottom: 1rem;"><li style="bo
 x-sizing: border-box;">Du eine Eltern-Kind-Gruppe besuchen möchtest&nbsp;</
 li><li style="box-sizing: border-box;">Du Elemente aus der Rota-Prophylaxe-
 Anwendung erfahren möchtest&nbsp;</li><li style="box-sizing: border-box;">D
 u einen Austausch unter anderen Müttern/Papas suchst&nbsp;</li><li style="b
 ox-sizing: border-box;">Du dein Kind in seiner physiologischen Senso-motori
 schen Entwicklung unterstützen möchtest&nbsp;</li></ul><p style="box-sizing
 : border-box; margin: 0.8rem 0px 0.2rem;">Gebühr pro Baby 76€ für 4 Einheit
 en</p><p style="box-sizing: border-box; margin: 0.8rem 0px 0.2rem;">Zwillin
 ge: 136€ insgesamt<br /><br />TERMINE:</p><ol class="toggable-list toggable
 " style="box-sizing: border-box; margin-top: 0px; margin-bottom: 1rem; list
 -style: none; padding-left: 0px; font-size: 0.9rem;"><li style="box-sizing:
  border-box; font-size: 0.9rem; position: relative; margin: 0.4rem 0px 0.4r
 em calc(25px + 0.5rem);">Di. 05.11.2024 12:10–13:00</li><li style="box-sizi
 ng: border-box; font-size: 0.9rem; position: relative; margin: 0.4rem 0px 0
 .4rem calc(25px + 0.5rem);">Di. 12.11.2024 12:10–13:00</li><li style="box-s
 izing: border-box; font-size: 0.9rem; position: relative; margin: 0.4rem 0p
 x 0.4rem calc(25px + 0.5rem);">Di. 19.11.2024 12:10–13:00</li><li style="bo
 x-sizing: border-box; font-size: 0.9rem; position: relative; margin: 0.4rem
  0px 0.4rem calc(25px + 0.5rem);">Di. 26.11.2024 12:10–13:00</li><li></li><
 /ol><p style="box-sizing: border-box; margin: 0.8rem 0px 0.2rem;"><span sty
 le="box-sizing: border-box; color: #212529;">Einstieg in den Kurs ist jeder
 zeit möglich, sofern Platz ist. Es gilt der aliquote Kursbeitrag ab Einstie
 gsdatum!</span></p></div>
CONTACT:tini@tiniskinderzimmer.at , 0699 17 36 01 95
X-EXTRAINFO:[preis='1900'][anmeldung='true']
DTSTAMP:20260423T111355
DTSTART:20241105T111000
DTEND:20241105T120000
SEQUENCE:0
RRULE:FREQ=WEEKLY;UNTIL=20241127T000000Z;INTERVAL=1;BYDAY=TU
TRANSP:OPAQUE
END:VEVENT
END:VCALENDAR