BEGIN:VCALENDAR
VERSION:2.0
PRODID:-//jEvents 2.0 for Joomla//EN
CALSCALE:GREGORIAN
METHOD:PUBLISH
BEGIN:VEVENT
UID:3f41e1ce0b84591da90f0f55aee8e1b1
CATEGORIES:1. Bezirk
CREATED:20241104T103401
SUMMARY:KUNST MIT BABY - Führung durch die Ausstellung SUBSTANZ für Eltern mit Babys von 0 bis 1 Jahr
LOCATION:Künstlerhaus Wien\, Karlsplatz 5\, 1010
DESCRIPTION:Babys und Eltern herzlich willkommen!\nDas Programm KUNST MIT BABY im Künst
 lerhaus ist für die Eltern mit Babys und Kleinkindern von 0 bis 12 Monate g
 eeignet. Die Eltern und Begleitpersonen haben die Möglichkeit mittels einer
  speziellen Führung mehr über die aktuelle Ausstellung SUBSTANZ zu erfahren
 . Wir bieten Teilnehmer*innen an, Kunst in einer entspannten Atmosphäre zu 
 genießen und gehen auf die Bedürfnisse der Babys und Mamas/Papas ein. Die F
 ührung bietet auch eine tolle Möglichkeit für junge Eltern sich auszutausch
 en und andere Eltern und Kinder kennenzulernen.\n \nWichtige Informationen:
 \nAltersgruppe: 0-1 Jahr\nDauer: 90 Minuten\nKinderwägen und Tragen können 
 gerne mitgebracht werden\nBarrierefreier Zugang auf der rechten Seite des K
 ünstlerhauses\nWickel- und Stillmöglichkeiten stehen zur Verfügung\nIm Fall
  einer Verspätung melden Sie sich bitte frühestmöglich bei uns\nFührungsbei
 trag: Kinder € 8,- / mit Kinderaktiv-Card: € 6,-\n \nIm Rahmen des wienXtra
  kinderaktiv-Programmes.\n \nKontakt und Information\n+ 43 1 587 96 63 20\n
 kunstvermittlung@kuenstlerhaus.at (mailto:kunstvermittlung@kuenstlerhaus.at
 )\nTickets unter https://kupfticket.com/events/kunst-mit-baby2024 (https://
 kupfticket.com/events/kunst-mit-baby2024)\n
X-ALT-DESC;FMTTYPE=text/html:<p class="MsoNormal">Babys und Eltern herzlich willkommen!</p><p class="Mso
 Normal">Das Programm KUNST MIT BABY im Künstlerhaus ist für die Eltern mit 
 Babys und Kleinkindern von 0 bis 12 Monate geeignet. Die Eltern und Begleit
 personen haben die Möglichkeit mittels einer speziellen Führung mehr über d
 ie aktuelle Ausstellung SUBSTANZ zu erfahren. Wir bieten Teilnehmer*innen a
 n, Kunst in einer entspannten Atmosphäre zu genießen und gehen auf die Bedü
 rfnisse der Babys und Mamas/Papas ein. Die Führung bietet auch eine tolle M
 öglichkeit für junge Eltern sich auszutauschen und andere Eltern und Kinder
  kennenzulernen.</p><p class="MsoNormal">&nbsp;</p><p class="MsoNormal">Wic
 htige Informationen:</p><p class="MsoNormal">Altersgruppe: 0-1 Jahr</p><p c
 lass="MsoNormal">Dauer: 90 Minuten</p><p class="MsoNormal">Kinderwägen und 
 Tragen können gerne mitgebracht werden</p><p class="MsoNormal">Barrierefrei
 er Zugang auf der rechten Seite des Künstlerhauses</p><p class="MsoNormal">
 Wickel- und Stillmöglichkeiten stehen zur Verfügung</p><p class="MsoNormal"
 >Im Fall einer Verspätung melden Sie sich bitte frühestmöglich bei uns</p><
 p class="MsoNormal">Führungsbeitrag: Kinder € 8,- / mit Kinderaktiv-Card: €
  6,-</p><p class="MsoNormal">&nbsp;</p><p class="MsoNormal">Im Rahmen des w
 ienXtra kinderaktiv-Programmes.</p><p class="MsoNormal">&nbsp;</p><p class=
 "MsoNormal">Kontakt und Information</p><p class="MsoNormal">+ 43 1 587 96 6
 3 20</p><p class="MsoNormal"><a href="mailto:kunstvermittlung@kuenstlerhaus
 .at">kunstvermittlung@kuenstlerhaus.at</a></p><p>Tickets unter&nbsp;<a href
 ="https://kupfticket.com/events/kunst-mit-baby2024">https://kupfticket.com/
 events/kunst-mit-baby2024</a></p>
CONTACT:kunstvermittlung@kuenstlerhaus.at
X-EXTRAINFO:[preis='800'][anmeldung='true']
DTSTAMP:20260423T080720
DTSTART:20241119T100000
DTEND:20241119T113000
SEQUENCE:0
TRANSP:OPAQUE
END:VEVENT
END:VCALENDAR