BEGIN:VCALENDAR
VERSION:2.0
PRODID:-//jEvents 2.0 for Joomla//EN
CALSCALE:GREGORIAN
METHOD:PUBLISH
BEGIN:VEVENT
UID:fff6e4e4f5bb9f5b70a11e0425b21b0c
CATEGORIES:8. Bezirk
CREATED:20241107T075902
SUMMARY:TASTENZAUBER für Babys / KLASSIK COOL! 
LOCATION:Bezirksmuseum Josefstadt\, 8.\, Schmidgasse 18
DESCRIPTION:<p>TASTENZAUBER für Babys</p><p>Auf dem Kuscheldecke oder auf einen Sessel,
  sitzend oder liegend, krabbelnd, herumgehend, klatschend:</p><p>Klassik Co
 ol! Babykonzerte sind kurzweilig, entspannend, anregend, abwechslungsreich.
  Schon die Jüngsten reagieren mit Interesse bis Begeisterung auf die komple
 xen Töne, wiegen sich zum Rhythmus der Musik und lassen sich von der Musikl
 ust der Eltern anstecken. Dauer: ca 40 Minuten</p><p>Karten: 9 Euro pro Per
 son (sowohl Erwachsene als auch Babys)</p><p>Kartenverkauf online : www.gro
 ssundklein.info</p><p>&nbsp;</p>
CONTACT:Kulturverein grossundklein / www.grossunklein.info
X-EXTRAINFO:[preis='900'][anmeldung='true']
DTSTAMP:20260423T100034
DTSTART:20241112T093000
DTEND:20241112T101000
SEQUENCE:0
TRANSP:OPAQUE
END:VEVENT
END:VCALENDAR