BEGIN:VCALENDAR
VERSION:2.0
PRODID:-//jEvents 2.0 for Joomla//EN
CALSCALE:GREGORIAN
METHOD:PUBLISH
BEGIN:VEVENT
UID:9bc9bc6d6d2c268d1c9bd3d9e7c7ce35
CATEGORIES:8. Bezirk
CREATED:20241107T081736
SUMMARY:Heißer Kakao! / Mitmach-Konzert für Kinder ab 1 Jahr / KLASSIK COOL
LOCATION:Bezirksmuseum Josefstadt\, 8.\, Schmidgasse 18
DESCRIPTION:Mit allen Sinnen!\nMusik entdecken für die Jüngsten: Ob Schlafen, Zähneputz
 en, Kochen oder Essen: alles wird erspielt, erspürt, erhört! Ein Küchenorch
 ester gründen, ein weiches Ei kochen, mit Mozart aufwachen oder mit Schuber
 t einschlafen, zuschauen oder mitgestalten – in diesem kleinen interaktiven
  Musiktheater spielen alle mit!\nErzählung, Musikvermittlung, Gesang, Erzäh
 lung: Hristina Lazarova\nAm Klavier: Christo Popov\nKarten: 13 Euro pro Per
 son \nKartenverkauf online: www.grossundklein.info\n
X-ALT-DESC;FMTTYPE=text/html:<p>Mit allen Sinnen!</p><p>Musik entdecken für die Jüngsten: Ob Schlafen, Z
 ähneputzen, Kochen oder Essen: alles wird erspielt, erspürt, erhört! Ein Kü
 chenorchester gründen, ein weiches Ei kochen, mit Mozart aufwachen oder mit
  Schubert einschlafen, zuschauen oder mitgestalten – in diesem kleinen inte
 raktiven Musiktheater spielen alle mit!</p><p>Erzählung, Musikvermittlung, 
 Gesang, Erzählung: Hristina Lazarova</p><p>Am Klavier: Christo Popov</p><p>
 Karten: 13 Euro pro Person&nbsp;</p><p>Kartenverkauf online: www.grossundkl
 ein.info</p>
CONTACT:Kulturverein grossundklein / www.grossunklein.info
X-EXTRAINFO:[preis='1300'][anmeldung='true']
DTSTAMP:20260423T110728
DTSTART:20241117T093000
DTEND:20241117T101500
SEQUENCE:0
TRANSP:OPAQUE
END:VEVENT
END:VCALENDAR