BEGIN:VCALENDAR
VERSION:2.0
PRODID:-//jEvents 2.0 for Joomla//EN
CALSCALE:GREGORIAN
METHOD:PUBLISH
BEGIN:VEVENT
UID:862ad21ccbd4a6c674f36c928bcbd87b
CATEGORIES:19. Bezirk
CREATED:20241125T213725
SUMMARY:Babytreff mit Hebamme Eva
LOCATION:Kleines Glück Hebammenordination Liechtenwerder Platz 4/1 1190 Wien
DESCRIPTION:👶 Babytreff bei Kleines Glück – Ein Vormittag für dich und dein Baby 🤍\n \n
 Anmeldung: Babytreff | anny.bookings (https://anny.co/b/services/babytreff-
 lirztybojzvh4hde?view=list&amp;from=organization&amp;fromName=Kleines%20Gl%
 C3%BCck&amp;step=calendar)Komm vorbei und fühl dich wohl in einer entspannt
 en Atmosphäre, in der du abschalten, dich mit anderen austauschen und Unter
 stützung finden kannst. 💕👶🏼Bei unserem Babytreff kannst du:🌟 Mit anderen El
 tern ins Gespräch kommen: Teile deine Erfahrungen, tausche dich über die Fr
 euden und Herausforderungen des Elternseins aus und knüpfe neue Freundschaf
 ten – für dich und dein Baby.🌟 Fragen an unsere erfahrene Hebamme Eva stell
 en: Egal, ob es um Stillen, Beikost, Entwicklung oder den Alltag mit deinem
  Baby geht – Eva nimmt sich Zeit für deine Anliegen und gibt dir fachkundig
 e Tipps.🌟 Dein Baby wiegen lassen: Nutze die Gelegenheit, das aktuelle Gewi
 cht deines Babys zu überprüfen, und sprich mit der Hebamme über Wachstum un
 d Entwicklung.🌟 Einen gemütlichen Vormittag genießen: Bei einer Tasse Kaffe
 e, Tee oder einem Stück Kuchen kannst du entspannen und den Moment genießen
  – in einer einladenden und entspannten Umgebung.📅 Wann: Dienstag, 28.11., 
 10–12 Uhr📍 Wo: Liechtenwerderplatz 4/1 1190 WienDieser Vormittag ist für di
 ch da – zum Kraft tanken, neue Impulse bekommen und die Zeit mit deinem Bab
 y zu genießen.Melde dich jetzt an und sei dabei! Wir freuen uns darauf, dic
 h und deinen kleinen Schatz bei uns willkommen zu heißen. 💌\n\nAnmeldung: h
 ttps://anny.co/b/book/eva-neubauer-adiear67nf (https://anny.co/b/book/eva-n
 eubauer-adiear67nf)\nBabytreff | anny.bookings (https://anny.co/b/services/
 babytreff-lirztybojzvh4hde?view=list&amp;from=organization&amp;fromName=Kle
 ines%20Gl%C3%BCck&amp;step=calendar)\n
X-ALT-DESC;FMTTYPE=text/html:<p><span style="color: #000000; font-family: -apple-system, BlinkMacSystemF
 ont, 'Segoe UI', Roboto, Helvetica, Arial, sans-serif; font-size: 14px;">👶 
 Babytreff bei Kleines Glück – Ein Vormittag für dich und dein Baby 🤍</span>
 </p><p>&nbsp;</p><p>Anmeldung:&nbsp;<a href="https://anny.co/b/services/bab
 ytreff-lirztybojzvh4hde?view=list&amp;from=organization&amp;fromName=Kleine
 s%20Gl%C3%BCck&amp;step=calendar">Babytreff | anny.bookings</a><br style="c
 olor: #000000; font-family: -apple-system, BlinkMacSystemFont, 'Segoe UI', 
 Roboto, Helvetica, Arial, sans-serif; font-size: 14px;" /><br style="color:
  #000000; font-family: -apple-system, BlinkMacSystemFont, 'Segoe UI', Robot
 o, Helvetica, Arial, sans-serif; font-size: 14px;" /><span style="color: #0
 00000; font-family: -apple-system, BlinkMacSystemFont, 'Segoe UI', Roboto, 
 Helvetica, Arial, sans-serif; font-size: 14px;">Komm vorbei und fühl dich w
 ohl in einer entspannten Atmosphäre, in der du abschalten, dich mit anderen
  austauschen und Unterstützung finden kannst. 💕👶🏼</span><br style="color: #
 000000; font-family: -apple-system, BlinkMacSystemFont, 'Segoe UI', Roboto,
  Helvetica, Arial, sans-serif; font-size: 14px;" /><br style="color: #00000
 0; font-family: -apple-system, BlinkMacSystemFont, 'Segoe UI', Roboto, Helv
 etica, Arial, sans-serif; font-size: 14px;" /><span style="color: #000000; 
 font-family: -apple-system, BlinkMacSystemFont, 'Segoe UI', Roboto, Helveti
 ca, Arial, sans-serif; font-size: 14px;">Bei unserem Babytreff kannst du:</
 span><br style="color: #000000; font-family: -apple-system, BlinkMacSystemF
 ont, 'Segoe UI', Roboto, Helvetica, Arial, sans-serif; font-size: 14px;" />
 <br style="color: #000000; font-family: -apple-system, BlinkMacSystemFont, 
 'Segoe UI', Roboto, Helvetica, Arial, sans-serif; font-size: 14px;" /><span
  style="color: #000000; font-family: -apple-system, BlinkMacSystemFont, 'Se
 goe UI', Roboto, Helvetica, Arial, sans-serif; font-size: 14px;">🌟 Mit ande
 ren Eltern ins Gespräch kommen: Teile deine Erfahrungen, tausche dich über 
 die Freuden und Herausforderungen des Elternseins aus und knüpfe neue Freun
 dschaften – für dich und dein Baby.</span><br style="color: #000000; font-f
 amily: -apple-system, BlinkMacSystemFont, 'Segoe UI', Roboto, Helvetica, Ar
 ial, sans-serif; font-size: 14px;" /><br style="color: #000000; font-family
 : -apple-system, BlinkMacSystemFont, 'Segoe UI', Roboto, Helvetica, Arial, 
 sans-serif; font-size: 14px;" /><span style="color: #000000; font-family: -
 apple-system, BlinkMacSystemFont, 'Segoe UI', Roboto, Helvetica, Arial, san
 s-serif; font-size: 14px;">🌟 Fragen an unsere erfahrene Hebamme Eva stellen
 : Egal, ob es um Stillen, Beikost, Entwicklung oder den Alltag mit deinem B
 aby geht – Eva nimmt sich Zeit für deine Anliegen und gibt dir fachkundige 
 Tipps.</span><br style="color: #000000; font-family: -apple-system, BlinkMa
 cSystemFont, 'Segoe UI', Roboto, Helvetica, Arial, sans-serif; font-size: 1
 4px;" /><br style="color: #000000; font-family: -apple-system, BlinkMacSyst
 emFont, 'Segoe UI', Roboto, Helvetica, Arial, sans-serif; font-size: 14px;"
  /><span style="color: #000000; font-family: -apple-system, BlinkMacSystemF
 ont, 'Segoe UI', Roboto, Helvetica, Arial, sans-serif; font-size: 14px;">🌟 
 Dein Baby wiegen lassen: Nutze die Gelegenheit, das aktuelle Gewicht deines
  Babys zu überprüfen, und sprich mit der Hebamme über Wachstum und Entwickl
 ung.</span><br style="color: #000000; font-family: -apple-system, BlinkMacS
 ystemFont, 'Segoe UI', Roboto, Helvetica, Arial, sans-serif; font-size: 14p
 x;" /><br style="color: #000000; font-family: -apple-system, BlinkMacSystem
 Font, 'Segoe UI', Roboto, Helvetica, Arial, sans-serif; font-size: 14px;" /
 ><span style="color: #000000; font-family: -apple-system, BlinkMacSystemFon
 t, 'Segoe UI', Roboto, Helvetica, Arial, sans-serif; font-size: 14px;">🌟 Ei
 nen gemütlichen Vormittag genießen: Bei einer Tasse Kaffee, Tee oder einem 
 Stück Kuchen kannst du entspannen und den Moment genießen – in einer einlad
 enden und entspannten Umgebung.</span><br style="color: #000000; font-famil
 y: -apple-system, BlinkMacSystemFont, 'Segoe UI', Roboto, Helvetica, Arial,
  sans-serif; font-size: 14px;" /><br style="color: #000000; font-family: -a
 pple-system, BlinkMacSystemFont, 'Segoe UI', Roboto, Helvetica, Arial, sans
 -serif; font-size: 14px;" /><span style="color: #000000; font-family: -appl
 e-system, BlinkMacSystemFont, 'Segoe UI', Roboto, Helvetica, Arial, sans-se
 rif; font-size: 14px;">📅 Wann: Dienstag, 28.11., 10–12 Uhr</span><br style=
 "color: #000000; font-family: -apple-system, BlinkMacSystemFont, 'Segoe UI'
 , Roboto, Helvetica, Arial, sans-serif; font-size: 14px;" /><span style="co
 lor: #000000; font-family: -apple-system, BlinkMacSystemFont, 'Segoe UI', R
 oboto, Helvetica, Arial, sans-serif; font-size: 14px;">📍 Wo: Liechtenwerder
 platz 4/1 1190 Wien</span><br style="color: #000000; font-family: -apple-sy
 stem, BlinkMacSystemFont, 'Segoe UI', Roboto, Helvetica, Arial, sans-serif;
  font-size: 14px;" /><br style="color: #000000; font-family: -apple-system,
  BlinkMacSystemFont, 'Segoe UI', Roboto, Helvetica, Arial, sans-serif; font
 -size: 14px;" /><span style="color: #000000; font-family: -apple-system, Bl
 inkMacSystemFont, 'Segoe UI', Roboto, Helvetica, Arial, sans-serif; font-si
 ze: 14px;">Dieser Vormittag ist für dich da – zum Kraft tanken, neue Impuls
 e bekommen und die Zeit mit deinem Baby zu genießen.</span><br style="color
 : #000000; font-family: -apple-system, BlinkMacSystemFont, 'Segoe UI', Robo
 to, Helvetica, Arial, sans-serif; font-size: 14px;" /><br style="color: #00
 0000; font-family: -apple-system, BlinkMacSystemFont, 'Segoe UI', Roboto, H
 elvetica, Arial, sans-serif; font-size: 14px;" /><span style="color: #00000
 0; font-family: -apple-system, BlinkMacSystemFont, 'Segoe UI', Roboto, Helv
 etica, Arial, sans-serif; font-size: 14px;">Melde dich jetzt an und sei dab
 ei! Wir freuen uns darauf, dich und deinen kleinen Schatz bei uns willkomme
 n zu heißen. 💌<br /><br />Anmeldung:&nbsp;</span><span style="background-co
 lor: inherit; caret-color: auto; font-size: 14px;"><span style="color: #000
 000; font-family: -apple-system, BlinkMacSystemFont, 'Segoe UI', Roboto, He
 lvetica, Arial, sans-serif;"><a href="https://anny.co/b/book/eva-neubauer-a
 diear67nf">https://anny.co/b/book/eva-neubauer-adiear67nf</a></span></span>
 </p><p><a href="https://anny.co/b/services/babytreff-lirztybojzvh4hde?view=
 list&amp;from=organization&amp;fromName=Kleines%20Gl%C3%BCck&amp;step=calen
 dar">Babytreff | anny.bookings</a></p>
CONTACT:hebamme@kleines-glueck.net
X-EXTRAINFO:[preis='1500'][anmeldung='true']
DTSTAMP:20260423T110758
DTSTART:20241128T090000
DTEND:20241128T110000
SEQUENCE:0
TRANSP:OPAQUE
END:VEVENT
END:VCALENDAR