BEGIN:VCALENDAR
VERSION:2.0
PRODID:-//jEvents 2.0 for Joomla//EN
CALSCALE:GREGORIAN
METHOD:PUBLISH
BEGIN:VEVENT
UID:0eca0cf2f9192bda970503cab7854208
CATEGORIES:19. Bezirk
CREATED:20241125T214851
SUMMARY:Babymassage-Kurs (4 Termine)
LOCATION:Kleines Glück Hebammenordination Liechtenwerder Platz 4/1 1190 Wien
DESCRIPTION:🍼✨Babymassage mit Hebamme Rafaela!🤱💆‍♀️💆\nGönn dir und deinem Baby eine ent
 spannte Zeit mit liebevoller Babymassage. In 4 Einheiten lernst du, wie du 
 deinem kleinen Schatz durch sanfte Berührungen Gutes tun kannst - inklusive
  Öl und Kursunterlagen.📅Termine:28.11., 5.12., 12.12., und 19.12. - jeweils
  von 9 bis 10 Uhr📍Liechtenwerder Platz 4/1, 1190 Wien💶Kosten: 110 € pro Per
 son für die vier Termine🧡✨Anmeldung: Babymassage | anny.bookings (https://a
 nny.co/b/services/babymassage-5escexkksbaorscz?view=list&amp;from=organizat
 ion&amp;fromName=Kleines%20Gl%C3%BCck&amp;step=calendar)Alter des Babys:Gru
 ppenkurse: 1 Monat bis KrabbelalterEinzelstunden: keine Altersbeschränkung\
 n
X-ALT-DESC;FMTTYPE=text/html:<p>🍼✨Babymassage mit Hebamme Rafaela!🤱💆‍♀️💆</p><p><br style="color: #000000
 ; font-family: -apple-system, BlinkMacSystemFont, 'Segoe UI', Roboto, Helve
 tica, Arial, sans-serif; font-size: 14px;" /><span style="color: #000000; f
 ont-family: -apple-system, BlinkMacSystemFont, 'Segoe UI', Roboto, Helvetic
 a, Arial, sans-serif; font-size: 14px;">Gönn dir und deinem Baby eine entsp
 annte Zeit mit liebevoller Babymassage. In 4 Einheiten lernst du, wie du de
 inem kleinen Schatz durch sanfte Berührungen Gutes tun kannst - inklusive Ö
 l und Kursunterlagen.</span><br style="color: #000000; font-family: -apple-
 system, BlinkMacSystemFont, 'Segoe UI', Roboto, Helvetica, Arial, sans-seri
 f; font-size: 14px;" /><br style="color: #000000; font-family: -apple-syste
 m, BlinkMacSystemFont, 'Segoe UI', Roboto, Helvetica, Arial, sans-serif; fo
 nt-size: 14px;" /><span style="color: #000000; font-family: -apple-system, 
 BlinkMacSystemFont, 'Segoe UI', Roboto, Helvetica, Arial, sans-serif; font-
 size: 14px;">📅Termine:</span><br style="color: #000000; font-family: -apple
 -system, BlinkMacSystemFont, 'Segoe UI', Roboto, Helvetica, Arial, sans-ser
 if; font-size: 14px;" /><span style="color: #000000; font-family: -apple-sy
 stem, BlinkMacSystemFont, 'Segoe UI', Roboto, Helvetica, Arial, sans-serif;
  font-size: 14px;">28.11., 5.12., 12.12., und 19.12. - jeweils von 9 bis 10
  Uhr</span><br style="color: #000000; font-family: -apple-system, BlinkMacS
 ystemFont, 'Segoe UI', Roboto, Helvetica, Arial, sans-serif; font-size: 14p
 x;" /><br style="color: #000000; font-family: -apple-system, BlinkMacSystem
 Font, 'Segoe UI', Roboto, Helvetica, Arial, sans-serif; font-size: 14px;" /
 ><span style="color: #000000; font-family: -apple-system, BlinkMacSystemFon
 t, 'Segoe UI', Roboto, Helvetica, Arial, sans-serif; font-size: 14px;">📍Lie
 chtenwerder Platz 4/1, 1190 Wien</span><br style="color: #000000; font-fami
 ly: -apple-system, BlinkMacSystemFont, 'Segoe UI', Roboto, Helvetica, Arial
 , sans-serif; font-size: 14px;" /><br style="color: #000000; font-family: -
 apple-system, BlinkMacSystemFont, 'Segoe UI', Roboto, Helvetica, Arial, san
 s-serif; font-size: 14px;" /><span style="color: #000000; font-family: -app
 le-system, BlinkMacSystemFont, 'Segoe UI', Roboto, Helvetica, Arial, sans-s
 erif; font-size: 14px;">💶Kosten: 110 € pro Person für die vier Termine</spa
 n><br style="color: #000000; font-family: -apple-system, BlinkMacSystemFont
 , 'Segoe UI', Roboto, Helvetica, Arial, sans-serif; font-size: 14px;" /><br
  style="color: #000000; font-family: -apple-system, BlinkMacSystemFont, 'Se
 goe UI', Roboto, Helvetica, Arial, sans-serif; font-size: 14px;" /><span st
 yle="color: #000000; font-family: -apple-system, BlinkMacSystemFont, 'Segoe
  UI', Roboto, Helvetica, Arial, sans-serif; font-size: 14px;">🧡✨Anmeldung:&
 nbsp;</span><a href="https://anny.co/b/services/babymassage-5escexkksbaorsc
 z?view=list&amp;from=organization&amp;fromName=Kleines%20Gl%C3%BCck&amp;ste
 p=calendar">Babymassage | anny.bookings</a><br style="color: #000000; font-
 family: -apple-system, BlinkMacSystemFont, 'Segoe UI', Roboto, Helvetica, A
 rial, sans-serif; font-size: 14px;" /><br style="color: #000000; font-famil
 y: -apple-system, BlinkMacSystemFont, 'Segoe UI', Roboto, Helvetica, Arial,
  sans-serif; font-size: 14px;" /><span style="color: #000000; font-family: 
 -apple-system, BlinkMacSystemFont, 'Segoe UI', Roboto, Helvetica, Arial, sa
 ns-serif; font-size: 14px;">Alter des Babys:</span><br style="color: #00000
 0; font-family: -apple-system, BlinkMacSystemFont, 'Segoe UI', Roboto, Helv
 etica, Arial, sans-serif; font-size: 14px;" /><span style="color: #000000; 
 font-family: -apple-system, BlinkMacSystemFont, 'Segoe UI', Roboto, Helveti
 ca, Arial, sans-serif; font-size: 14px;">Gruppenkurse: 1 Monat bis Krabbela
 lter</span><br style="color: #000000; font-family: -apple-system, BlinkMacS
 ystemFont, 'Segoe UI', Roboto, Helvetica, Arial, sans-serif; font-size: 14p
 x;" /><span style="color: #000000; font-family: -apple-system, BlinkMacSyst
 emFont, 'Segoe UI', Roboto, Helvetica, Arial, sans-serif; font-size: 14px;"
 >Einzelstunden: keine Altersbeschränkung</span></p>
CONTACT:hebamme@kleines-glueck.net
X-EXTRAINFO:[preis='11000'][anmeldung='true']
DTSTAMP:20260423T110757
DTSTART:20241128T080000
DTEND:20241128T090000
SEQUENCE:0
TRANSP:OPAQUE
END:VEVENT
END:VCALENDAR