BEGIN:VCALENDAR
VERSION:2.0
PRODID:-//jEvents 2.0 for Joomla//EN
CALSCALE:GREGORIAN
METHOD:PUBLISH
BEGIN:VEVENT
UID:4f3e6e9cc680e0cf720559c998da68cb
CATEGORIES:1. Bezirk
CREATED:20241127T152553
SUMMARY:  DER VERLORENE HANDSCHUH / Mitmach-Konzert für Kinder ab 2 Jahren / KLASSIK COOL!
LOCATION:1.\, Haus der Musik
DESCRIPTION:KLASSIK COOL! Der verlorene Handschuh\nMusikalisches Erzähltheater zum Mitm
 achen für Kinder von 2 bis 6 Jahren\nEin Handschuh fällt in den Schnee – ei
 n kleines Ereignis mit großer Wirkung!\nEin wunderschönes Märchen über Freu
 ndschaft, Zusammenhalt und Teilen. Die Tiercharaktere werden mit liebevolle
 r Erzählung und stimmungsvoller Musik zum Leben erweckt. Ein Märchen zum Zu
 hören, Staunen und zum Mitmachen. Mit Erzählung, Musikvermittlung, Flöte(n)
 , Klavier. Dauer: ca 45 Minuten. Interessierte Kinder können nach dem Konze
 rt die Instrumente auch ausprobieren.\nKarten: 13 Euro pro Person ( Erwachs
 ene und Kinder ab 2 Jahren)\nKartenverkauf direkt über Haus der Musik (http
 s://www.wien-ticket.at/de/ticket/101499/klassik-cool-haus-der-musik-haus-de
 r-musik/calendar?_wtagent=)\nBzw. auch an der Tageskassa im Haus der Musik.
  Karten gibt es meistens nur im Vorverkauf, da die Konzerte am Tag der Vera
 nstaltung bereits ausverkauft sind.\nALLE KLASSIK COOL! Termine für Kinder 
 findet Ihr HIER  https://www.grossundklein.info/kalender/ (https://www.gros
 sundklein.info/kalender/)\nVeranstaltungsort: Haus der Musik, 1., Seilerstä
 tte 30\nKontakt : www.grossundklein.info
X-ALT-DESC;FMTTYPE=text/html:<table border="0" class="contentpaneopen" style="width: 625px; clear: both;
  color: #000000; font-family: 'Roboto Condensed', sans-serif; font-size: 15
 px;"><tbody><tr style="border: none; line-height: 1.5em;" align="left" vali
 gn="top"><td colspan="4" style="border: none; line-height: 1.5em;"><div cla
 ss="eventContent" style="border: none; line-height: 1.5em; padding: 7px 0px
 ;"><p style="border: 0px; line-height: 1.5em; margin: 0px 0px 1.625em; outl
 ine: 0px; padding: 0px; vertical-align: baseline; color: #373737;"><strong 
 style="border: 0px; font-family: inherit; font-style: inherit; margin: 0px;
  outline: 0px; padding: 0px; vertical-align: baseline;">KLASSIK COOL! Der v
 erlorene Handschuh</strong><br />Musikalisches Erzähltheater zum Mitmachen 
 für Kinder von 2 bis 6 Jahren</p><p style="border: 0px; line-height: 1.5em;
  margin: 0px 0px 1.625em; outline: 0px; padding: 0px; vertical-align: basel
 ine; color: #373737;">Ein Handschuh fällt in den Schnee – ein kleines Ereig
 nis mit großer Wirkung!<br />Ein wunderschönes Märchen über Freundschaft, Z
 usammenhalt und Teilen. Die Tiercharaktere werden mit liebevoller Erzählung
  und stimmungsvoller Musik zum Leben erweckt. Ein Märchen zum Zuhören, Stau
 nen und zum Mitmachen. Mit Erzählung, Musikvermittlung, Flöte(n), Klavier. 
 Dauer: ca 45 Minuten. Interessierte Kinder können nach dem Konzert die Inst
 rumente auch ausprobieren.</p><p style="border: 0px; line-height: 1.5em; ma
 rgin: 0px 0px 1.625em; outline: 0px; padding: 0px; vertical-align: baseline
 ; color: #373737;">Karten: 13 Euro pro Person ( Erwachsene und Kinder ab 2 
 Jahren)</p><p style="border: 0px; line-height: 1.5em; margin: 0px 0px 1.625
 em; outline: 0px; padding: 0px; vertical-align: baseline; color: #373737;">
 <a href="https://www.wien-ticket.at/de/ticket/101499/klassik-cool-haus-der-
 musik-haus-der-musik/calendar?_wtagent=" style="color: #8a1878; text-decora
 tion-line: none;">Kartenverkauf direkt über Haus der Musik</a></p><p style=
 "border: none; line-height: 1.5em; margin: 0px;">Bzw. auch an der Tageskass
 a im Haus der Musik. Karten gibt es meistens nur im Vorverkauf, da die Konz
 erte am Tag der Veranstaltung bereits ausverkauft sind.</p><p style="border
 : none; line-height: 1.5em; margin: 0px;">ALLE KLASSIK COOL! Termine für Ki
 nder findet Ihr HIER&nbsp;<a href="https://www.grossundklein.info/kalender/
 " style="color: #8a1878; text-decoration-line: none;">&nbsp;https://www.gro
 ssundklein.info/kalender/</a></p></div></td></tr><tr style="border: none; l
 ine-height: 1.5em;"><td colspan="4" class="ev_detail" style="border: none; 
 line-height: 1.5em;" align="left" valign="top"><div class="eventLocation" s
 tyle="border: none; line-height: 1.5em; margin-top: 7px; padding: 0px;"><sp
 an style="color: #8a1878; font-weight: bold;">Veranstaltungsort:&nbsp;</spa
 n>Haus der Musik, 1., Seilerstätte 30<br /><span style="color: #8a1878; fon
 t-weight: bold;">Kontakt :&nbsp;</span>www.grossundklein.info</div></td></t
 r></tbody></table>
CONTACT:Kulturverein grossundklein / www.grossunklein.info
X-EXTRAINFO:[preis='1300'][anmeldung='true']
DTSTAMP:20260423T080722
DTSTART:20241201T100000
DTEND:20241201T104500
SEQUENCE:0
TRANSP:OPAQUE
END:VEVENT
END:VCALENDAR