BEGIN:VCALENDAR
VERSION:2.0
PRODID:-//jEvents 2.0 for Joomla//EN
CALSCALE:GREGORIAN
METHOD:PUBLISH
BEGIN:VEVENT
UID:bfc256bdd91e69d1da18a9afbd84a198
CATEGORIES:2. Bezirk
CREATED:20241213T111946
SUMMARY:Gruppe "Schwangerschaft und Elternschaft - Und nun?"
LOCATION:Eltern-Kind-Zentrum Kind&amp;Kegel\, Praterstraße 14/8\, 1020 Wien
DESCRIPTION:<p><b>Schwangerschaft und Elternschaft. Und nun?</b></p><p>&nbsp;</p><p cla
 ss="MsoNormal">Das Kind ist da und wie geht es dir damit? Wie gestaltet sic
 h dein Alltag?</p><p>&nbsp;</p><p class="MsoNormal">Hast du dich auf die El
 ternschaft in der Schwangerschaft gut vorbereitet und trotzdem fühlst du di
 ch überrumpelt und voller Fragezeichen im Kopf?</p><p>&nbsp;</p><p class="M
 soNormal">Eventuell wird dir von deinem Umfeld und der Gesellschaft eine Id
 ealvorstellung vermittelt, die auch Druck ausüben kann. Aber wie kannst du 
 deine eigene Elternrolle so gestalten, dass sie sich für dich auch stimmig 
 anfühlt?</p><p>&nbsp;</p><p class="MsoNormal">Diesen Fragen begeben wir uns
  gemeinsam im Gruppensetting auf die Spur.</p><p>&nbsp;</p><p class="MsoNor
 mal">Gemeinsam in der Gruppe arbeiten wir bindungsorientiert, traumasensibe
 l und körperorientiert.</p><p>&nbsp;</p><p class="MsoNormal">Ich lade dich 
 und dein Baby herzlich dazu ein.</p><p>&nbsp;</p><p class="MsoNormal">Mag.a
  Andrea Menghini</p><p>&nbsp;</p><p class="MsoNormal">Psychotherapeutin in 
 Ausbildung unter Supervision in Existenzanalyse,mehrere Fortbildungen zum T
 hema Schwangerschaft, Geburt und Elternschaft.</p><p>&nbsp;</p><p class="Ms
 oNormal">Mittwoch 9:30-11:00</p><p>&nbsp;</p><p class="MsoNormal">Teilnehme
 rInnenzahl: max. 6</p><p>&nbsp;</p><p class="MsoNormal">Fixe Gruppe</p><p>&
 nbsp;</p><p class="MsoNormal">Termine: 13.3, 27.3, 3.4, 10.4, 24.4, 15.5, 2
 2.5, 5.6, 12.6, 26.6</p><p>&nbsp;</p><p class="MsoNormal">Kosten: € 185.- /
  10 Termine</p><p>&nbsp;</p>
CONTACT:info@kind-und-kegel.at, 01 503 71 88, www.kind-und-kegel.at
X-EXTRAINFO:[preis='18500'][anmeldung='true']
DTSTAMP:20260425T233749
DTSTART:20250605T073000
DTEND:20250605T090000
SEQUENCE:0
TRANSP:OPAQUE
END:VEVENT
END:VCALENDAR