BEGIN:VCALENDAR
VERSION:2.0
PRODID:-//jEvents 2.0 for Joomla//EN
CALSCALE:GREGORIAN
METHOD:PUBLISH
BEGIN:VEVENT
UID:ffb72f9c0b6f4198158d85fe5fa3e9be
CATEGORIES:2. Bezirk
CREATED:20241213T113508
SUMMARY:Gehirnentwicklung in den ersten 3 Lebensjahren - Vortrag
LOCATION:Eltern-Kind-Zentrum Kind&amp;Kegel\, Praterstraße 14/8\, 1020 Wien
DESCRIPTION:Gehirnentwicklung in den ersten 3 Lebensjahren [Vortrag] \nDas Gehirn entwi
 ckelt sich bis zum 3. Geburtstag regelrecht explosionsartig. Gemeinsam scha
 uen wir uns an, wie sich das Gehirn entwickelt, warum Schlaf fundamental is
 t für die gesunde Gehirnentwicklung, und wie eine bedürfnis- und bindungsor
 ientierte Schlafbegleitung diese Entwicklung unterstützt.\nLeitung: Eva Dit
 tinger, PhD\n Neurowissenschafterin, Mutter und zertifizierte Baby- und Kin
 derschlafbegleiterin \n Termine:\n Montag, 17.02.25, 16:00 - 17:30 Uhr\nFre
 itag, 13.06.25, 09:30-11 Uhr\n\n Kosten: € 28,-\n Anmeldung erforderlich!\n
  \n
X-ALT-DESC;FMTTYPE=text/html:<h2 class="unterstrich">Gehirnentwicklung in den ersten 3 Lebensjahren [Vor
 trag]</h2><p>&nbsp;</p><p>Das Gehirn entwickelt sich bis zum 3. Geburtstag 
 regelrecht explosionsartig. Gemeinsam schauen wir uns an, wie sich das Gehi
 rn entwickelt, warum Schlaf fundamental ist für die gesunde Gehirnentwicklu
 ng, und wie eine bedürfnis- und bindungsorientierte Schlafbegleitung diese 
 Entwicklung unterstützt.</p><p><span class="fett">Leitung:</span> Eva Ditti
 nger, PhD<br /> Neurowissenschafterin, Mutter und zertifizierte Baby- und K
 inderschlafbegleiterin <br /> <span class="fett">Termine</span>:<br /> Mont
 ag, 17.02.25, 16:<span class="kleinhoch">00</span> - 17:<span class="kleinh
 och">30</span> Uhr</p><p>Freitag, 13.06.25, 09:30-11 Uhr<br /><br /> <span 
 class="fett">Kosten</span>: € 28,-<br /> Anmeldung erforderlich!</p><p>&nbs
 p;</p>
CONTACT:info@kind-und-kegel.at, 01 503 71 88, www.kind-und-kegel.at
X-EXTRAINFO:[preis='2800'][anmeldung='true']
DTSTAMP:20260425T233350
DTSTART:20250613T073000
DTEND:20250613T090000
SEQUENCE:0
TRANSP:OPAQUE
END:VEVENT
END:VCALENDAR