BEGIN:VCALENDAR
VERSION:2.0
PRODID:-//jEvents 2.0 for Joomla//EN
CALSCALE:GREGORIAN
METHOD:PUBLISH
BEGIN:VEVENT
UID:3939bc0ae9bdfa587ce890da873c80ac
CATEGORIES:23. Bezirk
CREATED:20250130T114814
SUMMARY:Theaterklub für Volksschulkids
LOCATION:VHS Liesing\, Liesinger Platz 3
DESCRIPTION:Stehst du gerne im Rampenlicht oder bist du eigentlich schüchtern, interess
 ierst dich aber für das Theater? Egal, ob du schon Erfahrung gesammelt hast
  oder ganz frisch Theaterluft schnuppern möchtest, bei uns bist du auf jede
 n Fall richtig. Im Theaterklub gehen wir gemeinsam auf Entdeckungsreise. Wi
 r erforschen spielerisch die Welt des Theaters, schlüpfen in verschiedene R
 ollen und erkunden die Grundlagen der Schauspieltechnik. \nNeugierig geword
 en? Dann nichts wie raus aus dem Zuschauerraum und rein ins Abenteuer Theat
 er. \nWir freuen uns auf dich!\n \n \n \n
X-ALT-DESC;FMTTYPE=text/html:<p>Stehst du gerne im Rampenlicht oder bist du eigentlich schüchtern, inter
 essierst dich aber für das Theater? Egal, ob du schon Erfahrung gesammelt h
 ast oder ganz frisch Theaterluft schnuppern möchtest, bei uns bist du auf j
 eden Fall richtig. Im Theaterklub gehen wir gemeinsam auf Entdeckungsreise.
  Wir erforschen spielerisch die Welt des Theaters, schlüpfen in verschieden
 e Rollen und erkunden die Grundlagen der Schauspieltechnik.&nbsp;</p><p>Neu
 gierig geworden? Dann nichts wie raus aus dem Zuschauerraum und rein ins Ab
 enteuer Theater.&nbsp;</p><p>Wir freuen uns auf dich!</p><p>&nbsp;</p><p>&n
 bsp;</p><p>&nbsp;</p>
CONTACT:liesing@vhs.at, +43-1-89174-123000
X-EXTRAINFO:[preis='3700'][anmeldung='true']
DTSTAMP:20260425T233512
DTSTART:20250613T130000
DTEND:20250620T153000
SEQUENCE:0
TRANSP:OPAQUE
END:VEVENT
END:VCALENDAR