BEGIN:VCALENDAR
VERSION:2.0
PRODID:-//jEvents 2.0 for Joomla//EN
CALSCALE:GREGORIAN
METHOD:PUBLISH
BEGIN:VEVENT
UID:e514d4036f43749234bf1b89320715c4
CATEGORIES:23. Bezirk
CREATED:20250130T115207
SUMMARY:Zaubern für Kinder (ab 7 Jahren)
LOCATION:VHS Liesing\, Liesinger Platz 3
DESCRIPTION:<p>In diesem Workshop hast Du die Möglichkeit, gemeinsam mit einem Zauberpr
 ofi einige Geheimnisse der Magier*innen zu erfahren. Diese werden dann für 
 Tricks verwendet, mit denen du Andere zum Staunen bringen wirst! Bei Intere
 sse der Gruppe kann ein mehrteiliger Fortsetzungskurs folgen.</p>
CONTACT:liesing@vhs.at, +43-1-89174-123000
X-EXTRAINFO:[preis='1500'][anmeldung='true']
DTSTAMP:20260425T215242
DTSTART:20250523T140000
DTEND:20250523T160000
SEQUENCE:0
TRANSP:OPAQUE
END:VEVENT
END:VCALENDAR