BEGIN:VCALENDAR
VERSION:2.0
PRODID:-//jEvents 2.0 for Joomla//EN
CALSCALE:GREGORIAN
METHOD:PUBLISH
BEGIN:VEVENT
UID:8dfeac07f742008c8178688f82ed4675
CATEGORIES:23. Bezirk
CREATED:20250130T115402
SUMMARY:Smoothies und Eis selbstgemacht - einfach cool! Koch-Workshop für Kinder (6-10 Jahre)
LOCATION:VHS Liesing\, Liesinger Platz 3
DESCRIPTION:Aus sommerlichen Früchten und anderen interessanten Zutaten zaubern wir erf
 rischende Smoothies. \nAußerdem wird geraten, gekostet, geschnuppert ... \n
 Kurzum ein Erlebnis für die Sinne! \n \nMaterialkosten: ca. € 5,- pro Perso
 n\nBitte eine Schürze mitnehmen!\n \n
X-ALT-DESC;FMTTYPE=text/html:<p>Aus sommerlichen Früchten und anderen interessanten Zutaten zaubern wir 
 erfrischende Smoothies.&nbsp;</p><p>Außerdem wird geraten, gekostet, geschn
 uppert ...&nbsp;</p><p>Kurzum ein Erlebnis für die Sinne!&nbsp;</p><p>&nbsp
 ;</p><p>Materialkosten: ca. € 5,- pro Person</p><p>Bitte eine Schürze mitne
 hmen!</p><p>&nbsp;</p>
CONTACT:liesing@vhs.at, +43-1-89174-123000
X-EXTRAINFO:[preis='2100'][anmeldung='true']
DTSTAMP:20260425T233406
DTSTART:20250708T073000
DTEND:20250708T093000
SEQUENCE:0
TRANSP:OPAQUE
END:VEVENT
END:VCALENDAR